BEGIN:VCALENDAR
VERSION:2.0
PRODID:-//https://hcc.nl///NONSGML kigkonsult.se iCalcreator 2.10.15//
METHOD:PUBLISH
BEGIN:VEVENT
UID:20260422T054234UTC-4857P8NrKJ@https://hcc.nl/
DTSTAMP:20260422T054234Z
DESCRIPTION:Digitale hulp bij computer\, tablet en smartphone problemen htt
 ps://hcc.nl/component/rseventspro/evenement/10069-inloop-digitale-hulp?Ite
 mid=101
DTSTART:20260507T123000Z
DTEND:20260507T150000Z
LOCATION:De Schans (Troelstradreef 160\, 5237 DE 's-Hertogenbosch)
SUMMARY:Inloop Digitale hulp
URL:https://hcc.nl/component/rseventspro/evenement/10069-inloop-digitale-hu
 lp?Itemid=101
END:VEVENT
BEGIN:VEVENT
UID:20260422T054234UTC-4858HsDwUn@https://hcc.nl/
DTSTAMP:20260422T054234Z
DESCRIPTION:Welkom bij deze introductie in de fascinerende wereld van Artif
 iciële Intelligentie (Ai)!Misschien klinkt Ai ingewikkeld of als iets uit 
 sciencefictionfilms\, maar niets is minder waar. Aiis al een integraal ond
 erdeel van ons dagelijks leven en biedt talloze mogelijkheden om taken tev
 ereenvoudigen\, tijd te besparen en zelfs onze creativiteit te stimuleren.
 Deze syllabus dient als een naslagwerk bij de presentatie 'Ai voor Jou & M
 ij: Slimmer\, Sneller\,Simpeler!' en biedt een diepere duik in de onderwer
 pen die we bespreken\, inclusief praktischevoorbeelden en tips om zelf aan
  de slag te gaan.\nNB. Geïnspireerd door het artikel in PC-Active\, is bij
  de samenstelling van de syllabus en depresentatie gebruikgemaakt van plaa
 tjes en tekstsuggesties gegenereerd door Copilot enGemini.\nPresentator: H
 enk Geesink https://hcc.nl/component/rseventspro/evenement/10563-ai-voor-j
 ou-mij---een-praktische-gids?Itemid=101
DTSTART:20260507T080000Z
DTEND:20260507T100000Z
LOCATION:Kruiskerk (Mesdagplein 4\, 3443 CD Woerden)
SUMMARY:Ai voor Jou & Mij – Een Praktische Gids
URL:https://hcc.nl/component/rseventspro/evenement/10563-ai-voor-jou-mij---
 een-praktische-gids?Itemid=101
END:VEVENT
BEGIN:VEVENT
UID:20260422T054234UTC-4859skrAsU@https://hcc.nl/
DTSTAMP:20260422T054234Z
DESCRIPTION:Jos Holtkuile\, adviseur van HCC!genealogie\, is aanwezig en he
 lpt u bij uw stamboomonderzoek. https://hcc.nl/component/rseventspro/evene
 ment/10580-bijeenkomst?Itemid=101
DTSTART:20260507T183000Z
DTEND:20260507T210000Z
LOCATION:NewTechPark (Vlijtseweg 148\, 7317 AK Apeldoorn)
SUMMARY:Bijeenkomst 
URL:https://hcc.nl/component/rseventspro/evenement/10580-bijeenkomst?Itemid
 =101
END:VEVENT
BEGIN:VEVENT
UID:20260422T054234UTC-4859NPMJ4M@https://hcc.nl/
DTSTAMP:20260422T054234Z
DESCRIPTION:Jos Holtkuile\, adviseur van HCC!genealogie\, is aanwezig en he
 lpt u bij uw stamboomonderzoek.\nVoor meer info klik hier https://hcc.nl/c
 omponent/rseventspro/evenement/10601-bijeenkomst?Itemid=101
DTSTART:20260507T173000Z
DTEND:20260507T200000Z
LOCATION:NewTechPark (Vlijtseweg 148\, 7317 AK Apeldoorn)
SUMMARY:Bijeenkomst 
URL:https://hcc.nl/component/rseventspro/evenement/10601-bijeenkomst?Itemid
 =101
END:VEVENT
BEGIN:VEVENT
UID:20260422T054234UTC-4860bWLV2E@https://hcc.nl/
DTSTAMP:20260422T054234Z
DESCRIPTION:Welkom bij deze introductie in de fascinerende wereld van Artif
 iciële Intelligentie (Ai)!Misschien klinkt Ai ingewikkeld of als iets uit 
 sciencefictionfilms\, maar niets is minder waar.Ai is al een integraal ond
 erdeel van ons dagelijks leven en biedt talloze mogelijkheden om taken te 
 vereenvoudigen\, tijd te besparen en zelfs onze creativiteit te stimuleren
 .Hoor meer van onze presentator Hans Niessen.\nNB svp van te voren aanmeld
 en via deze link https://hcc.nl/component/rseventspro/evenement/10677-ai-v
 oor-jou-mij-slimmer-sneller-simpeler?Itemid=101
DTSTART:20260507T113000Z
DTEND:20260507T130000Z
LOCATION:Online ()
SUMMARY:AI voor jou & mij: slimmer\, sneller\, simpeler
URL:https://hcc.nl/component/rseventspro/evenement/10677-ai-voor-jou-mij-sl
 immer-sneller-simpeler?Itemid=101
END:VEVENT
END:VCALENDAR
