BEGIN:VCALENDAR
VERSION:2.0
PRODID:-//https://hcc.nl///NONSGML kigkonsult.se iCalcreator 2.10.15//
METHOD:PUBLISH
BEGIN:VEVENT
UID:20260424T212606UTC-2353NThozm@https://hcc.nl/
DTSTAMP:20260424T212606Z
DESCRIPTION:Jaarvergadering en inloop\nOp deze avond houden we in Nieuwegei
 n de jaarvergadering met HCC!apple. Voor na de jaarvergadering zijn we dru
 k bezig met de voorbereidingen voor een bijzondere activiteit waardoor je 
 langer veilig gebruik kunt maken van verouderde Macs waarvoor Apple geen v
 eiligheidsupdates meer uitbrengt. \nVergaderstukken waaronder verslag en a
 genda... https://hcc.nl/component/rseventspro/evenement/9979-jaarvergaderi
 ng?Itemid=101
DTSTART:20260413T173000Z
DTEND:20260413T200000Z
LOCATION:Dorpshuis Fort Vreeswijk (Fort Vreeswijk 1\, 3433 ZZ Nieuwegein)
SUMMARY:Jaarvergadering 
URL:https://hcc.nl/component/rseventspro/evenement/9979-jaarvergadering?Ite
 mid=101
END:VEVENT
BEGIN:VEVENT
UID:20260424T212606UTC-2354UnVKuS@https://hcc.nl/
DTSTAMP:20260424T212606Z
DESCRIPTION:Let op afwijkende datum i.v.m. Pasen\nHan Bleyenberg\, adviseur
  van HCC!genealogie\, is aanwezig en hept u bij uw stamboomonderzoek.\nVoo
 r meer info klik hier https://hcc.nl/component/rseventspro/evenement/10030
 -bijeenkomst?Itemid=101
DTSTART:20260413T183000Z
DTEND:20260413T210000Z
LOCATION:De Burgerij Campus de Ruyter  (Van Hogendorpweg 58\, 4384 HA Vliss
 ingen)
SUMMARY:Bijeenkomst
URL:https://hcc.nl/component/rseventspro/evenement/10030-bijeenkomst?Itemid
 =101
END:VEVENT
BEGIN:VEVENT
UID:20260424T212606UTC-2355lpcdhr@https://hcc.nl/
DTSTAMP:20260424T212606Z
DESCRIPTION:Let op afwijkende datum i.v.m. Pasen\nHan Bleyenberg\, adviseur
  van HCC!genealogie\, is aanwezig en hept u bij uw stamboomonderzoek.\nVoo
 r meer info klik hier https://hcc.nl/component/rseventspro/evenement/10031
 -bijeenkomst?Itemid=101
DTSTART:20260413T183000Z
DTEND:20260413T210000Z
LOCATION:De Burgerij Campus de Ruyter  (Van Hogendorpweg 58\, 4384 HA Vliss
 ingen)
SUMMARY:Bijeenkomst 
URL:https://hcc.nl/component/rseventspro/evenement/10031-bijeenkomst?Itemid
 =101
END:VEVENT
BEGIN:VEVENT
UID:20260424T212606UTC-2356a59CD2@https://hcc.nl/
DTSTAMP:20260424T212606Z
DESCRIPTION:Onze inloop is bedoeld voor iedereen die praktische hulp en ond
 ersteuning nodig heeft bij het gebruik van digitale apparatuur\, zoals des
 ktop\, laptop\, tablet en smartphone.\nTe denken valt aan:\n- opschonen va
 n uw computer- updates downloaden- apps installeren- accounts aanmaken op 
 uw apparaten (breng dan wel uw gegevens mee)- e-mail problemen- instelling
 en aanpassen\nOnze deskundigen zitten klaar om u met raad en daad terzijde
  te staan. https://hcc.nl/component/rseventspro/evenement/10508-inloop-dig
 itale-hulp?Itemid=101
DTSTART:20260413T173000Z
DTEND:20260413T200000Z
LOCATION:Huis van de Wijk Oostgaarde (De Linie 5\, 2905 AX Capelle aan den 
 IJssel)
SUMMARY:Inloop digitale hulp
URL:https://hcc.nl/component/rseventspro/evenement/10508-inloop-digitale-hu
 lp?Itemid=101
END:VEVENT
BEGIN:VEVENT
UID:20260424T212606UTC-2357VfnUWb@https://hcc.nl/
DTSTAMP:20260424T212606Z
DESCRIPTION:Een NAS (Network Attached Storage) is een netwerkschijf waarop 
 je bestanden centraal opslaat. Je sluit ’m aan op je thuis- of kantoornetw
 erk\, zodat je vanaf meerdere apparaten (pc\, laptop\, smartphone\, tablet
 ) bij je foto’s\, documenten en back-ups kunt.\nVeel NAS-systemen bieden e
 xtra’s zoals automatische back-ups\, bestanden delen met anderen en soms z
 elfs je eigen privé-cloud\, zonder afhankelijk te zijn van een externe die
 nst.\nWat heb je nodig om je eigen NAS te bouwen?\n- een (bejaarde) pc- 2 
 schijven (HDD 0f SSD)- een bootable USB-stick met de Nas-software\nEen pri
 ma oplossing voor gedeelde data\, backups\, muziek\, films etc.\nPresentat
 or is Ger Stok. https://hcc.nl/component/rseventspro/evenement/10552-works
 hop-bouw-je-eigen-nas?Itemid=101
DTSTART:20260413T073000Z
DTEND:20260413T093000Z
LOCATION:HCC Leiderdorp (Van der Marckstraat 19\, 2352 RA Leiderdorp)
SUMMARY:Workshop: Bouw je eigen NAS
URL:https://hcc.nl/component/rseventspro/evenement/10552-workshop-bouw-je-e
 igen-nas?Itemid=101
END:VEVENT
BEGIN:VEVENT
UID:20260424T212606UTC-23591AkA4s@https://hcc.nl/
DTSTAMP:20260424T212606Z
DESCRIPTION:Om 19.30 uur vindt de ALV plaats. De stukken vindt u op de webs
 ite (eerst inloggen) (https://zo-brabant.hcc.nl/downloads/hcc-leden/2026/a
 lgemene-ledenvergadering-2026)\nDaarna volgt een presentatie: Introductie 
 in de fascinerende wereld van Artificiële Intelligentie (AI)!Presentator R
 ob van Geuns\nMisschien klinkt AI ingewikkeld of als iets uit scienceficti
 onfilms\, maar niets is minder waar. AI is al een integraal onderdeel van 
 ons dagelijks leven en biedt talloze mogelijkheden om taken te vereenvoudi
 gen\, tijd te besparen en zelfs onze creativiteit te stimuleren.\nSimpel g
 ezegd is Artificiële Intelligentie (AI) de simulatie van menselijke intell
 igentie in machines die zijn geprogrammeerd om te denken\, te leren en pro
 blemen op te lossen. Dit betekent niet dat computers emoties hebben of bew
 ustzijn\, maar dat ze taken kunnen uitvoeren die normaal gesproken menseli
 jke intelligentie vereisen.\nIn deze lezing proberen we aan te geven hoe A
 I voor iedereen te gebruiken is\, compleet met voorbeelden. https://hcc.nl
 /component/rseventspro/evenement/10571-alv-met-presentatie?Itemid=101
DTSTART:20260413T173000Z
DTEND:20260413T200000Z
LOCATION:Kastelenplein - 't Slot (Kastelenplein 167\, 5653 LX Eindhoven)
SUMMARY:ALV met presentatie
URL:https://hcc.nl/component/rseventspro/evenement/10571-alv-met-presentati
 e?Itemid=101
END:VEVENT
BEGIN:VEVENT
UID:20260424T212606UTC-2360K5J15o@https://hcc.nl/
DTSTAMP:20260424T212606Z
DESCRIPTION:Uiteenlopende presentaties de computer betreffende.\nGratis toe
 gankelijk\nDeze presentaties zijn over het algemeen goed te begrijpen.\nIe
 dereen welkom https://hcc.nl/component/rseventspro/evenement/10615-present
 aties-op-computergebied?Itemid=101
DTSTART:20260413T180000Z
DTEND:20260413T200000Z
LOCATION:Wijkcentrum 't Slot (Kastelenplein 167\, 5653 LX Eindhoven)
SUMMARY:Presentaties op computergebied
URL:https://hcc.nl/component/rseventspro/evenement/10615-presentaties-op-co
 mputergebied?Itemid=101
END:VEVENT
BEGIN:VEVENT
UID:20260424T212606UTC-2361l4p3n9@https://hcc.nl/
DTSTAMP:20260424T212606Z
DESCRIPTION:We houden weer een online Hardware sessie. Aanmelden is niet no
 dig. https://hcc.nl/component/rseventspro/evenement/10620-hardware-sessie?
 Itemid=101
DTSTART:20260413T173000Z
DTEND:20260413T200000Z
LOCATION:Online ()
SUMMARY:Hardware sessie
URL:https://hcc.nl/component/rseventspro/evenement/10620-hardware-sessie?It
 emid=101
END:VEVENT
BEGIN:VEVENT
UID:20260424T212606UTC-2361eiPUVs@https://hcc.nl/
DTSTAMP:20260424T212606Z
DESCRIPTION:We houden weer een online Visual Basic sessie. Aanmelden is nie
 t nodig. https://hcc.nl/component/rseventspro/evenement/10621-visual-basic
 -sessie?Itemid=101
DTSTART:20260413T180000Z
DTEND:20260413T200000Z
LOCATION:Online ()
SUMMARY:Visual Basic sessie
URL:https://hcc.nl/component/rseventspro/evenement/10621-visual-basic-sessi
 e?Itemid=101
END:VEVENT
BEGIN:VEVENT
UID:20260424T212606UTC-2362H4o5d5@https://hcc.nl/
DTSTAMP:20260424T212606Z
DESCRIPTION:Inloop https://hcc.nl/component/rseventspro/evenement/10625-inl
 oop?Itemid=101
DTSTART:20260413T173000Z
DTEND:20260413T200000Z
LOCATION:Dorpshuis Fort Vreeswijk (Fort Vreeswijk 1\, 3433 ZZ Nieuwegein)
SUMMARY:Inloop
URL:https://hcc.nl/component/rseventspro/evenement/10625-inloop?Itemid=101
END:VEVENT
BEGIN:VEVENT
UID:20260424T212606UTC-2363GL6GOk@https://hcc.nl/
DTSTAMP:20260424T212606Z
DESCRIPTION:Algemene Leden Vergadering HCC!apple https://hcc.nl/component/r
 seventspro/evenement/10626-algemene-leden-vergadering?Itemid=101
DTSTART:20260413T173000Z
DTEND:20260413T200000Z
LOCATION:Dorpshuis Fort Vreeswijk (Fort Vreeswijk 1\, 3433 ZZ Nieuwegein)
SUMMARY:Algemene Leden Vergadering 
URL:https://hcc.nl/component/rseventspro/evenement/10626-algemene-leden-ver
 gadering?Itemid=101
END:VEVENT
BEGIN:VEVENT
UID:20260424T212606UTC-23631XuFi7@https://hcc.nl/
DTSTAMP:20260424T212606Z
DESCRIPTION:Vertrekveld Bandar Abbas Int (OIKB) naar Qeshm South (OI16)  en
  vervolgens naar Dayrestan (OIKQ) \, KHASAB AB (OOKB)\, AL SAQR AB Field (
 OMRS)  en eindigen op Dubai Int (OMDB). https://hcc.nl/component/rseventsp
 ro/evenement/10658-vliegavond-flightsim?Itemid=101
DTSTART:20260413T170000Z
DTEND:20260413T183000Z
LOCATION:Online ()
SUMMARY:Vliegavond Flightsim
URL:https://hcc.nl/component/rseventspro/evenement/10658-vliegavond-flights
 im?Itemid=101
END:VEVENT
BEGIN:VEVENT
UID:20260424T212606UTC-2364MnxPco@https://hcc.nl/
DTSTAMP:20260424T212606Z
DESCRIPTION:Bijeenkomst hcc!3D werkgroep https://hcc.nl/component/rseventsp
 ro/evenement/10696-bijeenkomst-werkgroep?Itemid=101
DTSTART:20260413T173000Z
DTEND:20260413T200000Z
LOCATION:De Burgerij Campus de Ruyter  (Van Hogendorpweg 58\, 4384 HA Vliss
 ingen)
SUMMARY:Bijeenkomst werkgroep
URL:https://hcc.nl/component/rseventspro/evenement/10696-bijeenkomst-werkgr
 oep?Itemid=101
END:VEVENT
END:VCALENDAR
