BEGIN:VCALENDAR
VERSION:2.0
PRODID:-//https://hcc.nl///NONSGML kigkonsult.se iCalcreator 2.10.15//
METHOD:PUBLISH
BEGIN:VEVENT
UID:20260421T221539UTC-4088Jpc9UK@https://hcc.nl/
DTSTAMP:20260421T221539Z
DESCRIPTION:Op dinsdagavond 10 februari is er weer een Apple bijeenkomst bi
 j HCC!utrecht in Nieuwegein. De vrijwilligers van HCC!apple gaan dan kort 
 in op Apple’s nieuwste versie van de Airtag en een aantal handige accessoi
 res die je daarbij kunt gebruiken. Verder delen zij die avond diverse hand
 ige tips met je die het dagelijks gebruik van o.a. je iPhone net wat leuke
 r en makkelijker maken. Het gaat daarbij niet om ingewikkelde technieken m
 aar heel praktische tips hoe Apple producten je kunnen helpen om creatieve
 r\, efficiënter en met meer plezier te kunnen werken.\nDe Apple bijeenkoms
 t begint om 19:30u op het adres Fort Vreeswijk 1 waar je ook gratis kunt p
 arkeren. Gebruik een online routeplanner omdat er in verband met werkzaamh
 eden enkele bruggen bij Vreeswijk zijn afgesloten. https://hcc.nl/componen
 t/rseventspro/evenement/9980-presentatie-over-airtag-2-en-praktische-iphon
 e-tips-en-inloop?Itemid=101
DTSTART:20260210T183000Z
DTEND:20260210T210000Z
LOCATION:Dorpshuis Fort Vreeswijk (Fort Vreeswijk 1\, 3433 ZZ Nieuwegein)
SUMMARY:Presentatie over AirTag 2 en praktische iPhone tips en inloop
URL:https://hcc.nl/component/rseventspro/evenement/9980-presentatie-over-ai
 rtag-2-en-praktische-iphone-tips-en-inloop?Itemid=101
END:VEVENT
BEGIN:VEVENT
UID:20260421T221539UTC-4090z2KXwN@https://hcc.nl/
DTSTAMP:20260421T221539Z
DESCRIPTION:We helpen bij problemen met computer\, laptop en smartphone en 
 tablet https://hcc.nl/component/rseventspro/evenement/10015-helpdesk-eindh
 oven?Itemid=101
DTSTART:20260210T123000Z
DTEND:20260210T143000Z
LOCATION:Activiteitencentrum Orka  (Broekakkerseweg 1\, 5641 PC Eindhoven)
SUMMARY:Helpdesk Eindhoven
URL:https://hcc.nl/component/rseventspro/evenement/10015-helpdesk-eindhoven
 ?Itemid=101
END:VEVENT
BEGIN:VEVENT
UID:20260421T221539UTC-4091u5vWax@https://hcc.nl/
DTSTAMP:20260421T221539Z
DESCRIPTION:Digitale hulp bij computer\, tablet en smartphone problemen htt
 ps://hcc.nl/component/rseventspro/evenement/10085-inloop-digitale-hulp?Ite
 mid=101
DTSTART:20260210T123000Z
DTEND:20260210T150000Z
LOCATION:Activiteitencentrum Orka  (Broekakkerseweg 1\, 5641 PC Eindhoven)
SUMMARY:Inloop Digitale hulp
URL:https://hcc.nl/component/rseventspro/evenement/10085-inloop-digitale-hu
 lp?Itemid=101
END:VEVENT
BEGIN:VEVENT
UID:20260421T221539UTC-4091PvWdPF@https://hcc.nl/
DTSTAMP:20260421T221539Z
DESCRIPTION:Inloop voor al je vragen over Apple producten... https://hcc.nl
 /component/rseventspro/evenement/10162-inloop?Itemid=101
DTSTART:20260210T173000Z
DTEND:20260210T200000Z
LOCATION:Dorpshuis Fort Vreeswijk (Fort Vreeswijk 1\, 3433 ZZ Nieuwegein)
SUMMARY:Inloop
URL:https://hcc.nl/component/rseventspro/evenement/10162-inloop?Itemid=101
END:VEVENT
BEGIN:VEVENT
UID:20260421T221539UTC-4091vfccKi@https://hcc.nl/
DTSTAMP:20260421T221539Z
DESCRIPTION:Op deze avond hebben we Clubbijeenkomst van HCC!midden-brabant.
 \nHet is inloop en al onze werkgroepen zijn aanwezig voor uw problemen\, v
 ragen of zo maar een gezellig praatje.\nOok op deze avond is er weer genoe
 g te beleven bij HCC! Midden-Brabant.\nEn natuurlijk staat de koffie weer 
 klaar.\nJe bent van harte welkom. https://hcc.nl/component/rseventspro/eve
 nement/10186-clubbijeenkomst?Itemid=101
DTSTART:20260210T180000Z
DTEND:20260210T201500Z
LOCATION:De Goede Herder (Isidorusstraat 6\, 5042 JJ Tilburg)
SUMMARY:Clubbijeenkomst
URL:https://hcc.nl/component/rseventspro/evenement/10186-clubbijeenkomst?It
 emid=101
END:VEVENT
BEGIN:VEVENT
UID:20260421T221539UTC-40925tSVwv@https://hcc.nl/
DTSTAMP:20260421T221539Z
DESCRIPTION:Presentatie van de Seniorenacademie.\nDigitaal lezen betekent d
 at je boeken\, kranten of tijdschriften leest of beluistert via een scherm
 . Dat kan op verschillende apparaten: een e-reader\, tablet\, smartphone\,
  computer of zelfs via een koptelefoon als je liever luistert. De inhoud i
 s vaak hetzelfde als in een papieren boek\, maar de vorm is digitaal. Je k
 unt het lettertype aanpassen\, het scherm verlichten en zelfs laten voorle
 zen.\nWaarom zou je digitaal lezen?Er zijn veel voordelen aan digitaal lez
 en\, zeker voor wie comfort en gemak belangrijk vindt. Je kunt de lettergr
 ootte en helderheid zelf instellen\, wat prettig is voor je ogen.\nDigital
 e boeken zijn licht en makkelijk mee te nemen — je hebt een hele bibliothe
 ek in je tas. Dankzij de voorleesfunctie kun je ook luisteren in plaats va
 n lezen. En het mooiste: je hebt altijd en overal toegang tot je boeken\, 
 zolang je apparaat opgeladen is. Maar als de batterij leeg is\, verdwijnen
  de boeken niet.\nPresentator is Ruuth Brouwer\nInloop vanaf 13.15 uur\nSt
 art presentatie: 13.30 uur https://hcc.nl/component/rseventspro/evenement/
 10256-presentatie-digitaal-lezen?Itemid=101
DTSTART:20260210T123000Z
DTEND:20260210T150000Z
LOCATION:Wijkgebouw Bijdorp (Bijdorplaan 471\, 2713 SZ Zoetermeer)
SUMMARY:Presentatie: Digitaal lezen
URL:https://hcc.nl/component/rseventspro/evenement/10256-presentatie-digita
 al-lezen?Itemid=101
END:VEVENT
BEGIN:VEVENT
UID:20260421T221539UTC-4093AWLPfN@https://hcc.nl/
DTSTAMP:20260421T221539Z
DESCRIPTION:Digitaal lezen betekent dat je boeken\, kranten of tijdschrifte
 n leest of beluistert via een scherm. Dat kan op verschillende apparaten: 
 een e-reader\, tablet\, smartphone\, computer of zelfs via een koptelefoon
  als je liever luistert. De inhoud is vaak hetzelfde als in een papieren b
 oek\, maar de vorm is digitaal. Je kunt het lettertype aanpassen\, het sch
 erm verlichten en zelfs laten voorlezen.\nWaarom zou je digitaal lezen?Er 
 zijn veel voordelen aan digitaal lezen\, zeker voor wie comfort en gemak b
 elangrijk vindt. Je kunt de lettergrootte en helderheid zelf instellen\, w
 at prettig is voor je ogen.\nDigitale boeken zijn licht en makkelijk mee t
 e nemen — je hebt een hele bibliotheek in je tas. Dankzij de voorleesfunct
 ie kun je ook luisteren in plaats van lezen. En het mooiste: je hebt altij
 d en overal toegang tot je boeken\, zolang je apparaat opgeladen is. Maar 
 als de batterij leeg is\, verdwijnen de boeken niet.\nTijdens onze bijeenk
 omst vertellen we je er alles over. https://hcc.nl/component/rseventspro/e
 venement/10265-digitaal-lezen?Itemid=101
DTSTART:20260210T090000Z
DTEND:20260210T110000Z
LOCATION:Activiteitencentrum Orka  (Broekakkerseweg 1\, 5641 PC Eindhoven)
SUMMARY:Digitaal lezen
URL:https://hcc.nl/component/rseventspro/evenement/10265-digitaal-lezen?Ite
 mid=101
END:VEVENT
BEGIN:VEVENT
UID:20260421T221539UTC-4094uxuJck@https://hcc.nl/
DTSTAMP:20260421T221539Z
DESCRIPTION:Inloopmiddag voor alle disciplines\nVoor iedereen die praktisch
 e hulp en ondersteuning nodig heeft bij het gebruik van digitale apparatuu
 r\, zoals het opschonen of updaten van uw computer.Voor het installeren va
 n Linux is in de Maatjes veel kennis aanwezig \n https://hcc.nl/component/
 rseventspro/evenement/10302-inloopmiddag?Itemid=101
DTSTART:20260210T130000Z
DTEND:20260210T153000Z
LOCATION:De Maatjes Zevenaar (Kardinaal de Jongstraat 4\, 6904 BE Zevenaar)
SUMMARY:Inloopmiddag
URL:https://hcc.nl/component/rseventspro/evenement/10302-inloopmiddag?Itemi
 d=101
END:VEVENT
BEGIN:VEVENT
UID:20260421T221539UTC-4094CTv1d6@https://hcc.nl/
DTSTAMP:20260421T221539Z
DESCRIPTION:We houden weer een online algemene sessie. Aanmelden is niet no
 dig. https://hcc.nl/component/rseventspro/evenement/10310-algemene-sessie?
 Itemid=101
DTSTART:20260210T183000Z
DTEND:20260227T210000Z
LOCATION:Online ()
SUMMARY:Algemene sessie 
URL:https://hcc.nl/component/rseventspro/evenement/10310-algemene-sessie?It
 emid=101
END:VEVENT
BEGIN:VEVENT
UID:20260421T221539UTC-4095eeZsvJ@https://hcc.nl/
DTSTAMP:20260421T221539Z
DESCRIPTION:Een NAS (Network Attached Storage) is een netwerkschijf waarop 
 je bestanden centraal opslaat. Je sluit ’m aan op je thuis- of kantoornetw
 erk\, zodat je vanaf meerdere apparaten (pc\, laptop\, smartphone\, tablet
 ) bij je foto’s\, documenten en back-ups kunt.\nVeel NAS-systemen bieden e
 xtra’s zoals automatische back-ups\, bestanden delen met anderen en soms z
 elfs je eigen privé-cloud\, zonder afhankelijk te zijn van een externe die
 nst.\nWat heb je nodig om je eigen NAS te bouwen?\n- een (bejaarde) pc- 2 
 schijven (HDD 0f SSD)- een bootable USB-stick met de Nas-software\nEen pri
 ma oplossing voor gedeelde data\, backups\, muziek\, films etc.\nPresentat
 or is Ger Stok.\nInloop vanaf 13.00 uur\nStart workshop 13.30 uur https://
 hcc.nl/component/rseventspro/evenement/10324-workshop-bouw-je-eigen-nas?It
 emid=101
DTSTART:20260210T123000Z
DTEND:20260210T150000Z
LOCATION:Speeltuin Pascal (Pascalweg 12\, 3076 JP Rotterdam)
SUMMARY:Workshop Bouw je eigen NAS.
URL:https://hcc.nl/component/rseventspro/evenement/10324-workshop-bouw-je-e
 igen-nas?Itemid=101
END:VEVENT
BEGIN:VEVENT
UID:20260421T221539UTC-4096EgEHBm@https://hcc.nl/
DTSTAMP:20260421T221539Z
DESCRIPTION:Deze dinsdagavond bijeenkomst zal voornamelijk in het teken sta
 an van een lezing of instructieve bijscholing over een van onze simulatore
 n en/of bijbehorende toestellen.\nDinsdagavond 17 februari hebben wij een 
 instructieve bijeenkomst\, het programma onderwerp is thans in voorbereidi
 ng. https://hcc.nl/component/rseventspro/evenement/10428-fs-haaglanden-bij
 eenkomst?Itemid=101
DTSTART:20250217T183000Z
DTEND:20260217T213000Z
LOCATION:Hangar De Groene Loper (van Royenstraat 2\, 2273 VD Voorburg)
SUMMARY:FS Haaglanden bijeenkomst
URL:https://hcc.nl/component/rseventspro/evenement/10428-fs-haaglanden-bije
 enkomst?Itemid=101
END:VEVENT
END:VCALENDAR
