BEGIN:VCALENDAR
VERSION:2.0
PRODID:-//https://hcc.nl///NONSGML kigkonsult.se iCalcreator 2.10.15//
METHOD:PUBLISH
BEGIN:VEVENT
UID:20260420T120950UTC-9722kdlVHf@https://hcc.nl/
DTSTAMP:20260420T120950Z
DESCRIPTION:Voor hulp thuis kan alleen een afspraak tijdens de Inloop gemaa
 kt worden\nDe Helpdesk is van maandag t/m vrijdag bereikbaar via 085-04418
 08 https://hcc.nl/component/rseventspro/evenement/6856-digitale-inloop-lee
 rsum?Itemid=101
DTSTART:20251215T130000Z
DTEND:20251215T143000Z
LOCATION:Bibliotheek Leersum  (Hoflaan 31\, 3956 ED Leersum)
SUMMARY:Digitale inloop Leersum
URL:https://hcc.nl/component/rseventspro/evenement/6856-digitale-inloop-lee
 rsum?Itemid=101
END:VEVENT
BEGIN:VEVENT
UID:20260420T120950UTC-97231UUxux@https://hcc.nl/
DTSTAMP:20260420T120950Z
DESCRIPTION:Hulp bij computerproblemen https://hcc.nl/component/rseventspro
 /evenement/9759-inloop-digitale-hulp?Itemid=101
DTSTART:20251215T130000Z
DTEND:20251215T143000Z
LOCATION:Bibliotheek Leersum  (Hoflaan 31\, 3956 ED Leersum)
SUMMARY:Inloop Digitale hulp
URL:https://hcc.nl/component/rseventspro/evenement/9759-inloop-digitale-hul
 p?Itemid=101
END:VEVENT
BEGIN:VEVENT
UID:20260420T120950UTC-9723isu0pv@https://hcc.nl/
DTSTAMP:20260420T120950Z
DESCRIPTION:Aanvang: 20:00 uur\, zaal open 19:30\nBelangstellenden zijn wel
 kom om een bijeenkomst vrijblijvend bij te wonen. Hiermee kunt u beoordele
 n of deelname aan onze groep voor u interessant is.\nNB: svp van te voren 
 aanmelden via deze link\nAGENDA\n1. Opening (mededelingen)\n2. Besluit ove
 r gebruik opslagfaciliteit documenten\n    Keuze uit:\nBSZH-faciliteit van
  HCC voor het opslaan van bestanden\;Google Drive dat we op dit moment geb
 ruiken\;Andere alternatieven te onderzoeken.3. Evaluatie advies “The Motle
 y Fool” over koopwaardige AI-aandelen\n                       Inleiding do
 or Casper van der Stap\n4. Nogmaals: Wat doet een BeleggingsStudiegroep ei
 genlijk?\n    Tijdens de vorige bijeenkomst bleek dat men een focus op bel
 eggingsstudie een\nte smalle doelstelling vindt. Onderwerpen als traden\, 
 statistische (backtest-)analyse zouden dan wellicht niet aan bod komen. We
  willen inventariseren welke onderwerpen van belang geacht worden.\nDaaraa
 n gekoppeld volgt ook de vraag hoe we daaraan dan aandacht zullen besteden
 .\n5. Analyse jaarverslag m.b.v. AI en wat kan Technische analyse daarna.
 \n            Inleiding door Ger van Schaik\n6. Sluiting\nVolgende bijeenk
 omsten:Maandag 19 januari 2026 Donderdag 19 februari 2026Maandag 16 maart 
 2026Donderdag 16 april 2026Maandag 18 mei 2026Donderdag 18 juni 2026 https
 ://hcc.nl/component/rseventspro/evenement/9834-bijeenkomst-beleggingsstudi
 egroep-zh?Itemid=101
DTSTART:20251215T190000Z
DTEND:20251215T213000Z
LOCATION:Buurthuis Het Voorhof  (Herman Gorterhof 165\, 2624 XL Delft)
SUMMARY:Bijeenkomst Beleggingsstudiegroep-ZH 
URL:https://hcc.nl/component/rseventspro/evenement/9834-bijeenkomst-beleggi
 ngsstudiegroep-zh?Itemid=101
END:VEVENT
BEGIN:VEVENT
UID:20260420T120950UTC-9724ZWM2T3@https://hcc.nl/
DTSTAMP:20260420T120950Z
DESCRIPTION:Op maandag 15 december komt de Joomla!-werkgroep Heerenveen (HC
 C!noord-nederland) samen voor de maandelijkse bijeenkomst.\nDeze avond is 
 bedoeld voor iedereen die werkt met of geïnteresseerd is in Joomla – van b
 eginners tot gevorderden.\nElke bijeenkomst behandelt een actueel onderwer
 p\, gevolgd door ruimte voor vragen\, uitwisseling van ervaringen en prakt
 ische hulp.\nJoomla is een gratis open-source systeem om websites en webap
 plicaties te maken en te beheren\, geschikt voor zowel beginners als profe
 ssionals.\nAanmelden / Meer info:Kijk voor meer informatie op de website v
 an de werkgroep:https://joomlaheerenveen.nl/werkgroep https://hcc.nl/compo
 nent/rseventspro/evenement/9933-joomla-heerenveen-seizoen-2025-2026?Itemid
 =101
DTSTART:20251215T183000Z
DTEND:20251215T210000Z
LOCATION:MFA. Aengwirden (it Hiem 1-3\, 8458 CA Tjalleberd)
SUMMARY:Joomla! Heerenveen - seizoen 2025-2026
URL:https://hcc.nl/component/rseventspro/evenement/9933-joomla-heerenveen-s
 eizoen-2025-2026?Itemid=101
END:VEVENT
BEGIN:VEVENT
UID:20260420T120950UTC-9725SR2U9k@https://hcc.nl/
DTSTAMP:20260420T120950Z
DESCRIPTION:We houden weer een online Visual Basic sessie.\nAanmelden is ni
 et nodig. Zie dit artikel voor meer informatie. https://hcc.nl/component/r
 seventspro/evenement/9964-visual-basic-sessie?Itemid=101
DTSTART:20251215T190000Z
DTEND:20251215T210000Z
LOCATION:Online ()
SUMMARY:Visual Basic sessie
URL:https://hcc.nl/component/rseventspro/evenement/9964-visual-basic-sessie
 ?Itemid=101
END:VEVENT
BEGIN:VEVENT
UID:20260420T120950UTC-9725BPEkiA@https://hcc.nl/
DTSTAMP:20260420T120950Z
DESCRIPTION:We houden weer een online Hardware sessie.\nAanmelden is niet n
 odig. Zie dit artikel voor meer informatie.\n  https://hcc.nl/component/rs
 eventspro/evenement/9965-hardware-sessie?Itemid=101
DTSTART:20251215T183000Z
DTEND:20251215T210000Z
LOCATION:Online ()
SUMMARY:Hardware sessie
URL:https://hcc.nl/component/rseventspro/evenement/9965-hardware-sessie?Ite
 mid=101
END:VEVENT
BEGIN:VEVENT
UID:20260420T120950UTC-9725lmwIa2@https://hcc.nl/
DTSTAMP:20260420T120950Z
DESCRIPTION:Presentatie: Demo mogelijkheden AI browsers en Nano Banana Pro
 \nOp maandagavond15 december houdt HCC!apple vanaf 19:30u in Amersfoort (S
 chuilenburgerweg 2) een presentatie over de grote verschillen tussen de be
 langrijkste AI browsers en voor wat voor taken een goede AI browser erg ha
 ndig is. Na de presentaties kun je ook kennismaken met enkele verbluffende
  mogelijkheden van het Nano Banana Pro afbeeldingen tool. \nVeel browsers 
 hebben een ingebouwde AI assistent bovenop een verder vrij klassieke brows
 er wat een groot verschil is met een AI browser als Comet die beschikt ove
 r veel uitgebreidere mogelijkheden. Comet is een gratis AI browser die bes
 chikbaar is voor Windows\, macOS en Android. Het bijzondere van Comet is d
 at die vragen kan beantwoorden over de website die je bekijkt\, alles kan 
 vertalen en samenvattingen kan maken van artikelen en video’s. Ook kun je 
 opdrachten geven als: “zoek de beste optie en regel het”. Waarna Comet zel
 f sites opzoekt\, vergelijkingen maakt en een aankoop kan voorbereiden. Wa
 arna je kunt zeggen “bestel dit artikel maar” en na “betaal maar” kwam er 
 een iDEAL QR code in het scherm. Omdat het ook werkt met je eerdere browse
  geschiedenis beschik je over een steeds persoonlijkere zoekfunctie en kri
 jg je heel snel uitgebreide informatie die is opgebouwd met informatie van
 uit meerdere bronnen.\nNa een korte pauze laten we enkele zeer interessant
 e verbeteringen zien die Google heeft aangebracht in de hyperrealistische 
 Pro versie van hun populaire Nano Banano afbeeldingen tool en kunnen er oo
 k andere ervaringen met AI beeldbewerking met elkaar gedeeld worden. Verde
 r is er ook voldoende ruimte om in te gaan op jullie vragen. https://hcc.n
 l/component/rseventspro/evenement/9969-presentatie-demo-mogelijkheden-ai-b
 rowsers-en-nano-banana-pro?Itemid=101
DTSTART:20251215T183000Z
DTEND:20251215T210000Z
LOCATION:De Brug (Schuilenburgerweg 2\, 3816 TB Amersfoort)
SUMMARY:Presentatie: Demo mogelijkheden AI browsers en Nano Banana Pro
URL:https://hcc.nl/component/rseventspro/evenement/9969-presentatie-demo-mo
 gelijkheden-ai-browsers-en-nano-banana-pro?Itemid=101
END:VEVENT
BEGIN:VEVENT
UID:20260420T120950UTC-9726Li8OsU@https://hcc.nl/
DTSTAMP:20260420T120950Z
DESCRIPTION:Deze clubavond wordt besteed aan het Zweefvliegen.\nOnze inleid
 er is een ervaren zweefvlieger\, die ons de 'ins en outs' van deze sport z
 al vertellen. https://hcc.nl/component/rseventspro/evenement/10010-clubavo
 nd?Itemid=101
DTSTART:20251215T183000Z
DTEND:20251215T210000Z
LOCATION:Zalen Kurioskerk (Julianalaan 38\, 8932 AA Leeuwarden)
SUMMARY:Clubavond 
URL:https://hcc.nl/component/rseventspro/evenement/10010-clubavond?Itemid=1
 01
END:VEVENT
BEGIN:VEVENT
UID:20260420T120950UTC-9727huMmhS@https://hcc.nl/
DTSTAMP:20260420T120950Z
DESCRIPTION:John Glaser\, secretaris van HCC!genealogie\, is aanwezig en he
 pt u bij uw stamboomonderzoek.\nHij demonstreert o.a. Aldfaer\, GensDataPr
 o\, Ancestor Tree Manager en FamilyGem voor Android \nVoor meer info klik 
 hier https://hcc.nl/component/rseventspro/evenement/10023-bijeenkomst?Item
 id=101
DTSTART:20251215T183000Z
DTEND:20251215T210000Z
LOCATION:Kerkelijk Centrum De Brug  (Schuilenburgerweg 2\, 3816 TB Amersfoo
 rt)
SUMMARY:Bijeenkomst 
URL:https://hcc.nl/component/rseventspro/evenement/10023-bijeenkomst?Itemid
 =101
END:VEVENT
BEGIN:VEVENT
UID:20260420T120950UTC-9727kPi91F@https://hcc.nl/
DTSTAMP:20260420T120950Z
DESCRIPTION:Deze dinsdagavond bijeenkomst zal voornamelijk in het teken sta
 an van een lezing of instructieve bijscholing over een van onze simulatore
 n en/of bijbehorende toestellen.\nDinsdagavond 17 februari hebben wij een 
 instructieve bijeenkomst\, het programma onderwerp is thans in voorbereidi
 ng. https://hcc.nl/component/rseventspro/evenement/10428-fs-haaglanden-bij
 eenkomst?Itemid=101
DTSTART:20250217T183000Z
DTEND:20260217T213000Z
LOCATION:Hangar De Groene Loper (van Royenstraat 2\, 2273 VD Voorburg)
SUMMARY:FS Haaglanden bijeenkomst
URL:https://hcc.nl/component/rseventspro/evenement/10428-fs-haaglanden-bije
 enkomst?Itemid=101
END:VEVENT
END:VCALENDAR
