BEGIN:VCALENDAR
VERSION:2.0
PRODID:-//https://hcc.nl///NONSGML kigkonsult.se iCalcreator 2.10.15//
METHOD:PUBLISH
BEGIN:VEVENT
UID:20260421T195810UTC-7800UV0oWI@https://hcc.nl/
DTSTAMP:20260421T195810Z
DESCRIPTION:Niet alleen uw auto heeft af en toe een APK nodig\, ook uw comp
 uter kan dat af en toe gebruiken.\nHier ziet en hoort u hoe en wat.\n \nAa
 nmelden svp via deze link https://hcc.nl/component/rseventspro/evenement/9
 046-apk?Itemid=101
DTSTART:20251127T123000Z
DTEND:20251127T140000Z
LOCATION:Online ()
SUMMARY:APK
URL:https://hcc.nl/component/rseventspro/evenement/9046-apk?Itemid=101
END:VEVENT
BEGIN:VEVENT
UID:20260421T195810UTC-78014rDVv0@https://hcc.nl/
DTSTAMP:20260421T195810Z
DESCRIPTION:Bij auto’s is het al heel lang de gewoonste zaak van de wereld 
 dat er regelmatig een technische controle wordt uitgevoerd.Ook bij compute
 rs is het nuttig om zo nu en dan (afhankelijk van de mate van gebruik) een
  grote controle en schoonmaak uit te voeren.Hier wordt alleen over Windows
  11 gesproken\; voor andere besturingssystemen kunnen vergelijkbare stappe
 n worden uitgevoerd\, maar er zullen meestal andere programma’s nodig zijn
 . \nLET OP: vooraf aanmelden verplicht via deze link https://hcc.nl/compon
 ent/rseventspro/evenement/9067-apk?Itemid=101
DTSTART:20251127T123000Z
DTEND:20251127T140000Z
LOCATION:Online ()
SUMMARY:APK
URL:https://hcc.nl/component/rseventspro/evenement/9067-apk?Itemid=101
END:VEVENT
BEGIN:VEVENT
UID:20260421T195810UTC-7802uw6l99@https://hcc.nl/
DTSTAMP:20260421T195810Z
DESCRIPTION:Bij auto’s is het al heel lang de gewoonste zaak van de wereld 
 dat er regelmatig een technische controle wordt uitgevoerd.Ook bij compute
 rs is het nuttig om zo nu en dan (afhankelijk van de mate van gebruik) een
  grote controle en schoonmaak uit te voeren.Hier wordt alleen over Windows
  11 gesproken\; voor andere besturingssystemen kunnen vergelijkbare stappe
 n worden uitgevoerd\, maar er zullen meestal andere programma’s nodig zijn
 . \nPresentator Hans Niessen\n \nLET OP: VOOR HET BIJEENWONEN VAN DEZE BIJ
 EENKOMST IS VOORAF AANMELDEN VIA DEZE SITE VERPLICHT https://hcc.nl/compon
 ent/rseventspro/evenement/9144-apk?Itemid=101
DTSTART:20251127T123000Z
DTEND:20251127T140000Z
LOCATION:Online ()
SUMMARY:APK
URL:https://hcc.nl/component/rseventspro/evenement/9144-apk?Itemid=101
END:VEVENT
BEGIN:VEVENT
UID:20260421T195810UTC-7803v7DnDO@https://hcc.nl/
DTSTAMP:20260421T195810Z
DESCRIPTION:Op deze maandelijkse online bijeenkomst beginnen we met de best
 e Black Friday tips voor Apple gebruikers.\nDaarna geven we een gezamenlij
 ke presentatie over de vele nieuwe functies in IOS & iPadOS 26 zoals we di
 e ook tijdens de laatste HCC!kennisdag hebben gegeven.\nLeden van HCC!appl
 e ontvangen automatisch een extra mail met gegevens om aan deze bijeenkoms
 t deel te nemen. https://hcc.nl/component/rseventspro/evenement/9801-black
 -friday-tips-en-presentatie-ios-ipados-26?Itemid=101
DTSTART:20251127T190000Z
DTEND:20251127T203000Z
LOCATION:Online ()
SUMMARY:Black Friday tips en presentatie iOS & iPadOS 26
URL:https://hcc.nl/component/rseventspro/evenement/9801-black-friday-tips-e
 n-presentatie-ios-ipados-26?Itemid=101
END:VEVENT
BEGIN:VEVENT
UID:20260421T195810UTC-7803mRPuwF@https://hcc.nl/
DTSTAMP:20260421T195810Z
DESCRIPTION:Deze avond weer bijeenkomst over ervaringen met videobewerken. 
 https://hcc.nl/component/rseventspro/evenement/9822-fotovideo?Itemid=101
DTSTART:20251127T190000Z
DTEND:20251127T210000Z
LOCATION:NewTechPark (Vlijtseweg 148\, 7317 AK Apeldoorn)
SUMMARY:FotoVideo
URL:https://hcc.nl/component/rseventspro/evenement/9822-fotovideo?Itemid=10
 1
END:VEVENT
BEGIN:VEVENT
UID:20260421T195810UTC-7804PPogwL@https://hcc.nl/
DTSTAMP:20260421T195810Z
DESCRIPTION:We houden weer een online Python sessie met de cursus voor begi
 nners.\nAanmelden is niet nodig. Zie dit artikel voor meer informatie. htt
 ps://hcc.nl/component/rseventspro/evenement/9880-python-sessie-met-cursus-
 voor-beginners?Itemid=101
DTSTART:20251127T180000Z
DTEND:20251127T220000Z
LOCATION:Online ()
SUMMARY:Python sessie met cursus voor beginners
URL:https://hcc.nl/component/rseventspro/evenement/9880-python-sessie-met-c
 ursus-voor-beginners?Itemid=101
END:VEVENT
BEGIN:VEVENT
UID:20260421T195810UTC-78044HVMmv@https://hcc.nl/
DTSTAMP:20260421T195810Z
DESCRIPTION:Deze bijeenkomst zal er een presentatie zijn over het vliegtuig
  Embrear 170 met x-plane en littleNavMap.\nNatuurlijk kun je met allerlei 
 andere vragen komen voor en na de presentatie. https://hcc.nl/component/rs
 eventspro/evenement/9951-bijeenkomst?Itemid=101
DTSTART:20251127T180000Z
DTEND:20251127T210000Z
LOCATION:Huis van de Wijk Oostgaarde (De Linie 5\, 2905 AX Capelle aan den 
 IJssel)
SUMMARY:Bijeenkomst 
URL:https://hcc.nl/component/rseventspro/evenement/9951-bijeenkomst?Itemid=
 101
END:VEVENT
BEGIN:VEVENT
UID:20260421T195810UTC-7804hp3j8a@https://hcc.nl/
DTSTAMP:20260421T195810Z
DESCRIPTION:Deze dinsdagavond bijeenkomst zal voornamelijk in het teken sta
 an van een lezing of instructieve bijscholing over een van onze simulatore
 n en/of bijbehorende toestellen.\nDinsdagavond 17 februari hebben wij een 
 instructieve bijeenkomst\, het programma onderwerp is thans in voorbereidi
 ng. https://hcc.nl/component/rseventspro/evenement/10428-fs-haaglanden-bij
 eenkomst?Itemid=101
DTSTART:20250217T183000Z
DTEND:20260217T213000Z
LOCATION:Hangar De Groene Loper (van Royenstraat 2\, 2273 VD Voorburg)
SUMMARY:FS Haaglanden bijeenkomst
URL:https://hcc.nl/component/rseventspro/evenement/10428-fs-haaglanden-bije
 enkomst?Itemid=101
END:VEVENT
END:VCALENDAR
