BEGIN:VCALENDAR
VERSION:2.0
PRODID:-//https://hcc.nl///NONSGML kigkonsult.se iCalcreator 2.10.15//
METHOD:PUBLISH
BEGIN:VEVENT
UID:20260426T035722UTC-67754wk9co@https://hcc.nl/
DTSTAMP:20260426T035722Z
DESCRIPTION:Digitale hulp bij computer\, tablet en smartphone problemen htt
 ps://hcc.nl/component/rseventspro/evenement/10075-inloop-digitale-hulp?Ite
 mid=101
DTSTART:20260520T130000Z
DTEND:20260520T153000Z
LOCATION:De Geseldonk (Cederhoutstraat 44\, 5706 XC Helmond)
SUMMARY:Inloop Digitale hulp
URL:https://hcc.nl/component/rseventspro/evenement/10075-inloop-digitale-hu
 lp?Itemid=101
END:VEVENT
BEGIN:VEVENT
UID:20260426T035722UTC-6776gFCxdD@https://hcc.nl/
DTSTAMP:20260426T035722Z
DESCRIPTION:Welkom bij deze introductie in de fascinerende wereld van Artif
 iciële Intelligentie (Ai)!Misschien klinkt Ai ingewikkeld of als iets uit 
 sciencefictionfilms\, maar niets is minder waar.Ai is al een integraal ond
 erdeel van ons dagelijks leven en biedt talloze mogelijkheden om taken te 
 vereenvoudigen\, tijd te besparen en zelfs onze creativiteit te stimuleren
 .Hoor meer van onze presentator Hans Niessen.\nNB svp van te voren aanmeld
 en via deze link https://hcc.nl/component/rseventspro/evenement/10676-ai-v
 oor-jou-mij-slimmer-sneller-simpeler?Itemid=101
DTSTART:20260520T113000Z
DTEND:20260520T130000Z
LOCATION:Online ()
SUMMARY:Ai voor Jou & Mij: Slimmer\, Sneller\, Simpeler!
URL:https://hcc.nl/component/rseventspro/evenement/10676-ai-voor-jou-mij-sl
 immer-sneller-simpeler?Itemid=101
END:VEVENT
BEGIN:VEVENT
UID:20260426T035722UTC-677723ZPLA@https://hcc.nl/
DTSTAMP:20260426T035722Z
DESCRIPTION:Onze inloop is bedoeld voor iedereen die praktische hulp en ond
 ersteuning nodig heeft bij het gebruik van digitale apparatuur\, zoals des
 ktop\, laptop\, tablet en smartphone.\nTe denken valt aan:\n- opschonen va
 n uw computer- updates downloaden- apps installeren- accounts aanmaken op 
 uw apparaten (breng dan wel uw gegevens mee)- e-mail problemen- instelling
 en aanpassen\nOnze deskundigen zitten klaar om u met raad en daad terzijde
  te staan. https://hcc.nl/component/rseventspro/evenement/10760-inloop-dig
 itale-hulp?Itemid=101
DTSTART:20260511T173000Z
DTEND:20260523T200000Z
LOCATION:Huis van de Wijk Oostgaarde (De Linie 5\, 2905 AX Capelle aan den 
 IJssel)
SUMMARY:Inloop Digitale Hulp
URL:https://hcc.nl/component/rseventspro/evenement/10760-inloop-digitale-hu
 lp?Itemid=101
END:VEVENT
BEGIN:VEVENT
UID:20260426T035722UTC-6778UTM008@https://hcc.nl/
DTSTAMP:20260426T035722Z
DESCRIPTION:We houden weer een online games programmeren sessie. Aanmelden 
 is niet nodig. https://hcc.nl/component/rseventspro/evenement/10763-games-
 programmeren-sessie?Itemid=101
DTSTART:20260508T180000Z
DTEND:20260524T200000Z
LOCATION:Online ()
SUMMARY:Games programmeren sessie
URL:https://hcc.nl/component/rseventspro/evenement/10763-games-programmeren
 -sessie?Itemid=101
END:VEVENT
BEGIN:VEVENT
UID:20260426T035722UTC-67792ngpdJ@https://hcc.nl/
DTSTAMP:20260426T035722Z
DESCRIPTION:☕ Online Koffie-uurtje – HCC!drones (mei 2026)\nOok in mei orga
 niseren we weer een gezellig en leerzaam Online Koffie-uurtje voor de lede
 n van HCC!drones.Een informele online bijeenkomst waarin we elkaar ontmoet
 en\, ervaringen uitwisselen en samen verder groeien in onze dronehobby. \n
 Het koffieuurtje is laagdrempelig: geen vaste presentator\, geen strak pro
 gramma\, maar ruimte voor gesprek\, vragen en inspiratie uit de praktijk.
 \n📸 Eigen foto’s en video’s (vast onderdeel)\nTijdens ieder koffieuurtje i
 s er ruimte voor het tonen van eigen werk.Leden kunnen hun dronefoto’s en 
 video’s laten zien. Mooie beelden\, experimenten of vragen — alles mag.\nM
 isschien heb je een geslaagde opname gemaakt\, een nieuwe techniek geprobe
 erd of juist iets waar je feedback op wilt.Samen kijken we naar de beelden
  en helpen we elkaar verder met tips\, ideeën en feedback. (drones.hcc.nl)
 \n🛰️ Thema van de avond: Video Editor\nDeze avond staat in het teken van h
 et bewerken van dronevideo’s.Belangrijk: dit is géén workshop\, maar een i
 nteractieve avond waarbij de inbreng van deelnemers centraal staat.\nWe no
 digen leden uit om hun ervaringen te delen:\nWelke video editor gebruik je
  en waarom?Hoe ziet jouw workflow eruit (monteren\, kleurcorrectie\, expor
 t)?Werk je met muziek\, overgangen of effecten?Welke tips heb je voor begi
 nners?Waar loop je zelf tegenaan?\nHeb je zelf vragen of wil je iets laten
  zien? Breng het vooral in — juist door ervaringen te delen leren we van e
 lkaar.\n🤝 Voor wie?\nDit koffieuurtje is geschikt voor:\nDronepiloten die 
 willen starten met videobewerkingLeden die hun workflow willen verbeterenI
 edereen die benieuwd is hoe anderen hun video’s maken\n🌐 Praktische inform
 atie\n🕖 Inloggen vanaf: 19:15 uur🕢 Start: 19:30 uur🕘 Einde: circa 21:30 uu
 r \nDeelname is gratis voor leden van HCC!drones en aanmelden is niet nodi
 g.\n👉 https://wij.hcc.nl/drones\nPak een kop koffie of thee en praat gezel
 lig mee! ☕🎬 https://hcc.nl/component/rseventspro/evenement/10765-online-ko
 ffie-uurtje?Itemid=101
DTSTART:20260520T173000Z
DTEND:20260520T193000Z
LOCATION:Online ()
SUMMARY:Online Koffie-uurtje
URL:https://hcc.nl/component/rseventspro/evenement/10765-online-koffie-uurt
 je?Itemid=101
END:VEVENT
END:VCALENDAR
