BEGIN:VCALENDAR
VERSION:2.0
PRODID:-//https://hcc.nl///NONSGML kigkonsult.se iCalcreator 2.10.15//
METHOD:PUBLISH
BEGIN:VEVENT
UID:20260426T025633UTC-3756Ou8xMG@https://hcc.nl/
DTSTAMP:20260426T025633Z
DESCRIPTION:Op de eerste maandag van de maand digicafé in Tisselt.\nHet alg
 emene programma:\ninternet\, lokaal netwerk\, connectiviteit\;installatie 
 of configuratie van hard- en software\;Windows PC/laptop\, ...Linux (Ubunt
 u\, Mint\, Fedora\, ...) & Open Source\;Tablet\, smartphone -- Android\, i
 OS\, ... \nElke geïnteresseerde computer- / tablet- / smartphone-gebruiker
  is welkom: om de sfeer te proeven\, om kennis te maken met onze leden en 
 hun ICT-bezigheden\, om ervaringen uit te wisselen\, om nieuwe dingen te o
 ntdekken en om oplossingen voor hard- en softwarevraagstukken te vinden. h
 ttps://hcc.nl/component/rseventspro/evenement/10483-fanfarelokaal-bingo?It
 emid=101
DTSTART:20260504T180000Z
DTEND:20260504T210000Z
LOCATION:Fanfarelokaal Bingo (Blaasveldstraat  29 \, 2830 TI Tisselt)
SUMMARY:Fanfarelokaal Bingo
URL:https://hcc.nl/component/rseventspro/evenement/10483-fanfarelokaal-bing
 o?Itemid=101
END:VEVENT
BEGIN:VEVENT
UID:20260426T025633UTC-3758tfR3Wo@https://hcc.nl/
DTSTAMP:20260426T025633Z
DESCRIPTION:LET OP: IN VERBAND MET DE DODENHERDENKING GAAN WE IETS LATER VA
 N START.\nOnze inloop is bedoeld voor iedereen die praktische hulp en onde
 rsteuning nodig heeft bij het gebruik van digitale apparatuur\, zoals desk
 top\, laptop\, tablet en smartphone.\nTe denken valt aan:\n- updates downl
 oaden- apps installeren- accounts aanmaken op uw apparaten (breng dan wel 
 uw gegevens mee)- e-mail problemen- instellingen aanpassen\nOnze deskundig
 en zitten klaar om u met raad en daad terzijde te staan. https://hcc.nl/co
 mponent/rseventspro/evenement/10622-inloop-digitale-hulp?Itemid=101
DTSTART:20260504T181500Z
DTEND:20260504T200000Z
LOCATION:Huis van de Wijk Oostgaarde (De Linie 5\, 2905 AX Capelle aan den 
 IJssel)
SUMMARY:Inloop Digitale Hulp
URL:https://hcc.nl/component/rseventspro/evenement/10622-inloop-digitale-hu
 lp?Itemid=101
END:VEVENT
BEGIN:VEVENT
UID:20260426T025633UTC-3759v2M2Vg@https://hcc.nl/
DTSTAMP:20260426T025633Z
DESCRIPTION:Om de week op maandagavond van 20:00 tot 21:00 (WET) is er een 
 noForth vragenuurtje.Hier kun je terecht met alle noForth vragen.Als ze er
 g technisch of ingewikkeld zijn\, kun je ze vooraf in de chat versturen of
  krijg je tijdens het volgende vragenuurtje antwoord. \nKoppeling naar ver
 gadering: noForth vragenuurtje | Microsoft Teams | Meetup-Deelnemen https:
 //hcc.nl/component/rseventspro/evenement/10731-noforth-vragenuurtje?Itemid
 =101
DTSTART:20260504T180000Z
DTEND:20260504T190000Z
LOCATION:Online ()
SUMMARY:noForth vragenuurtje
URL:https://hcc.nl/component/rseventspro/evenement/10731-noforth-vragenuurt
 je?Itemid=101
END:VEVENT
BEGIN:VEVENT
UID:20260426T025633UTC-3760CnXfpP@https://hcc.nl/
DTSTAMP:20260426T025633Z
DESCRIPTION:We houden weer een online Hardware sessie. Aanmelden is niet no
 dig. https://hcc.nl/component/rseventspro/evenement/10737-hardware-sessie?
 Itemid=101
DTSTART:20260504T173000Z
DTEND:20260504T200000Z
LOCATION:Online ()
SUMMARY:Hardware sessie
URL:https://hcc.nl/component/rseventspro/evenement/10737-hardware-sessie?It
 emid=101
END:VEVENT
BEGIN:VEVENT
UID:20260426T025633UTC-3761DuHWc8@https://hcc.nl/
DTSTAMP:20260426T025633Z
DESCRIPTION:We houden weer een online Visual Basic sessie. Aanmelden is nie
 t nodig. https://hcc.nl/component/rseventspro/evenement/10738-visual-basic
 -sessie?Itemid=101
DTSTART:20260504T180000Z
DTEND:20260504T200000Z
LOCATION:Online ()
SUMMARY:Visual Basic sessie
URL:https://hcc.nl/component/rseventspro/evenement/10738-visual-basic-sessi
 e?Itemid=101
END:VEVENT
BEGIN:VEVENT
UID:20260426T025633UTC-3761us5xxZ@https://hcc.nl/
DTSTAMP:20260426T025633Z
DESCRIPTION:De energiemarkt is de afgelopen jaren flink veranderd. Waar vro
 eger bijna iedereen automatisch bij dezelfde leverancier zat\, kun je tege
 nwoordig zelf kiezen uit verschillende aanbieders en contractvormen. Dat k
 linkt als vrijheid\, maar maakt het kiezen soms ook best lastig.\nGa je vo
 or zekerheid met een vast contract? Of kies je juist flexibiliteit met een
  variabel of dynamisch contract? En wat betekenen die keuzes eigenlijk voo
 r je maandelijkse kosten en risico’s?\nMet zonnepanelen\, warmtepomp\, thu
 isbatterij of (toekomstige) laadpaal wordt het helemaal een oerwoud.\nIn d
 eze presentatie nemen we de verschillende soorten energiecontracten stap v
 oor stap door. We leggen uit wat de verschillen zijn\, wat de voor- en nad
 elen zijn\, en waar je op moet letten bij het maken van een keuze. Zo krij
 g je meer grip op je energiekosten en kun je een contract kiezen dat past 
 bij jouw situatie.\nPresentator is Anton Doornenbal\nInloop vanaf 09.00 uu
 r\nStart presentatie 09.30 uur. https://hcc.nl/component/rseventspro/evene
 ment/10752-presentatie-over-de-verschillende-energiecontracten?Itemid=101
DTSTART:20260504T073000Z
DTEND:20260504T093000Z
LOCATION:HCC Leiderdorp (Van der Marckstraat 19\, 2352 RA Leiderdorp)
SUMMARY:Presentatie over de verschillende energiecontracten
URL:https://hcc.nl/component/rseventspro/evenement/10752-presentatie-over-d
 e-verschillende-energiecontracten?Itemid=101
END:VEVENT
BEGIN:VEVENT
UID:20260426T025633UTC-3763vkuM9a@https://hcc.nl/
DTSTAMP:20260426T025633Z
DESCRIPTION:Op 4 mei maken we een vlucht in het westen van Ierland. We moge
 n gebruik maken van bakens (VOR\, NDB).\nWe vertrekken van Donegal (EIDL) 
 naar Connaught (EIKN) met als richting baken VOR CON 117\,40 en vervolgens
  naar Galway (EICM) voor een Touch en Go. Hierna vliegen we door naar Shan
 non (EINN) baken VOR SHA 113\,30 voor een Touch en Go op Kerry (EIKY) . Vo
 orts vliegen we over de olieopslag in Bantry (EIBN) met als bestemming Cor
 k (EICK) baken VOR CRK 114\,60. https://hcc.nl/component/rseventspro/evene
 ment/10753-online-vliegen?Itemid=101
DTSTART:20260504T170000Z
DTEND:20260504T183000Z
LOCATION:Online ()
SUMMARY:Online-vliegen
URL:https://hcc.nl/component/rseventspro/evenement/10753-online-vliegen?Ite
 mid=101
END:VEVENT
END:VCALENDAR
