BEGIN:VCALENDAR
VERSION:2.0
PRODID:-//https://hcc.nl///NONSGML kigkonsult.se iCalcreator 2.10.15//
METHOD:PUBLISH
BEGIN:VEVENT
UID:20260424T181225UTC-7153fVin72@https://hcc.nl/
DTSTAMP:20260424T181225Z
DESCRIPTION:Wij verwelkomen u op onze locatie in Soest\,\nRuim van opzet\, 
 met voldoende ruimte om modelspoorbanen op te zetten en workshops en lezin
 gen te houden.\nDeze locatie wordt op door de weekse dagen gebruikt door d
 e EHBO afd. Soest is goed bereikbaar zowel met auto als met NS-spoor (± 10
  min. lopen) achter het pand is een ruime gratis parkeerterrein via de zij
 kant loopt u naar de hoofdingang.\nNaast workshops en demonstraties worden
  er ook lezingen gegeven.\nLezing:        Digitaal modelspoor voor beginne
 rs door Albert Grit\nWorkshop:  12:30 u Rocrail voor beginners door Harry 
 Damen                   Als je mee wilt doen meld je dan snel aan bij de W
 orkshopcoördinator https://hcc.nl/component/rseventspro/evenement/9941-led
 enbijeenkomst-in-soest?Itemid=101
DTSTART:20260502T080000Z
DTEND:20260502T130000Z
LOCATION:HCC!m Soest (Molenstraat 8\, 3764 TG Soest)
SUMMARY:Ledenbijeenkomst in Soest
URL:https://hcc.nl/component/rseventspro/evenement/9941-ledenbijeenkomst-in
 -soest?Itemid=101
END:VEVENT
BEGIN:VEVENT
UID:20260424T181225UTC-7154u4NUwo@https://hcc.nl/
DTSTAMP:20260424T181225Z
DESCRIPTION:Deze middag heeft HCC!midden-brabant weer de gebruikelijke inlo
 opmiddag samen met Computer Vrienden Oisterwijk (C.V.O. / PTCC). Vanaf 13.
 30 uur tot ongeveer 16.00 uur kunt u hiervoor terecht in wijkcentrum 'de P
 annenschuur' aan de Lavendel 9 te 5061WB Oisterwijk. (parkeren kan voor de
  deur).\nDeze extra inloopzaterdag is\, naast de leden van C.V.O./PTCC\, v
 rij toegankelijk voor al onze HCC-leden\;\nJe bent van harte welkom.\nOok 
 op de locatie 'de Pannenschuur' staat de koffie weer klaar !Locatie: zaal 
 'De Pannenschuur'\, Lavendel 9 te 5061WB Oisterwijk.Zaal open: 13.30 - 16.
 00 uur. https://hcc.nl/component/rseventspro/evenement/10190-clubbijeenkom
 st?Itemid=101
DTSTART:20260502T113000Z
DTEND:20260502T140000Z
LOCATION:Wijkcentrum de Pannenschuur (Lavendel 9\, 5061 WB Oisterwijk)
SUMMARY:Clubbijeenkomst
URL:https://hcc.nl/component/rseventspro/evenement/10190-clubbijeenkomst?It
 emid=101
END:VEVENT
BEGIN:VEVENT
UID:20260424T181225UTC-7156GuMbZh@https://hcc.nl/
DTSTAMP:20260424T181225Z
DESCRIPTION:Tijdens deze vliegmiddag nemen we een aantal drones van de club
  mee. Zo kunnen bezoekers die nog geen eigen drone hebben toch eens ervare
 n hoe het is om te vliegen. Ook krijgen we zo beter inzicht in wie eventue
 el hulp nodig heeft bij het vliegen of bij het instellen van hun drone.\nW
 e nemen onder andere de volgende drones mee:\n DJI Flip\n DJI Mini 5 Pro\n
  DJI Neo 2 (nieuwste aanwinst van de club)\nLeden die vragen hebben over h
 et vliegen met een drone\, instellingen of de bediening kunnen dit tijdens
  de middag rustig samen met ons bekijken. Ook is er gelegenheid om – onder
  begeleiding – eens met een clubdrone te vliegen.\n📝 Aanmelden voor de vli
 egmiddagWil je deelnemen aan de dronebijeenkomst in Naarden?Dan vragen wij
  je om twee stappen te doorlopen:\n✅ Stap 1 – Klik op deze linkBovenaan di
 e pagina vind je de knop Deelnemen.Deze knop is alleen zichtbaar nadat je 
 bent ingelogd op de website.\nInloggen kan via de inlogknop rechtsboven op
  de website van HCC!drones\nKlik daarna op Deelnemen om je deelname offici
 eel te registreren voor de HCC!drones vliegmiddag in Naarden.\n✅ Stap 2 – 
 Vul het aanmeldformulier inAanmeldformulier Dronebijeenkomst – 2 mei 2026 
 – Naarden\n👉 Let op:Er is geen begeleiding voor theorieles\, toets of vlie
 gbewijs aanwezig tijdens deze middag.\nVul het aanmeldformulier volledig i
 n.Hiermee geef je aan wat je tijdens de vliegmiddag wilt doen\, bijvoorbee
 ld:\n🚁 Oefenen met je eigen drone🤝 Onder begeleiding vliegen🛫 Zelfstandig 
 vliegen📘 Theorie- of praktijkexamenℹ️ Waarom beide stappen belangrijk zijn
 \nDe knop Deelnemen is nodig voor de officiële deelnemersregistratie.Het f
 ormulier helpt ons bij de praktische organisatie en begeleiding.Pas wannee
 r je beide stappen hebt uitgevoerd\, is je aanmelding compleet.\n📄 Aanmeld
 formulier\n🚁 Over de vliegmiddagTijdens deze vliegmiddag van HCC!drones ga
 an we samen vliegen bij de prachtige vestingstad Naarden. Deze locatie op 
 de vestingwal biedt een mooi uitzicht over de stervormige vesting en de om
 liggende omgeving – ideaal om te vliegen en om mooie dronebeelden te maken
 .\nDe vliegmiddag is bedoeld voor zowel beginnende als ervaren dronepilote
 n. Het is een mooie gelegenheid om samen te vliegen\, ervaringen uit te wi
 sselen en elkaar te helpen met vragen over drones\, instellingen of access
 oires.\nNaarden-Vesting is één van de best bewaarde vestingsteden van Euro
 pa. De huidige stervormige structuur stamt uit de 17e eeuw en maakte deel 
 uit van de Hollandse Waterlinies. We verzamelen bij Bastion Nieuw Molen\, 
 één van de zes bastions van de vesting. De parkeerplaats ligt bovenop dit 
 bastion.\n☕ Koffie en theeZoals gebruikelijk zorgen we voor koffie en thee
  – gewoon uit de kofferbak.\n📍 AdresParkeerplaats Nieuw Molen op de vestin
 gwalWestwalstraat 11411 PC Naarden\n🧭 Let op – aanrijrouteDe ingang van de
  parkeerplaats ligt rechts van Westwalstraat 1\, 1411 PC Naarden.Sla de op
 rit op\, houd rechts aan tot je boven bent en parkeer bij de beachvlag van
  HCC!drones.\n🌤️ WeersafhankelijkHet evenement gaat alleen door bij goed v
 liegweer. De dag vooraf ontvangen deelnemers een bevestiging per e-mail.\n
 ⚠️ BelangrijkDe club is niet aansprakelijk voor schade aan je drone of aan
  derden. Controleer daarom of je eigen aansprakelijkheidsverzekering in or
 de is. https://hcc.nl/component/rseventspro/evenement/10536-vliegmiddag-na
 arden-vesting?Itemid=101
DTSTART:20260502T110000Z
DTEND:20260502T133000Z
LOCATION:Parkeerplaats Nieuw Molen op de vestingwal (Westwalstraat 1\, 1411
  PC Naarden)
SUMMARY:Vliegmiddag Naarden Vesting
URL:https://hcc.nl/component/rseventspro/evenement/10536-vliegmiddag-naarde
 n-vesting?Itemid=101
END:VEVENT
BEGIN:VEVENT
UID:20260424T181225UTC-7159pzVT9U@https://hcc.nl/
DTSTAMP:20260424T181225Z
DESCRIPTION:Maandelijkse bijeenkomst in verenigingsgebouw De Dissel in Hoog
 landerveen nabij Hoevelaken.De juiste plaats om met elkaar te overleggen o
 ver de robotica hobby.Een enthousiaste groep leden is er iedere maand met 
 diverse robots en andere hardware aan de slag.Er wordt geoefend\, overlegd
  en geknutseld.Beschikbaar zijn faciliteiten om robots te testen en te tra
 inen waaronder een parcours voor lijnvolgen. https://hcc.nl/component/rsev
 entspro/evenement/10587-maandelijkse-bijeenkomst?Itemid=101
DTSTART:20260502T080000Z
DTEND:20260502T140000Z
LOCATION:De Dissel  (Disselplein 8\, 3829 MD Hooglanderveen)
SUMMARY:Maandelijkse bijeenkomst
URL:https://hcc.nl/component/rseventspro/evenement/10587-maandelijkse-bijee
 nkomst?Itemid=101
END:VEVENT
BEGIN:VEVENT
UID:20260424T181225UTC-7159A0Uf1P@https://hcc.nl/
DTSTAMP:20260424T181225Z
DESCRIPTION:Welkom bij  HCC en  de conputerclub van wijkvereniging Oosterho
 f. https://hcc.nl/component/rseventspro/evenement/10685-computerclub-inloo
 p?Itemid=101
DTSTART:20260502T080000Z
DTEND:20260502T120000Z
LOCATION:Huis van de buurt Triton (Jasmijnstraat 36\, 8171 AP Vaassen)
SUMMARY:Computerclub Inloop
URL:https://hcc.nl/component/rseventspro/evenement/10685-computerclub-inloo
 p?Itemid=101
END:VEVENT
BEGIN:VEVENT
UID:20260424T181225UTC-7160IOaLX5@https://hcc.nl/
DTSTAMP:20260424T181225Z
DESCRIPTION:Inloop bijeenkomst https://hcc.nl/component/rseventspro/eveneme
 nt/10706-inloop-bijeenkomst?Itemid=101
DTSTART:20260502T110000Z
DTEND:20260502T150000Z
LOCATION:Olympiagebouw (Olympiaweg 17\, 1816 MJ Alkmaar)
SUMMARY:Inloop bijeenkomst
URL:https://hcc.nl/component/rseventspro/evenement/10706-inloop-bijeenkomst
 ?Itemid=101
END:VEVENT
BEGIN:VEVENT
UID:20260424T181225UTC-7161nUgF1V@https://hcc.nl/
DTSTAMP:20260424T181225Z
DESCRIPTION:Voor meer zelfstandigheid en gemak\nAI is alomtegenwoordig en f
 ungeert steeds meer als een onzichtbare metgezel in ons dagelijks leven. H
 ij is onze persoonlijke assistent die met ons communiceert\, met ons meede
 nkt en ons ondersteunt. AI biedt snelle en gemakkelijke toegang tot een vr
 ijwel onuitputtelijke bron van informatie en kennis\, geeft advies en kan 
 onze taken overnemen.\nDeze technologie is inmiddels diep verweven met onz
 e samenleving en lijkt bijna een voorwaarde om actief te kunnen blijven de
 elnemen. Tegelijkertijd roept dit vragen op: we willen de trein niet misse
 n\, maar weten niet altijd waar deze naartoe gaat.\nDe werkgroep AI-gebrui
 k nodigt je van harte uit deze bijeenkomst bij te wonen.\nOchtendsessieIn 
 de ochtend geeft Stef Boerhout\, een ervaren AI-consultant\, een presentat
 ie met de titel: ‘AI: onze onzichtbare metgezel - voor meer vrijheid\, gem
 ak en zelfstandigheid.’\nUitgangspunt van deze presentatie is de behoefte 
 van de mens. Niet de technologie\, maar de mens staat centraal. Vragen die
  aan bod komen zijn onder andere: hoe blijven we verbonden met anderen en 
 met de wereld om ons heen? Hoe kunnen we in vrijheid veilig\, gezond en ze
 lfstandig leven? En ook hoe behouden met name ouderen zo lang mogelijk de 
 regie over hun dagelijks leven?\nStef neemt ons mee in de vele fascinerend
 e mogelijkheden van AI en geeft een heldere en toegankelijke uitleg. Daarb
 ij laat hij o.a. zien hoe we AI praktisch kunnen toepassen in het dagelijk
 s leven\, bijvoorbeeld met steeds slimmer wordende chatbots zoals Gemini o
 f ChatGPT. En hoe we met AI live gesprekken kunnen voeren. De moderne chat
 bots beantwoorden niet alleen vragen\, maar kunnen ook - door koppelingen 
 met apps en apparaten – (semi) zelfstandig acties uitvoeren. Uiteraard zal
  hij ook aandacht geven aan de beperkingen en de tekortkomingen van AI.\nM
 iddagsessiesIn de middag gaan we actief aan de slag met de opgedane kennis
 . Je kunt kiezen uit twee groepen:Groep 1: Praktisch gebruik van AI-toolsI
 n deze groep staat het dagelijks praktisch gebruik van AI centraal\, met n
 ame chatbots. Deelnemers delen hun kennis en ervaringen met elkaar en same
 n kunnen we interessante AI-tools verkennen. Indien gewenst is er ruimte o
 m apps te installeren en direct te experimenteren.Groep 2: Experimenteren 
 met AI-agentsIn deze groep richten we ons op het experimenteren met en bou
 wen van AI-agents. Een AI-agent is een systeem dat (semi-)zelfstandig besl
 issingen neemt en acties uitvoert om een bepaald doel te bereiken\, vaak m
 et minimale menselijke sturing. Deze technologie is zeer actueel en wordt 
 volop toegepast in het bedrijfsleven.\nWees nieuwsgierigKom langs\, luiste
 r mee en stel gerust je vragen. Je bent van harte welkom\, ook samen met e
 en familielid of introducé. [wg AI-gebruik/rs]\nPSDeze presentatie vervang
 t de eerder aangekondigde presentatie over ‘AI en smartphone’ https://hcc.
 nl/component/rseventspro/evenement/10717-ai-onze-onzichtbare-metgezel?Item
 id=101
DTSTART:20260502T090000Z
DTEND:20260502T133000Z
LOCATION:De Dissel  (Disselplein 8\, 3829 MD Hooglanderveen)
SUMMARY:AI - onze onzichtbare metgezel
URL:https://hcc.nl/component/rseventspro/evenement/10717-ai-onze-onzichtbar
 e-metgezel?Itemid=101
END:VEVENT
BEGIN:VEVENT
UID:20260424T181225UTC-7163LXhH9U@https://hcc.nl/
DTSTAMP:20260424T181225Z
DESCRIPTION:We houden weer een online Pascal sessie. Aanmelden is niet nodi
 g. https://hcc.nl/component/rseventspro/evenement/10733-pascal-sessie?Item
 id=101
DTSTART:20260502T170000Z
DTEND:20260502T200000Z
LOCATION:Online ()
SUMMARY:Pascal sessie
URL:https://hcc.nl/component/rseventspro/evenement/10733-pascal-sessie?Item
 id=101
END:VEVENT
BEGIN:VEVENT
UID:20260424T181225UTC-7164v90DrV@https://hcc.nl/
DTSTAMP:20260424T181225Z
DESCRIPTION:Datum: 2 mei Tijd: vanaf 10:00 Speciaal voor Domotica vragen.\n
 Je bent van harte uitgenodigd voor een inspirerende AI Presentatie en Work
 shop op 3 mei. Tijdens deze sessie duiken we in de nieuwste ontwikkelingen
  op het gebied van kunstmatige intelligentie en ontdek je hoe je AI direct
  kunt toepassen in je eigen werk en projecten.\nWat kun je verwachtenVanaf
  10:00 Een toegankelijke presentatie over de huidige stand van AIPraktisch
 e voorbeelden die je meteen kunt inzettenVanaf 12:30 Een interactieve work
 shop waarin je zelf aan de slag gaatRuimte voor vragen\, experimenteren en
  uitwisseling van ideeënOf je nu al ervaring hebt met AI of gewoon nieuwsg
 ierig bent: iedereen is welkom.\nPraktische informatie📍 Holleblok 2\, 1273
  EG Huizen 🕙 Start om 10:00 uur ☕ Koffie en thee staan klaar\nP.S.Laptop M
 eenemen! https://hcc.nl/component/rseventspro/evenement/10746-ai-voor-jou-
 mij---een-praktische-gids?Itemid=101
DTSTART:20260502T080000Z
DTEND:20260502T100000Z
LOCATION:Wijkcentrum 't Holleblok (Holleblok 2\, 1273 EG Huizen)
SUMMARY:Ai voor Jou & Mij – Een Praktische Gids
URL:https://hcc.nl/component/rseventspro/evenement/10746-ai-voor-jou-mij---
 een-praktische-gids?Itemid=101
END:VEVENT
END:VCALENDAR
