BEGIN:VCALENDAR
VERSION:2.0
PRODID:-//https://hcc.nl///NONSGML kigkonsult.se iCalcreator 2.10.15//
METHOD:PUBLISH
BEGIN:VEVENT
UID:20260425T115006UTC-12115vVuxT@https://hcc.nl/
DTSTAMP:20260425T115006Z
DESCRIPTION: \n\n \nElke desktop\, laptop kan niet werken zonder een Bios e
 n UEFI.\nWat is dat precies en hoe werkt het. Dat wordt door Keith online 
 uitgelegd. \nHEEL INTERESSANT \nDe link www.wij.hcc.nl/nrdned\n  https://h
 cc.nl/component/rseventspro/evenement/10372-online-presentatie-over-de-bio
 s-en-uefi?Itemid=101
DTSTART:20260409T173000Z
DTEND:20260409T190000Z
LOCATION:Online ()
SUMMARY:Online presentatie over de BIOS en UEFI
URL:https://hcc.nl/component/rseventspro/evenement/10372-online-presentatie
 -over-de-bios-en-uefi?Itemid=101
END:VEVENT
BEGIN:VEVENT
UID:20260425T115006UTC-1212w7uh0s@https://hcc.nl/
DTSTAMP:20260425T115006Z
DESCRIPTION:Om digitaal veilig te zijn EN te blijven\, komt er heel veel bi
 j kijken. De ontwikkelingen gaan snel en het valt niet mee om op de hoogte
  te blijven van alle nieuwe en steeds weer slimmere dreigingen\, laat staa
 n hoe je je daartegen moet wapenen. Digitale veiligheid vraagt aandacht al
 lerlei zaken\, die hier dan ook behandeld gaan worden.\nNB: svp van te vor
 en aanmelden via deze link https://hcc.nl/component/rseventspro/evenement/
 10525-digitale-veiligheid-2-de-zwakste-schakel?Itemid=101
DTSTART:20260409T113000Z
DTEND:20260409T130000Z
LOCATION:Online ()
SUMMARY:Digitale veiligheid 2: de zwakste schakel
URL:https://hcc.nl/component/rseventspro/evenement/10525-digitale-veilighei
 d-2-de-zwakste-schakel?Itemid=101
END:VEVENT
BEGIN:VEVENT
UID:20260425T115006UTC-1213dOfGlB@https://hcc.nl/
DTSTAMP:20260425T115006Z
DESCRIPTION:We houden weer een online Python sessie met de cursus voor begi
 nners. Aanmelden is niet nodig. https://hcc.nl/component/rseventspro/evene
 ment/10594-python-sessie-met-cursus-voor-beginners?Itemid=101
DTSTART:20260409T170000Z
DTEND:20260409T210000Z
LOCATION:Online ()
SUMMARY:Python sessie met cursus voor beginners
URL:https://hcc.nl/component/rseventspro/evenement/10594-python-sessie-met-
 cursus-voor-beginners?Itemid=101
END:VEVENT
BEGIN:VEVENT
UID:20260425T115006UTC-1214u7u0km@https://hcc.nl/
DTSTAMP:20260425T115006Z
DESCRIPTION:We nemen allerlei aspecten van video en film maken door https:/
 /hcc.nl/component/rseventspro/evenement/10610-videobewerking?Itemid=101
DTSTART:20260409T173000Z
DTEND:20260409T203000Z
LOCATION:Wijkhuis de Westwijzer  (Cortenbachstraat 70\, 5707 TJ Helmond)
SUMMARY:Videobewerking
URL:https://hcc.nl/component/rseventspro/evenement/10610-videobewerking?Ite
 mid=101
END:VEVENT
BEGIN:VEVENT
UID:20260425T115006UTC-1215VEMrjv@https://hcc.nl/
DTSTAMP:20260425T115006Z
DESCRIPTION:Op 9 april 2026 van 19.30 - 22.00 uur organiseert HCC!ijssellan
 den een inloopbijeenkomst in Zwolle\, Wijkcentrum Holtenbroek\, Bachlaan 2
 0\nZoals vanaf 1 januari 2026 gewoon is dit de eerste  bijeenkomt van de m
 aand april. \nNaast de normale activiteiten op een inloopavond zal er gele
 genheid zijn om vragen over LInux Mint 22.3 te bespreken. \nIedereen harte
 lijk welkom. \nCoördinatieteam HCC!ijssellanden https://hcc.nl/component/r
 seventspro/evenement/10637-zwolle-inloopbijeenkomst?Itemid=101
DTSTART:20260409T173000Z
DTEND:20260409T200000Z
LOCATION:Wijkcentrum Holtenbroek (Bachlaan 20\, 8031 HL Zwolle)
SUMMARY:Zwolle\, inloopbijeenkomst
URL:https://hcc.nl/component/rseventspro/evenement/10637-zwolle-inloopbijee
 nkomst?Itemid=101
END:VEVENT
END:VCALENDAR
