BEGIN:VCALENDAR
VERSION:2.0
PRODID:-//https://hcc.nl///NONSGML kigkonsult.se iCalcreator 2.10.15//
METHOD:PUBLISH
BEGIN:VEVENT
UID:20260424T111754UTC-7573TOsips@https://hcc.nl/
DTSTAMP:20260424T111754Z
DESCRIPTION:De HCC!trainsim organiseert maandelijks een bijeenkomst voor le
 den van de HCC in De Meern. Introducés zijn ook welkom.\nDe zaal is open v
 an 10.00 tot 16.00 uur.\nHet programma voor deze dag is nog niet helemaal 
 bekend en zal ongeveer een week voor de clubdag op onze website en in onze
  nieuwsbrief bekend worden gemaakt.\n  https://hcc.nl/component/rseventspr
 o/evenement/9870-clubdag?Itemid=101
DTSTART:20260321T090000Z
DTEND:20260321T150000Z
LOCATION:Cultureel Centrum De Schalm (Oranjelaan 10\, 3454 BT De Meern)
SUMMARY:Clubdag 
URL:https://hcc.nl/component/rseventspro/evenement/9870-clubdag?Itemid=101
END:VEVENT
BEGIN:VEVENT
UID:20260424T111754UTC-7575BKfenV@https://hcc.nl/
DTSTAMP:20260424T111754Z
DESCRIPTION:Wij verwelkomen u op onze locatie in Soest\,\nRuim van opzet\, 
 met voldoende ruimte om modelspoorbanen op te zetten en workshops en lezin
 gen te houden.\nDeze locatie wordt op door de weekse dagen gebruikt door d
 e EHBO afd. Soest is goed bereikbaar zowel met auto als met NS-spoor (± 10
  min. lopen) achter het pand is een ruime gratis parkeerterrein via de zij
 kant loopt u naar de hoofdingang.\nNaast workshops en demonstraties worden
  er ook lezingen gegeven.\nLezing:      nog onbekend\nWorkshop:  12:30 u K
 oploper voor gevorderden door Chris Burger                   Als je mee wi
 lt doen meld je dan snel aan bij de Workshopcoördinator https://hcc.nl/com
 ponent/rseventspro/evenement/9935-ledenbijeenkomst-in-soest-jaarvergaderin
 g?Itemid=101
DTSTART:20260321T090000Z
DTEND:20260321T140000Z
LOCATION:HCC!m Soest (Molenstraat 8\, 3764 TG Soest)
SUMMARY:Ledenbijeenkomst in Soest + Jaarvergadering
URL:https://hcc.nl/component/rseventspro/evenement/9935-ledenbijeenkomst-in
 -soest-jaarvergadering?Itemid=101
END:VEVENT
BEGIN:VEVENT
UID:20260424T111754UTC-7577tkBoRo@https://hcc.nl/
DTSTAMP:20260424T111754Z
DESCRIPTION:Digitale hulp bij computer\, tablet en smartphone problemen htt
 ps://hcc.nl/component/rseventspro/evenement/10079-inloop-digitale-hulp?Ite
 mid=101
DTSTART:20260321T120000Z
DTEND:20260321T150000Z
LOCATION:Wijkcentrum 't Slot (Kastelenplein 167\, 5653 LX Eindhoven)
SUMMARY:Inloop Digitale hulp
URL:https://hcc.nl/component/rseventspro/evenement/10079-inloop-digitale-hu
 lp?Itemid=101
END:VEVENT
BEGIN:VEVENT
UID:20260424T111754UTC-7578LJ4sJV@https://hcc.nl/
DTSTAMP:20260424T111754Z
DESCRIPTION:Onze Commodore en Amiga liefhebbers zijn natuurlijk ook van har
 te welkom\, later volgt meer info. https://hcc.nl/component/rseventspro/ev
 enement/10118-extra-clubdag-met-atari-invasion?Itemid=101
DTSTART:20260321T090000Z
DTEND:20260321T150000Z
LOCATION:Wijkcentrum  't Schuurtje (Zwanenkamp 1301\, 3607 NZ Maarssen)
SUMMARY:Extra Clubdag met Atari Invasion
URL:https://hcc.nl/component/rseventspro/evenement/10118-extra-clubdag-met-
 atari-invasion?Itemid=101
END:VEVENT
BEGIN:VEVENT
UID:20260424T111754UTC-7578Fzk0V4@https://hcc.nl/
DTSTAMP:20260424T111754Z
DESCRIPTION:In het hart van Nederland maken luchtvaartliefhebbers zich op v
 oor een buitengewone belevenis\, want FSWeekend keert in maart 2026 groots
  terug naar het Aviodrome Museum in Lelystad. Het evenement van dit jaar b
 elooft een luchtvaartervaring te worden zoals je die nog nooit hebt meegem
 aakt!\nFlightSimWeekend 2026 draait volledig om de wereld van vluchtsimula
 tie. Of je nu een doorgewinterde professional bent of net je eerste stappe
 n zet in de virtuele lucht\, FSWeekend heet iedereen welkom om deel te nem
 en aan deze spannende reis. Het evenement is ontworpen voor een breed publ
 iek\, waaronder professionals uit de industrie\, hobbyisten en nieuwkomers
 .\nAviodrome staat in het weekend van 21 en 22 maart volledig in het teken
  van virtueel vliegen. Het hele museum staat vol met flight simulators\, n
 agebouwde cockpits en de nieuwste software om in ieder type vliegtuig de w
 ereld over te vliegen. 200 deelnemers en fabrikanten\, van over de hele we
 reld\, komen dan naar Aviodrome in Lelystad voor het grootste flight simul
 atorevenement ter wereld! En jij als bezoekers mag uiteraard ook een rondj
 e vliegen in de verschillende simulatoren. Met een regulier ticket voor Av
 iodrome heb je toegang tot ze allemaal.\nDe Interessegroep HCC!Flightsimul
 ator is aanwezig met diverse opstellingen. https://hcc.nl/component/rseven
 tspro/evenement/10241-fs-weekend?Itemid=101
DTSTART:20260321T090000Z
DTEND:20260321T160000Z
LOCATION:Aviodrome (Pelikaanweg 50\, 8218 PG Lelystad)
SUMMARY:FS Weekend
URL:https://hcc.nl/component/rseventspro/evenement/10241-fs-weekend?Itemid=
 101
END:VEVENT
BEGIN:VEVENT
UID:20260424T111754UTC-7580wrT2FJ@https://hcc.nl/
DTSTAMP:20260424T111754Z
DESCRIPTION:We houden weer een algemene bijeenkomst bij H.F. Witte.\nOm 13:
 30 uur beginnen we met de gebruikelijke plenaire sessie.\nDeze bijeenkomst
  in De Bilt is niet online te volgen. Aanmelden is niet nodig. https://hcc
 .nl/component/rseventspro/evenement/10304-algemene-bijeenkomst?Itemid=101
DTSTART:20260321T120000Z
DTEND:20260321T160000Z
LOCATION:Cultureel en Vergadercentrum H.F. Witte (Henri Dunantplein 4\, 373
 1 CL De Bilt)
SUMMARY:Algemene bijeenkomst
URL:https://hcc.nl/component/rseventspro/evenement/10304-algemene-bijeenkom
 st?Itemid=101
END:VEVENT
BEGIN:VEVENT
UID:20260424T111754UTC-7581LUgl4V@https://hcc.nl/
DTSTAMP:20260424T111754Z
DESCRIPTION:Onze Commodore en Amiga liefhebbers zijn natuurlijk ook van har
 te welkom!\n https://hcc.nl/component/rseventspro/evenement/10319-extra-cl
 ubdag-met-atari-invasion?Itemid=101
DTSTART:20260321T090000Z
DTEND:20260321T150000Z
LOCATION:Wijkcentrum  't Schuurtje (Zwanenkamp 1301\, 3607 NZ Maarssen)
SUMMARY:Extra Clubdag met Atari Invasion
URL:https://hcc.nl/component/rseventspro/evenement/10319-extra-clubdag-met-
 atari-invasion?Itemid=101
END:VEVENT
BEGIN:VEVENT
UID:20260424T111754UTC-7582unz0LP@https://hcc.nl/
DTSTAMP:20260424T111754Z
DESCRIPTION:Bijeenkomst 21 Maart https://hcc.nl/component/rseventspro/evene
 ment/10389-bijeenkomst?Itemid=101
DTSTART:20260321T120000Z
DTEND:20260321T160000Z
LOCATION:Cultureel en Vergadercentrum H.F. Witte (Henri Dunantplein 4\, 373
 1 CL De Bilt)
SUMMARY:Bijeenkomst 
URL:https://hcc.nl/component/rseventspro/evenement/10389-bijeenkomst?Itemid
 =101
END:VEVENT
BEGIN:VEVENT
UID:20260424T111754UTC-7582DAWFMj@https://hcc.nl/
DTSTAMP:20260424T111754Z
DESCRIPTION:Inloopbijeenkomst https://hcc.nl/component/rseventspro/evenemen
 t/10457-inloopbijeenkomst?Itemid=101
DTSTART:20260321T120000Z
DTEND:20260321T160000Z
LOCATION:Olympiagebouw (Olympiaweg 17\, 1816 MJ Alkmaar)
SUMMARY:Inloopbijeenkomst
URL:https://hcc.nl/component/rseventspro/evenement/10457-inloopbijeenkomst?
 Itemid=101
END:VEVENT
BEGIN:VEVENT
UID:20260424T111754UTC-7583MSuelf@https://hcc.nl/
DTSTAMP:20260424T111754Z
DESCRIPTION:We houden weer een online Pascal sessie. Aanmelden is niet nodi
 g. https://hcc.nl/component/rseventspro/evenement/10516-pascal-sessie?Item
 id=101
DTSTART:20260321T180000Z
DTEND:20260321T210000Z
LOCATION:Online ()
SUMMARY:Pascal sessie
URL:https://hcc.nl/component/rseventspro/evenement/10516-pascal-sessie?Item
 id=101
END:VEVENT
BEGIN:VEVENT
UID:20260424T111754UTC-7584vPHUje@https://hcc.nl/
DTSTAMP:20260424T111754Z
DESCRIPTION:Ook gaan we de komende tijd op meerdere fysieke bijeenkomsten i
 nformatie geven over hoe je met Linux veilig gebruik kunt blijven maken va
 n heel oude Macs. We hebben dit als bestuur van HCC!apple besloten omdat d
 e belangstelling hiervoor overdag tijdens de regiodag in Assen enorm groot
  was. Daarom houdt HCC!apple voor het eerst op zaterdag 21 maart van 13:00
  tot 16:00u een zaterdagmiddag inloop met een helpdesk en uitleg hoe je ee
 n oude Mac met Intel processor veilig kunt blijven gebruiken met Linux. Oo
 k de Linux werkgroep van HCC!utrecht is dan aanwezig met diverse onderwerp
 en in Fort Vreeswijk 1 in Nieuwegein. Je kunt daar gratis parkeren. Gebrui
 k wel even een online routeplanner omdat er i.v.m. werkzaamheden enkele br
 uggen zijn afgesloten. https://hcc.nl/component/rseventspro/evenement/1052
 8-nieuwe-zaterdagmiddag-inloop-op-21-maart-in-nieuwegein?Itemid=101
DTSTART:20260321T120000Z
DTEND:20260321T150000Z
LOCATION:Dorpshuis Fort Vreeswijk (Fort Vreeswijk 1\, 3433 ZZ Nieuwegein)
SUMMARY:Nieuwe zaterdagmiddag inloop op 21 maart in Nieuwegein
URL:https://hcc.nl/component/rseventspro/evenement/10528-nieuwe-zaterdagmid
 dag-inloop-op-21-maart-in-nieuwegein?Itemid=101
END:VEVENT
BEGIN:VEVENT
UID:20260424T111754UTC-7585Hl56kc@https://hcc.nl/
DTSTAMP:20260424T111754Z
DESCRIPTION:Zaterdag 21 maart zien we elkaar weer in Nieuwegein.\nVanaf dez
 e bijeenkomst zitten we in grotere zaal boven.Via de trap kom je automatis
 ch bij de zaal boven uit.Indien gewenst kan er ook gebruikgemaakt worden v
 an de lift. https://hcc.nl/component/rseventspro/evenement/10565-werkgroep
 -linux-regio-utrecht?Itemid=101
DTSTART:20260321T120000Z
DTEND:20260321T150000Z
LOCATION:Dorpshuis Fort Vreeswijk (Fort Vreeswijk 1\, 3433 ZZ Nieuwegein)
SUMMARY:Werkgroep Linux regio Utrecht
URL:https://hcc.nl/component/rseventspro/evenement/10565-werkgroep-linux-re
 gio-utrecht?Itemid=101
END:VEVENT
END:VCALENDAR
