BEGIN:VCALENDAR
VERSION:2.0
PRODID:-//https://hcc.nl///NONSGML kigkonsult.se iCalcreator 2.10.15//
METHOD:PUBLISH
BEGIN:VEVENT
UID:20260421T204213UTC-3666rvhe8e@https://hcc.nl/
DTSTAMP:20260421T204213Z
DESCRIPTION:Bijeenkomst videowerkgroep TVG Haarlem\, Evaluatie Henk Heesema
 ns Trofee (Besloten bijeenkomst)\nDe HCC!kennemerland Videogroep TVG Haarl
 em is een groep van amateurvideomakers.\nMaandelijks komt deze videogroep 
 bijeen om video's van elkaar te bespreken en ervan te leren. Ook zijn er v
 oor presentaties over opname- en bewerkingstechnieken en over nuttige soft
 ware.\nNaast de maandelijkse bijeenkomsten wordt ieder jaar een project ge
 organiseerd waaraan het hele jaar gewerkt wordt. In het verleden betrof di
 t vooral de montage van opgenomen beelden\, maar de laatste jaren is de aa
 ndacht verlegd naar het maken van korte films. Vaak gebeurt dit in kleine 
 groepjes\, maar ook wel individueel.\nIn maart wordt de uitslag van februa
 ri besproken.\nOmdat er nog wordt gewerkt aan de afronding van afgelopen j
 aar is dit een besloten bijeenkomst. https://hcc.nl/component/rseventspro/
 evenement/9987-videowerkgroep-tvg-besloten-bijeenkomst?Itemid=101
DTSTART:20260306T123000Z
DTEND:20260306T150000Z
LOCATION: Wijkcentrum De Wereld (Laan van Berlijn 1\, 2034 SB Haarlem)
SUMMARY:Videowerkgroep TVG  (Besloten bijeenkomst)
URL:https://hcc.nl/component/rseventspro/evenement/9987-videowerkgroep-tvg-
 besloten-bijeenkomst?Itemid=101
END:VEVENT
BEGIN:VEVENT
UID:20260421T204213UTC-36677abusf@https://hcc.nl/
DTSTAMP:20260421T204213Z
DESCRIPTION:We houden weer een online games programmeren sessie. Aanmelden 
 is niet nodig. https://hcc.nl/component/rseventspro/evenement/10435-games-
 programmeren-sessie?Itemid=101
DTSTART:20260306T190000Z
DTEND:20260306T210000Z
LOCATION:Online ()
SUMMARY:Games programmeren sessie
URL:https://hcc.nl/component/rseventspro/evenement/10435-games-programmeren
 -sessie?Itemid=101
END:VEVENT
BEGIN:VEVENT
UID:20260421T204213UTC-36673jvktT@https://hcc.nl/
DTSTAMP:20260421T204213Z
DESCRIPTION:De HCC!kennemerland Videogroep TVG Haarlem is een groep van ama
 teurvideomakers.\nMaandelijks komt deze videogroep bijeen om video's van e
 lkaar te bespreken en ervan te leren. Ook zijn er voor presentaties over o
 pname- en bewerkingstechnieken en over nuttige software.\nNaast de maandel
 ijkse bijeenkomsten wordt ieder jaar een project georganiseerd waaraan het
  hele jaar gewerkt wordt. In het verleden betrof dit vooral de montage van
  opgenomen beelden\, maar de laatste jaren is de aandacht verlegd naar het
  maken van korte films. Vaak gebeurt dit in kleine groepjes\, maar ook wel
  individueel.\nIn maart wordt de uitslag van februari besproken. https://h
 cc.nl/component/rseventspro/evenement/10454-bijeenkomst-videowerkgroep-tvg
 -haarlem-evaluatie-henk-heesemans-trofee?Itemid=101
DTSTART:20260306T123000Z
DTEND:20260306T150000Z
LOCATION: Wijkcentrum De Wereld (Laan van Berlijn 1\, 2034 SB Haarlem)
SUMMARY:Bijeenkomst videowerkgroep TVG Haarlem\, Evaluatie Henk Heesemans T
 rofee
URL:https://hcc.nl/component/rseventspro/evenement/10454-bijeenkomst-videow
 erkgroep-tvg-haarlem-evaluatie-henk-heesemans-trofee?Itemid=101
END:VEVENT
END:VCALENDAR
