BEGIN:VCALENDAR
VERSION:2.0
PRODID:-//https://hcc.nl///NONSGML kigkonsult.se iCalcreator 2.10.15//
METHOD:PUBLISH
BEGIN:VEVENT
UID:20260424T183732UTC-4310m5Znub@https://hcc.nl/
DTSTAMP:20260424T183732Z
DESCRIPTION:We houden weer een online games programmeren sessie met Game en
  Web Design. Aanmelden is niet nodig. https://hcc.nl/component/rseventspro
 /evenement/10167-online-games-programmeren-sessie-met-game-en-web-design?I
 temid=101
DTSTART:20260227T190000Z
DTEND:20260227T210000Z
LOCATION:Online ()
SUMMARY:Online games programmeren sessie met Game en Web Design
URL:https://hcc.nl/component/rseventspro/evenement/10167-online-games-progr
 ammeren-sessie-met-game-en-web-design?Itemid=101
END:VEVENT
BEGIN:VEVENT
UID:20260424T183732UTC-4312t8GVEZ@https://hcc.nl/
DTSTAMP:20260424T183732Z
DESCRIPTION:We houden weer een online algemene sessie. Aanmelden is niet no
 dig. https://hcc.nl/component/rseventspro/evenement/10310-algemene-sessie?
 Itemid=101
DTSTART:20260210T183000Z
DTEND:20260227T210000Z
LOCATION:Online ()
SUMMARY:Algemene sessie 
URL:https://hcc.nl/component/rseventspro/evenement/10310-algemene-sessie?It
 emid=101
END:VEVENT
END:VCALENDAR
