BEGIN:VCALENDAR
VERSION:2.0
PRODID:-//https://hcc.nl///NONSGML kigkonsult.se iCalcreator 2.10.15//
METHOD:PUBLISH
BEGIN:VEVENT
UID:20260424T212713UTC-9772TCVvSs@https://hcc.nl/
DTSTAMP:20260424T212713Z
DESCRIPTION:Inloop en Open Source https://hcc.nl/component/rseventspro/even
 ement/10297-inloop-open-source?Itemid=101
DTSTART:20260226T183000Z
DTEND:20260226T203000Z
LOCATION:De Maatjes Zevenaar (Kardinaal de Jongstraat 4\, 6904 BE Zevenaar)
SUMMARY:Inloop\, Open source
URL:https://hcc.nl/component/rseventspro/evenement/10297-inloop-open-source
 ?Itemid=101
END:VEVENT
BEGIN:VEVENT
UID:20260424T212713UTC-9774d8ueFg@https://hcc.nl/
DTSTAMP:20260424T212713Z
DESCRIPTION:Inloop en Open Source https://hcc.nl/component/rseventspro/even
 ement/10299-inloop-open-source?Itemid=101
DTSTART:20260226T183000Z
DTEND:20260226T203000Z
LOCATION:De Maatjes Zevenaar (Kardinaal de Jongstraat 4\, 6904 BE Zevenaar)
SUMMARY:Inloop\, Open source
URL:https://hcc.nl/component/rseventspro/evenement/10299-inloop-open-source
 ?Itemid=101
END:VEVENT
BEGIN:VEVENT
UID:20260424T212713UTC-97759OZENG@https://hcc.nl/
DTSTAMP:20260424T212713Z
DESCRIPTION:We houden weer een online algemene sessie. Aanmelden is niet no
 dig. https://hcc.nl/component/rseventspro/evenement/10310-algemene-sessie?
 Itemid=101
DTSTART:20260210T183000Z
DTEND:20260227T210000Z
LOCATION:Online ()
SUMMARY:Algemene sessie 
URL:https://hcc.nl/component/rseventspro/evenement/10310-algemene-sessie?It
 emid=101
END:VEVENT
BEGIN:VEVENT
UID:20260424T212713UTC-9775ZpihkM@https://hcc.nl/
DTSTAMP:20260424T212713Z
DESCRIPTION:Beste mensen\,\nOp donderdagavond 26 februari 2026 van 19.30 - 
 22.00 uur wil één van onze leden een presentatie geven over het maken van 
 reisverhalen voor website en presentaties met behulp van foto's. En natuur
 lijk wordt dan besproken met welke computerprogramma's je dit voor elkaar 
 kunt krijgen. Bijvoorbeeld bijschriften bij foto's maken en dergelijke.\nW
 e komen weer bij elkaar in Wijkcentrum Holtenbroek\, Bachlaan 20. https://
 hcc.nl/component/rseventspro/evenement/10328-presentatie-reisverhalen-met-
 fotos?Itemid=101
DTSTART:20260226T183000Z
DTEND:20260226T210000Z
LOCATION:Wijkcentrum Holtenbroek (Bachlaan 20\, 8031 HL Zwolle)
SUMMARY:Presentatie: Reisverhalen met foto's.
URL:https://hcc.nl/component/rseventspro/evenement/10328-presentatie-reisve
 rhalen-met-fotos?Itemid=101
END:VEVENT
BEGIN:VEVENT
UID:20260424T212713UTC-9777cwgjsl@https://hcc.nl/
DTSTAMP:20260424T212713Z
DESCRIPTION:Maandelijkse bijeenkomst Videoclub Apeldoorn.\nWetenswaardighed
 en rond video-techniek.\nOpen toegang voor HCC Leden.\nAanvang: 20:00u htt
 ps://hcc.nl/component/rseventspro/evenement/10344-fotovideo?Itemid=101
DTSTART:20260226T190000Z
DTEND:20260226T210000Z
LOCATION:NewTechPark (Vlijtseweg 148\, 7317 AK Apeldoorn)
SUMMARY:FotoVideo
URL:https://hcc.nl/component/rseventspro/evenement/10344-fotovideo?Itemid=1
 01
END:VEVENT
BEGIN:VEVENT
UID:20260424T212713UTC-9778XVcJxn@https://hcc.nl/
DTSTAMP:20260424T212713Z
DESCRIPTION:We houden weer een online Python sessie met de cursus voor begi
 nners. Aanmelden is niet nodig. https://hcc.nl/component/rseventspro/evene
 ment/10399-python-sessie-met-cursus-voor-beginners?Itemid=101
DTSTART:20260226T180000Z
DTEND:20260226T220000Z
LOCATION:Online ()
SUMMARY:Python sessie met cursus voor beginners
URL:https://hcc.nl/component/rseventspro/evenement/10399-python-sessie-met-
 cursus-voor-beginners?Itemid=101
END:VEVENT
END:VCALENDAR
