BEGIN:VCALENDAR
VERSION:2.0
PRODID:-//https://hcc.nl///NONSGML kigkonsult.se iCalcreator 2.10.15//
METHOD:PUBLISH
BEGIN:VEVENT
UID:20260426T000216UTC-4397J3ux5R@https://hcc.nl/
DTSTAMP:20260426T000216Z
DESCRIPTION:Deze middag heeft HCC!midden-brabant weer de gebruikelijke inlo
 opmiddag samen met Computer Vrienden Oisterwijk (C.V.O. / PTCC). Vanaf 13.
 30 uur tot ongeveer 16.00 uur kunt u hiervoor terecht in wijkcentrum 'de P
 annenschuur' aan de Lavendel 9 te 5061WB Oisterwijk. (parkeren kan voor de
  deur).\nDeze extra inloopzaterdag is\, naast de leden van C.V.O./PTCC\, v
 rij toegankelijk voor al onze HCC-leden\;U bent van harte welkom.Ook op de
  locatie 'de Pannenschuur' staat de koffie weer klaar !Locatie: zaal 'De P
 annenschuur'\, Lavendel 9 te 5061WB Oisterwijk.Zaal open: 13.30 - 16.00 uu
 r. https://hcc.nl/agenda/evenement/9385-clubmiddag
DTSTART:20260103T123000Z
DTEND:20260103T150000Z
LOCATION:Wijkcentrum de Pannenschuur (Lavendel 9\, 5061 WB Oisterwijk)
SUMMARY:Clubmiddag 
URL:https://hcc.nl/agenda/evenement/9385-clubmiddag
END:VEVENT
BEGIN:VEVENT
UID:20260426T000216UTC-4398429SBA@https://hcc.nl/
DTSTAMP:20260426T000216Z
DESCRIPTION:Maandelijkse bijeenkomst in verenigingsgebouw De Dissel in Hoog
 landerveen nabij Hoevelaken.De juiste plaats om met elkaar te overleggen o
 ver de robotica hobby.Een enthousiaste groep leden is er iedere maand met 
 diverse robots en andere hardware aan de slag.Er wordt geoefend\, overlegd
  en geknutseld.Beschikbaar zijn faciliteiten om robots te testen en te tra
 inen waaronder een parcours voor lijnvolgen.\n  https://hcc.nl/agenda/even
 ement/9556-maandelijkse-bijeenkomst
DTSTART:20260103T080000Z
DTEND:20260103T140000Z
LOCATION:De Dissel  (Disselplein 8\, 3829 MD Hooglanderveen)
SUMMARY:Maandelijkse bijeenkomst
URL:https://hcc.nl/agenda/evenement/9556-maandelijkse-bijeenkomst
END:VEVENT
BEGIN:VEVENT
UID:20260426T000216UTC-4399P3c4i8@https://hcc.nl/
DTSTAMP:20260426T000216Z
DESCRIPTION:Hulp bij computerproblemen https://hcc.nl/agenda/evenement/9758
 -inloop-digitale-hulp
DTSTART:20260105T130000Z
DTEND:20260105T143000Z
LOCATION:Bibliotheek Leersum  (Hoflaan 31\, 3956 ED Leersum)
SUMMARY:Inloop Digitale hulp
URL:https://hcc.nl/agenda/evenement/9758-inloop-digitale-hulp
END:VEVENT
BEGIN:VEVENT
UID:20260426T000216UTC-4400uPpvSK@https://hcc.nl/
DTSTAMP:20260426T000216Z
DESCRIPTION:In verband met de te verwachten slechte weersomstandigheden wor
 dt deze bijeenkomst verplaatst naar maandag 12 januari a.s.\nFS Rijnmond i
 n de oude - HCC onafhankelijke vorm -  is op 31 december 2025 beëindigd.. 
 Dit geldt ook voor de website.\nMaandelijkse bijeenkomst blijft!\nBerichtg
 eving over de maandelijkse bijeenkomst nu rechtstreeks in HCC-Nieuwsbrief 
 en aan e-mailadresdoor HCC-Rijnmond Flightsimulator.   Coordinator Ruuth B
 rouwer.\nOnline vliegen.\nElke zondagavond en 2 keer per maand op woensdag
 avond. (buiten HCC verband!)zonder ATC\, laagdrempelig - gezellig - samen 
 VFR/IFR vliegen met GA vliegtuig naar eigen keuze..Ondersteuning vooraf- e
 n tijdens de vlucht mogelijk.Als je hier meer over wilt weten of meedoen\,
  kijk dan op www.multiplayerpilots.nl\nOnze inloop is bedoeld voor iederee
 n die praktische hulp en ondersteuning nodig heeft bij het gebruik van dig
 itale apparatuur\, zoals desktop\, laptop\, tablet en smartphone.\nTe denk
 en valt aan:\n- opschonen van uw computer- updates downloaden- apps instal
 leren- accounts aanmaken op uw apparaten (breng dan wel uw gegevens mee)- 
 e-mail problemen- instellingen aanpassen\nOnze deskundigen zitten klaar om
  u met raad en daad terzijde te staan. https://hcc.nl/agenda/evenement/977
 2-inloop-en-digitale-hulp-en-fs-rijnmond-afgelast
DTSTART:20260105T183000Z
DTEND:20260105T210000Z
LOCATION:Huis van de Wijk Oostgaarde (De Linie 5\, 2905 AX Capelle aan den 
 IJssel)
SUMMARY:Inloop en Digitale hulp en FS Rijnmond = AFGELAST
URL:https://hcc.nl/agenda/evenement/9772-inloop-en-digitale-hulp-en-fs-rijn
 mond-afgelast
END:VEVENT
BEGIN:VEVENT
UID:20260426T000216UTC-44026vusVh@https://hcc.nl/
DTSTAMP:20260426T000216Z
DESCRIPTION:De HCC!trainsim organiseert maandelijks een bijeenkomst voor le
 den van de HCC in De Meern. Introducés zijn ook welkom.\nDe zaal is open v
 an 10.00 tot 16.00 uur.\nHet programma voor deze dag is nog niet helemaal 
 bekend en zal ongeveer een week voor de clubdag op onze website en in onze
  nieuwsbrief bekend worden gemaakt.\n  https://hcc.nl/agenda/evenement/987
 1-clubdag
DTSTART:20260103T080000Z
DTEND:20260103T140000Z
LOCATION:Cultureel Centrum De Schalm (Oranjelaan 10\, 3454 BT De Meern)
SUMMARY:Clubdag 
URL:https://hcc.nl/agenda/evenement/9871-clubdag
END:VEVENT
BEGIN:VEVENT
UID:20260426T000216UTC-4403ucen24@https://hcc.nl/
DTSTAMP:20260426T000216Z
DESCRIPTION:Presentatie over een computergerelateerd onderwerp. Zie ook onz
 e nieuwsbrief. https://hcc.nl/agenda/evenement/9991-lezingen-presentaties-
 vervalt-ivm-slechte-weersomstandigheden
DTSTART:20260105T190000Z
DTEND:20260105T210000Z
LOCATION:Wijkcentrum 't Slot (Kastelenplein 167\, 5653 LX Eindhoven)
SUMMARY:Lezingen/ presentaties (VERVALT IVM SLECHTE WEERSOMSTANDIGHEDEN)
URL:https://hcc.nl/agenda/evenement/9991-lezingen-presentaties-vervalt-ivm-
 slechte-weersomstandigheden
END:VEVENT
BEGIN:VEVENT
UID:20260426T000216UTC-4404OH8vfd@https://hcc.nl/
DTSTAMP:20260426T000216Z
DESCRIPTION:Oefenen en gezellig samen vliegen https://hcc.nl/agenda/eveneme
 nt/9994-fs-vliegdag
DTSTART:20260103T090000Z
DTEND:20260103T153000Z
LOCATION:Wijkcentrum 't Slot (Kastelenplein 167\, 5653 LX Eindhoven)
SUMMARY:FS vliegdag
URL:https://hcc.nl/agenda/evenement/9994-fs-vliegdag
END:VEVENT
BEGIN:VEVENT
UID:20260426T000216UTC-4404Vnubdu@https://hcc.nl/
DTSTAMP:20260426T000216Z
DESCRIPTION:Beste mensen\,\nIn verband met de barre weersomstandigheden (co
 de Oranje) hebben we in goed overleg de bijeenkomst van maandag 5 januari 
 2026 in de Burgerij in Vlissingen afgelast.\nWe hopen jullie weer te kunne
 n ontmoeten op maandag 2 februari 2026 en hebben ook dan weer een interess
 ant programma te bieden.\nNamens de Werkgroepleden\nJan Remijn\, Joke de P
 riester\, Erik Mulder en Paul Lockefeir\,\nHan Bleyenbergh https://hcc.nl/
 agenda/evenement/10028-bijeenkomst-afgelast-ivm-code-oranje
DTSTART:20260105T183000Z
DTEND:20260105T210000Z
LOCATION:De Burgerij Campus de Ruyter  (Van Hogendorpweg 58\, 4384 HA Vliss
 ingen)
SUMMARY:Bijeenkomst AFGELAST IVM CODE ORANJE
URL:https://hcc.nl/agenda/evenement/10028-bijeenkomst-afgelast-ivm-code-ora
 nje
END:VEVENT
BEGIN:VEVENT
UID:20260426T000216UTC-4405IC57cU@https://hcc.nl/
DTSTAMP:20260426T000216Z
DESCRIPTION:We houden weer een online algemene sessie. Aanmelden is niet no
 dig. https://hcc.nl/agenda/evenement/10040-algemene-sessie-programmeren
DTSTART:20251230T183000Z
DTEND:20251230T210000Z
LOCATION:Online ()
SUMMARY:Algemene sessie programmeren
URL:https://hcc.nl/agenda/evenement/10040-algemene-sessie-programmeren
END:VEVENT
BEGIN:VEVENT
UID:20260426T000216UTC-4406pKG1DU@https://hcc.nl/
DTSTAMP:20260426T000216Z
DESCRIPTION:In verband met de weersomstandigheden gaat deze bijeenkomst NIE
 T door! De presentaties zullen de volgende keer\, maandagochtend 2 februar
 i\, worden gegeven.\nVoor de pauze bespreekt Isja Nederbragt een aantal ve
 elgebruikte fotobewerkingsprogramma's. Voor Linux zijn heel wat van dit so
 ort programma's beschikbaar. Ze doen in niets onder voor soortgelijke prog
 ramma's in Windows. Het vraagt alleen wel tijd en inspanning om de oversta
 p te maken\, want alles is een beetje anders.Deze presentatie biedt hulp b
 ij het kiezen van fotobewerkingsprogramma’s. Een aantal veelgebruikte prog
 ramma’s passeert de revue\, waarbij de nadruk wordt gelegd op waar ze goed
  in zijn.  Uitgangspunt hierbij is Linux Mint Cinnamon 22. Het kan zijn da
 t het in andere Linux varianten net wat anders gaat. Alle programma’s hebb
 en een (online) handleiding.\nNa de pauze laat Ton Valkenburgh zien hoe he
 t beheer en fotobewerking vanuit Windows kan worden gemigreerd naar Linux.
  Hij laat zien hoe de fotocollectie in Organizer van Adobe Photoshop Eleme
 nts kan worden omgezet naar een Linux-omgeving. Er  worden zoveel mogelijk
  gegevens uit Photoshop overgezet zonder gebruik te maken van extra gereed
 schap. Na de migratie kunt je je fotocollectie beheren en bewerken onder L
 inux. Je hebt dus de zelfde functionaliteit die je had in Windows.De aanpa
 k is ook toepasbaar voor de uitgebreide combinatie van Bridge/Photoshop.\n
 De zaal is open vanaf 09:00 uur.\nDe eerste presentatie begint om 09:30\n 
 https://hcc.nl/agenda/evenement/10041-presentaties-fotografische-software-
 in-linux-vervalt-ivm-slechte-weersomstandigheden
DTSTART:20260105T083000Z
DTEND:20260105T103000Z
LOCATION:HCC Leiderdorp (Van der Marckstraat 19\, 2352 RA Leiderdorp)
SUMMARY:Presentaties fotografische software in Linux (VERVALT IVM SLECHTE W
 EERSOMSTANDIGHEDEN)
URL:https://hcc.nl/agenda/evenement/10041-presentaties-fotografische-softwa
 re-in-linux-vervalt-ivm-slechte-weersomstandigheden
END:VEVENT
BEGIN:VEVENT
UID:20260426T000216UTC-4407mJKHaR@https://hcc.nl/
DTSTAMP:20260426T000216Z
DESCRIPTION:Op de eerste maandag van de maand digicafé in Tisselt.\nHet alg
 emene programma:\ninternet\, lokaal netwerk\, connectiviteit\;installatie 
 of configuratie van hard- en software\;Windows PC/laptop\, ...Linux (Ubunt
 u\, Mint\, Fedora\, ...) & Open Source\;Tablet\, smartphone -- Android\, i
 OS\, ... \nElke geïnteresseerde computer- / tablet- / smartphone-gebruiker
  is welkom: om de sfeer te proeven\, om kennis te maken met onze leden en 
 hun ICT-bezigheden\, om ervaringen uit te wisselen\, om nieuwe dingen te o
 ntdekken en om oplossingen voor hard- en softwarevraagstukken te vinden. h
 ttps://hcc.nl/agenda/evenement/10048-fanfarelokaal-bingo
DTSTART:20260105T190000Z
DTEND:20260105T220000Z
LOCATION:Fanfarelokaal Bingo (Blaasveldstraat  29 \, 2830 TI Tisselt)
SUMMARY:Fanfarelokaal Bingo
URL:https://hcc.nl/agenda/evenement/10048-fanfarelokaal-bingo
END:VEVENT
BEGIN:VEVENT
UID:20260426T000216UTC-4408JMrDuH@https://hcc.nl/
DTSTAMP:20260426T000216Z
DESCRIPTION:Inloopbijeenkomst https://hcc.nl/agenda/evenement/10103-inloopb
 ijeenkomst
DTSTART:20260103T120000Z
DTEND:20260103T160000Z
LOCATION:Olympiagebouw (Olympiaweg 17\, 1816 MJ Alkmaar)
SUMMARY:Inloopbijeenkomst
URL:https://hcc.nl/agenda/evenement/10103-inloopbijeenkomst
END:VEVENT
BEGIN:VEVENT
UID:20260426T000216UTC-4409Gm16fU@https://hcc.nl/
DTSTAMP:20260426T000216Z
DESCRIPTION:We houden weer een online Hardware sessie. Aanmelden is niet no
 dig. https://hcc.nl/agenda/evenement/10105-hardware-sessie
DTSTART:20260105T183000Z
DTEND:20260105T210000Z
LOCATION:Online ()
SUMMARY:Hardware sessie
URL:https://hcc.nl/agenda/evenement/10105-hardware-sessie
END:VEVENT
BEGIN:VEVENT
UID:20260426T000216UTC-4410EkaBxv@https://hcc.nl/
DTSTAMP:20260426T000216Z
DESCRIPTION:We houden weer een online Visual Basic sessie. Aanmelden is nie
 t nodig. https://hcc.nl/agenda/evenement/10106-visual-basic-sessie
DTSTART:20260105T190000Z
DTEND:20260105T210000Z
LOCATION:Online ()
SUMMARY:Visual Basic sessie
URL:https://hcc.nl/agenda/evenement/10106-visual-basic-sessie
END:VEVENT
BEGIN:VEVENT
UID:20260426T000216UTC-44103iOKvE@https://hcc.nl/
DTSTAMP:20260426T000216Z
DESCRIPTION:We houden weer een online Pascal sessie. Aanmelden is niet nodi
 g. https://hcc.nl/agenda/evenement/10111-pascal-sessie
DTSTART:20260103T180000Z
DTEND:20260103T210000Z
LOCATION:Online ()
SUMMARY:Pascal sessie
URL:https://hcc.nl/agenda/evenement/10111-pascal-sessie
END:VEVENT
BEGIN:VEVENT
UID:20260426T000216UTC-4411kwgh8o@https://hcc.nl/
DTSTAMP:20260426T000216Z
DESCRIPTION:We houden weer een online games programmeren sessie. Aanmelden 
 is niet nodig. https://hcc.nl/agenda/evenement/10115-games-programmeren-se
 ssie
DTSTART:20260102T190000Z
DTEND:20260102T210000Z
LOCATION:Online ()
SUMMARY:Games programmeren sessie
URL:https://hcc.nl/agenda/evenement/10115-games-programmeren-sessie
END:VEVENT
BEGIN:VEVENT
UID:20260426T000216UTC-4411f0Mei2@https://hcc.nl/
DTSTAMP:20260426T000216Z
DESCRIPTION:Op elke 1e zaterdag v/d maand is het FS Haaglanden clubmiddag i
 n onze Voorburg hangar De Groene Loper\, waar wordt gevlogen en voorbeeld 
 lessen zijn te volgen.\nAls traditiegetrouw zal eerst een nieuwjaartoast w
 orden uitgebracht op het nieuwe flightsimulator jaar met geestveruimende p
 rikkels en een hapje.\nHet karakter van deze middag is een vrije sessie wa
 ar minimaal twee vliegcomputers met toebehoren worden opgesteld\, alsmede 
 een ruime koffietafel waar leden alles vrijblijvend omtrent de flightsim h
 obby kunnen bespreken.\nLeden met hardware problemen kunnen hier ook terec
 ht voor technische ondersteuning\, mits vooraf aangekondigd.\nOnze website
  vind u hier. https://hcc.nl/agenda/evenement/10116-fs-haaglanden-bijeenko
 mst
DTSTART:20260103T110000Z
DTEND:20260103T153000Z
LOCATION:Hangar De Groene Loper (van Royenstraat 2\, 2273 VD Voorburg)
SUMMARY:FS Haaglanden Bijeenkomst
URL:https://hcc.nl/agenda/evenement/10116-fs-haaglanden-bijeenkomst
END:VEVENT
BEGIN:VEVENT
UID:20260426T000216UTC-44138dViAo@https://hcc.nl/
DTSTAMP:20260426T000216Z
DESCRIPTION:Waarom de nieuwste Android-versie essentieel isHet updaten naar
  de nieuwste Android-versie (zoals Android 15 of 16) biedt veel meer dan a
 lleen een nieuw uiterlijk. Hieronder staan de belangrijkste redenen waarom
  je dit zou moeten doen.\n1. Beveiliging tegen moderne criminaliteitNederl
 and kampt met veel digitale fraude (zoals bankhelpdeskfraude en phishing).
  De nieuwste versies bieden:\nAI-Diefstaldetectie: Je telefoon herkent via
  sensoren of iemand hem uit je hand grist en op de vlucht slaat. Het toest
 el vergrendelt dan direct automatisch.Identiteitscontrole: Buiten je 'vert
 rouwde locaties' (zoals thuis) vereist de telefoon vaker biometrische gege
 vens (vingerafdruk) voor gevoelige instellingen\, zelfs als de dief je pin
 code kent.Bescherming tegen fraude: Nieuwe versies blokkeren verdachte app
 s die proberen mee te kijken met je scherm terwijl je inlogt op je bank-ap
 p.2. Privacy: De 'Private Space'Veel Nederlanders gebruiken hun telefoon z
 owel privé als voor werk. Private Space: Hiermee kun je een digitale kluis
  maken voor apps zoals DigiD\, bank-apps of dating-apps. Deze apps zijn vo
 lledig onzichtbaar in je normale app-lijst en meldingen totdat je de kluis
  opent met een aparte code of vingerafdruk.3. Geoptimaliseerd voor Nederla
 ndse infrastructuurOV-Pay en NFC: Nieuwere versies verbeteren de snelheid 
 en betrouwbaarheid van de NFC-chip. Dit is essentieel voor het probleemloo
 s in- en uitchecken in het Nederlandse openbaar vervoer met je telefoon.5G
 -efficiëntie: De software gaat slimmer om met 5G-verbindingen\, waardoor j
 e batterij minder snel leegloopt terwijl je profiteert van de hoge snelhed
 en van de Nederlandse netwerken.4. Slimme AI-functies (Gemini)De nieuwste 
 updates integreren Google's AI (Gemini) dieper in het systeem:Live-samenva
 ttingen: Laat de AI een lang artikel of een lange e-mailthread in het Nede
 rlands samenvatten.\nSchermbewustzijn: De AI begrijpt wat er op je scherm 
 staat en kan direct suggesties geven of informatie opzoeken zonder dat je 
 hoeft te switchen tussen apps.5. Toegankelijkheid en MultitaskingVerbeterd
 e TalkBack: De schermlezer voor blinden en slechtzienden is veel nauwkeuri
 ger geworden door AI-beschrijvingen van afbeeldingen.App-paren: Gebruik je
  vaak twee apps tegelijk (bijvoorbeeld WhatsApp en Google Maps)? Je kunt n
 u combinaties opslaan als één icoon op je startscherm.ConclusieIn Nederlan
 d\, waar we bijna alles via onze smartphone regelen — van parkeren tot bel
 astingaangifte — is de nieuwste Android-versie je beste verdediging tegen 
 hackers en de makkelijkste manier om je digitale leven georganiseerd te ho
 uden. https://hcc.nl/agenda/evenement/10117-android-16-en-ontwikkeling-naa
 r-android-18
DTSTART:20260103T090000Z
DTEND:20260103T113001Z
LOCATION:Wijkcentrum 't Holleblok (Holleblok 2\, 1273 EG Huizen)
SUMMARY:Android 16 en ontwikkeling naar android 18
URL:https://hcc.nl/agenda/evenement/10117-android-16-en-ontwikkeling-naar-a
 ndroid-18
END:VEVENT
BEGIN:VEVENT
UID:20260426T000216UTC-4416AOUsMe@https://hcc.nl/
DTSTAMP:20260426T000216Z
DESCRIPTION:Deze dinsdagavond bijeenkomst zal voornamelijk in het teken sta
 an van een lezing of instructieve bijscholing over een van onze simulatore
 n en/of bijbehorende toestellen.\nDinsdagavond 17 februari hebben wij een 
 instructieve bijeenkomst\, het programma onderwerp is thans in voorbereidi
 ng. https://hcc.nl/agenda/evenement/10428-fs-haaglanden-bijeenkomst
DTSTART:20250217T183000Z
DTEND:20260217T213000Z
LOCATION:Hangar De Groene Loper (van Royenstraat 2\, 2273 VD Voorburg)
SUMMARY:FS Haaglanden bijeenkomst
URL:https://hcc.nl/agenda/evenement/10428-fs-haaglanden-bijeenkomst
END:VEVENT
END:VCALENDAR
