BEGIN:VCALENDAR
VERSION:2.0
PRODID:-//https://hcc.nl///NONSGML kigkonsult.se iCalcreator 2.10.15//
METHOD:PUBLISH
BEGIN:VEVENT
UID:20260421T065136UTC-1558WhFNiu@https://hcc.nl/
DTSTAMP:20260421T065136Z
DESCRIPTION:Cybersecurity\nBescherm uw digitale leven tegen oplichting.Okto
 ber staat\, in heel Europa\, in het teken van cybersecurity.Tijdens deze m
 aand zetten anderen en ook wij\, ons gezamenlijk in om de kennis over onli
 ne veiligheid te vergroten en cyberveilig gedrag te stimuleren.In deze pre
 sentatie gaan we\, met de senioren in gedachten\, dieper in opde belangrij
 kste aandachtspunten. https://hcc.nl/agenda/evenement/9522-cybersecurity
DTSTART:20251023T120000Z
DTEND:20251023T140000Z
LOCATION:De Paperclip (Eiberstraat 16\, 6883 EJ Velp)
SUMMARY:Cybersecurity
URL:https://hcc.nl/agenda/evenement/9522-cybersecurity
END:VEVENT
BEGIN:VEVENT
UID:20260421T065136UTC-1559uSjLin@https://hcc.nl/
DTSTAMP:20260421T065136Z
DESCRIPTION: \nOp zaterdag 25 oktober 2025 gaan we vliegen bij stuw Vechter
 weerd aan de Overijsselse Vecht.Deze monumentale stuw uit 1911 ligt in een
  prachtige omgeving waar water\, natuur en historie samenkomen.\nDe locati
 e biedt volop kansen voor indrukwekkende dronebeelden:\n\nde stuw met vist
 rap\, waar in het voorjaar vissen stroomopwaarts trekken\,\nde sluiswachte
 rswoning en oude sluizen met hun karakteristieke uitstraling\,\nde brede V
 echtvallei\, geliefd bij fietsers en wandelaars.\n\nWe starten om 13:00 uu
 r en sluiten af rond 15:30 uur.☕ Koffie en thee zijn aanwezig (uit de koff
 erbak).\n👉 Aanmelden is verplicht via deze link (inloggen nodig).Het evene
 ment gaat alleen door bij goed vliegweer\; op vrijdagmiddag vooraf wordt d
 e definitieve beslissing genomen.\nIedereen die zich heeft ingeschreven on
 tvangt vrijdag een bevestigingsmail.\n⚠️ Deelname is geheel voor eigen ris
 ico. De club is niet aansprakelijk voor schade aan je drone of derden. Zor
 g dat je eigen aansprakelijkheidsverzekering in orde is.\n📍 Exacte parkeer
 locatie HCC!drones: Google Maps-link\n  https://hcc.nl/agenda/evenement/95
 50-vliegmiddag-overijsselse-delta-stuw-vistrap-dalfsen
DTSTART:20251025T110000Z
DTEND:20251025T133000Z
LOCATION:Vechterweerd Drents Overijsselse Delta Stuw & Vistrap (De Broekhui
 zen 3\, 7722 PC Dalfsen)
SUMMARY:Vliegmiddag Overijsselse Delta Stuw & Vistrap (Dalfsen)
URL:https://hcc.nl/agenda/evenement/9550-vliegmiddag-overijsselse-delta-stu
 w-vistrap-dalfsen
END:VEVENT
BEGIN:VEVENT
UID:20260421T065136UTC-1560RobFOW@https://hcc.nl/
DTSTAMP:20260421T065136Z
DESCRIPTION:We houden weer een online Pascal sessie.\nAanmelden is niet nod
 ig. Zie dit artikel voor meer informatie. https://hcc.nl/agenda/evenement/
 9617-pascal-sessie
DTSTART:20251011T170000Z
DTEND:20251026T210000Z
LOCATION:Online ()
SUMMARY:Pascal sessie
URL:https://hcc.nl/agenda/evenement/9617-pascal-sessie
END:VEVENT
BEGIN:VEVENT
UID:20260421T065136UTC-1560P5iWk8@https://hcc.nl/
DTSTAMP:20260421T065136Z
DESCRIPTION:We houden weer een online games programmeren sessie.\nAanmelden
  is niet nodig. Zie dit artikel voor meer informatie. https://hcc.nl/agend
 a/evenement/9690-online-games-programmeren-sessie
DTSTART:20251024T180000Z
DTEND:20251024T200000Z
LOCATION:Online ()
SUMMARY:Online games programmeren sessie
URL:https://hcc.nl/agenda/evenement/9690-online-games-programmeren-sessie
END:VEVENT
BEGIN:VEVENT
UID:20260421T065136UTC-1560midXdi@https://hcc.nl/
DTSTAMP:20260421T065136Z
DESCRIPTION:We houden weer een online Python sessie met de cursus voor begi
 nners.\nAanmelden is niet nodig. Zie dit artikel voor meer informatie. htt
 ps://hcc.nl/agenda/evenement/9691-python-sessie-met-cursus-voor-beginners
DTSTART:20251023T170000Z
DTEND:20251023T210000Z
LOCATION:Online ()
SUMMARY:Python sessie met cursus voor beginners
URL:https://hcc.nl/agenda/evenement/9691-python-sessie-met-cursus-voor-begi
 nners
END:VEVENT
BEGIN:VEVENT
UID:20260421T065136UTC-1561dxIeAD@https://hcc.nl/
DTSTAMP:20260421T065136Z
DESCRIPTION:We houden weer een online Pascal sessie.\nAanmelden is niet nod
 ig. Zie dit artikel voor meer informatie. https://hcc.nl/agenda/evenement/
 9704-pascal-sessie
DTSTART:20251025T170000Z
DTEND:20251025T200000Z
LOCATION:Online ()
SUMMARY:Pascal sessie
URL:https://hcc.nl/agenda/evenement/9704-pascal-sessie
END:VEVENT
BEGIN:VEVENT
UID:20260421T065136UTC-1561efVgwe@https://hcc.nl/
DTSTAMP:20260421T065136Z
DESCRIPTION:Deze dinsdagavond bijeenkomst zal voornamelijk in het teken sta
 an van een lezing of instructieve bijscholing over een van onze simulatore
 n en/of bijbehorende toestellen.\nDinsdagavond 17 februari hebben wij een 
 instructieve bijeenkomst\, het programma onderwerp is thans in voorbereidi
 ng. https://hcc.nl/agenda/evenement/10428-fs-haaglanden-bijeenkomst
DTSTART:20250217T183000Z
DTEND:20260217T213000Z
LOCATION:Hangar De Groene Loper (van Royenstraat 2\, 2273 VD Voorburg)
SUMMARY:FS Haaglanden bijeenkomst
URL:https://hcc.nl/agenda/evenement/10428-fs-haaglanden-bijeenkomst
END:VEVENT
END:VCALENDAR
