BEGIN:VCALENDAR
VERSION:2.0
PRODID:-//https://hcc.nl///NONSGML kigkonsult.se iCalcreator 2.10.15//
METHOD:PUBLISH
BEGIN:VEVENT
UID:20260421T203046UTC-89713iHMxC@https://hcc.nl/
DTSTAMP:20260421T203046Z
DESCRIPTION:Fijne Paasdagen!\n https://hcc.nl/agenda/evenement/10309-pasen
DTSTART:20260405T053000Z
DTEND:20260406T213000Z
LOCATION:Online ()
SUMMARY:Pasen
URL:https://hcc.nl/agenda/evenement/10309-pasen
END:VEVENT
END:VCALENDAR
