BEGIN:VCALENDAR
VERSION:2.0
PRODID:-//https://hcc.nl///NONSGML kigkonsult.se iCalcreator 2.10.15//
METHOD:PUBLISH
BEGIN:VEVENT
UID:20260420T113325UTC-9232HEz6ce@https://hcc.nl/
DTSTAMP:20260420T113325Z
DESCRIPTION:Op 20 januari 2026 van 13.30 - 16.30 uur organiseert HCC!ijssel
 landen een inloopbijeenkomst in Theater de Meenthe in Steenwijk. Daarbij i
 s tegelijk gelegenheid om je te verdiepen in Linux systeem beheer. Mensen 
 die pas Linux geïnstalleerd hebben op hun computer zijn misschien nieuwsgi
 erig hoe je systeemonderhoud pleegt. In een kleine groep willen we daar na
 ar gaan kijken. \nDaarnaast is er de leestafel en onderlinge hulp\, zoals 
 gebruikelijk bij een inloopbijeenkomst\nHartelijk welkom\nCoördinatieteam 
 HCC!ijssellanden https://hcc.nl/agenda/evenement/10095-inloop-en-linux-sys
 teembeheer
DTSTART:20260120T123000Z
DTEND:20260128T153000Z
LOCATION:Theater de Meenthe (Stationsplein 1\, 8331 GM Steenwijk)
SUMMARY:Inloop en Linux systeembeheer
URL:https://hcc.nl/agenda/evenement/10095-inloop-en-linux-systeembeheer
END:VEVENT
BEGIN:VEVENT
UID:20260420T113325UTC-92335hcDJl@https://hcc.nl/
DTSTAMP:20260420T113325Z
DESCRIPTION:Elke maand worden ‘foto’s volgens opdracht’ bekeken. In decembe
 r was het onderwerp een 'Vrije keus'.\nDeze maand is het onderwerp 'Stille
 ven bij kaarslicht'\, naar een idee van Peter.\nEn voor volgende maand\, f
 ebruari 2026\, is het onderwerp een 'Vergankelijkheid'.\nBekijk hier de oo
 gst van eerdere bijeenkomsten.\nFotoclubleden weten waar zij moeten inlogg
 en\, geïnteresseerden vragen dit via fotoclubasd@gmail.com \, kennismaken 
 kan 24/7 op hun website https://hcc.nl/agenda/evenement/10128-digitale-fot
 oclub
DTSTART:20260120T190000Z
DTEND:20260120T213000Z
LOCATION:Online ()
SUMMARY:Digitale Fotoclub
URL:https://hcc.nl/agenda/evenement/10128-digitale-fotoclub
END:VEVENT
BEGIN:VEVENT
UID:20260420T113325UTC-9234ckH8rS@https://hcc.nl/
DTSTAMP:20260420T113325Z
DESCRIPTION:Zaal 1\,  1e etage\nBIOS en UEFI\, wat is het hoe werkt dat?\nD
 eze presentatie wordt gegeven door Keith Merrington. \nIn deze lezing gaan
  we het hebben over de firmware van computers en laptops.\nKeith legt uit 
 waarom BIOS en UEFI nodig zijn. De verschillen tussen deze twee systemen e
 n hoe het onderling boot proces ook verschild.\nAan bod komt ook waarom he
 t soms nodig is om een nieuwe BIOS/UEFI te flashen.\nVerder wordt ingegaan
  wat de EFI partitie is en hoe het wordt gebruikt\, wat zit er in\, en hoe
  men toegang kan krijgen tot deze verborgen partitie. Het nieuwe GPT parti
 tie systeem\, het UEFI Shell program en wat UEFI apps. https://hcc.nl/agen
 da/evenement/10130-senioreninloop
DTSTART:20260120T130000Z
DTEND:20260120T150000Z
LOCATION:De Meent  (Orion 3\, 1188 AM Amstelveen)
SUMMARY:Senioreninloop
URL:https://hcc.nl/agenda/evenement/10130-senioreninloop
END:VEVENT
BEGIN:VEVENT
UID:20260420T113325UTC-92346DCjVz@https://hcc.nl/
DTSTAMP:20260420T113325Z
DESCRIPTION:We houden weer een online algemene sessie. Aanmelden is niet no
 dig. https://hcc.nl/agenda/evenement/10215-algemene-sessie-programmeren
DTSTART:20260120T183000Z
DTEND:20260120T210000Z
LOCATION:Online ()
SUMMARY:Algemene sessie programmeren
URL:https://hcc.nl/agenda/evenement/10215-algemene-sessie-programmeren
END:VEVENT
BEGIN:VEVENT
UID:20260420T113325UTC-9235CFz2jJ@https://hcc.nl/
DTSTAMP:20260420T113325Z
DESCRIPTION:Samen proberen we lessen voor 3D printen door te nemen en onder
  de knie te krijgen https://hcc.nl/agenda/evenement/10281-3d-printen
DTSTART:20260120T190000Z
DTEND:20260120T210000Z
LOCATION:Wijkhuis de Westwijzer  (Cortenbachstraat 70\, 5707 TJ Helmond)
SUMMARY:3D printen
URL:https://hcc.nl/agenda/evenement/10281-3d-printen
END:VEVENT
BEGIN:VEVENT
UID:20260420T113325UTC-9235idpWv6@https://hcc.nl/
DTSTAMP:20260420T113325Z
DESCRIPTION:Deze dinsdagavond bijeenkomst zal voornamelijk in het teken sta
 an van een lezing of instructieve bijscholing over een van onze simulatore
 n en/of bijbehorende toestellen.\nDinsdagavond 17 februari hebben wij een 
 instructieve bijeenkomst\, het programma onderwerp is thans in voorbereidi
 ng. https://hcc.nl/agenda/evenement/10428-fs-haaglanden-bijeenkomst
DTSTART:20250217T183000Z
DTEND:20260217T213000Z
LOCATION:Hangar De Groene Loper (van Royenstraat 2\, 2273 VD Voorburg)
SUMMARY:FS Haaglanden bijeenkomst
URL:https://hcc.nl/agenda/evenement/10428-fs-haaglanden-bijeenkomst
END:VEVENT
END:VCALENDAR
