BEGIN:VCALENDAR
VERSION:2.0
PRODID:-//https://hcc.nl///NONSGML kigkonsult.se iCalcreator 2.10.15//
METHOD:PUBLISH
BEGIN:VEVENT
UID:20260422T180221UTC-24679irm29@https://hcc.nl/
DTSTAMP:20260422T180221Z
DESCRIPTION:\nOntdek de toekomst van zorg tijdens de E-health lezing. E-hea
 lth maakt gebruik van technologie om zorg eenvoudiger en toegankelijker te
  maken. Van online consulten tot het delen van medische gegevens: leer hoe
  digitale gezondheidszorg de zorgervaring voor jou kan verbeteren. De pres
 entatie belicht de waarde van e-health voor zorggebruikers en bespreekt oo
 k mogelijke nadelen. De lezingen zijn voor HCC-leden gratis toegankelijk. 
 Mis het niet!\nE-health is\, eenvoudig gezegd\, het gebruik van computers 
 en het internet om je gezondheid te verbeteren. Het kan betekenen dat je v
 ia een app met een dokter praat\, of dat je een website gebruikt om je med
 ische gegevens in te zien. Dit omvat bijvoorbeeld online consultaties met 
 artsen\, het gebruik van gezondheidsapps om je gezondheid te monitoren\, e
 n het delen van medische gegevens via veilige online platforms.\nHet doel 
 van e-health is om het voor mensen makkelijker te maken goede zorg te krij
 gen én voor zorgverleners om efficiënter en effectiever zorg te leveren. E
 -health wordt ook wel digitale gezondheidszorg genoemd. Lees hier meer ove
 r e-health.\nLET OP: Activiteit onder voorbehoud\, kan nog wijzigen: \nraa
 dpleeg altijd de agenda van HCC!noord-Limburg. https://hcc.nl/rss-events/e
 venement/8599-presentatie-e-health
DTSTART:20240603T180000Z
DTEND:20240603T203000Z
LOCATION:De Witte Kerk (Agnes Huijnstraat 3\, 5914 PE Venlo)
SUMMARY:Presentatie e-health
URL:https://hcc.nl/rss-events/evenement/8599-presentatie-e-health
END:VEVENT
END:VCALENDAR
