BEGIN:VCALENDAR
VERSION:2.0
PRODID:-//https://hcc.nl///NONSGML kigkonsult.se iCalcreator 2.10.15//
METHOD:PUBLISH
BEGIN:VEVENT
UID:20260419T153347UTC-75240KNkT1@https://hcc.nl/
DTSTAMP:20260419T153347Z
DESCRIPTION:Elke maand staan er weer vrijwilligers klaar om u te helpen bij
  computervragen.\n\nSoftwarehulp (Linux\, mac en Windows)\nSmartphone\, An
 droid\nVideobewerking\nTestbank/hardware\n https://hcc.nl/rss-events/evene
 ment/1781-regiobijeenkomst-kennemerland
DTSTART:20231209T121500Z
DTEND:20231209T151500Z
LOCATION: Wijkcentrum De Wereld (Laan van Berlijn 1\, 2034 SB Haarlem)
SUMMARY:Regiobijeenkomst Kennemerland
URL:https://hcc.nl/rss-events/evenement/1781-regiobijeenkomst-kennemerland
END:VEVENT
BEGIN:VEVENT
UID:20260419T153347UTC-7525AuIH9F@https://hcc.nl/
DTSTAMP:20260419T153347Z
DESCRIPTION:Bijeenkomst van de HCC!forth interessegroep\n https://hcc.nl/rs
 s-events/evenement/3173-hcc-forth-gg-bijeenkomst
DTSTART:20231209T100000Z
DTEND:20231209T140000Z
LOCATION: ()
SUMMARY:HCC!forth GG bijeenkomst
URL:https://hcc.nl/rss-events/evenement/3173-hcc-forth-gg-bijeenkomst
END:VEVENT
BEGIN:VEVENT
UID:20260419T153347UTC-75262XgE27@https://hcc.nl/
DTSTAMP:20260419T153347Z
DESCRIPTION:Georganiseerd door:\nHCC!almereHCC!domotica-iotHCC!flightsimula
 torHCC!windowsBuurtcentrum de WiekenWipmolenweg 541333GS Almere\nHeeft u H
 ulp nodig kom ook eens een keer langs!\nVoor verdere details zie de agenda
  url\nhttps://hcc.nl/index.php?option=com_rsform&view=rsform&formId=4&form
 \nDe flightsimulator leden zijn tegenwoordig ook aanwezig op onze bijeenko
 msten. https://hcc.nl/rss-events/evenement/3224-bijeenkomst-almere
DTSTART:20231209T090000Z
DTEND:20231209T143000Z
LOCATION:Wijkcentrum De Wieken (Wipmolenweg 54\, 1333 GS Almere)
SUMMARY:Bijeenkomst Almere
URL:https://hcc.nl/rss-events/evenement/3224-bijeenkomst-almere
END:VEVENT
BEGIN:VEVENT
UID:20260419T153347UTC-7527VJbs22@https://hcc.nl/
DTSTAMP:20260419T153347Z
DESCRIPTION:Windows 11 23H2Dit betekent dus dat de Windows 11 23H2 release 
 nog even op zich laat wachten\, maar hij zal wel later dit jaar verschijne
 n. En daarover lees je dan natuurlijk op pcactive.nl. Tot die tijd kun je 
 alvast waarschijnlijk van een aantal nieuwe functies van bovengenoemde Win
 dows 11 22H2-update gebruikmaken. https://hcc.nl/rss-events/evenement/3284
 -windows-update
DTSTART:20231209T090000Z
DTEND:20231209T150000Z
LOCATION:De Wieken   (Wipmolenweg 54\, 1333 GS Almere)
SUMMARY:Windows Update
URL:https://hcc.nl/rss-events/evenement/3284-windows-update
END:VEVENT
BEGIN:VEVENT
UID:20260419T153347UTC-7528aDwXzk@https://hcc.nl/
DTSTAMP:20260419T153347Z
DESCRIPTION:Welkom op Modelspoorbeurs van 9 december\nOp deze dag organiser
 en wij in Expo Houten te Houten Modelspoorbeurs en gelijktijdig zal er de 
 NVM Modelbouwdag 2023  worden gehouden. Naast de bekende verkoop van alle 
 modelspoorspullen in de hallen 2-3 & 4\, zal er in Hal 1 alles te vinden z
 ijn over (zelf-) bouwen van modellen. Schepen in allerlei uitvoeringen\, s
 poorwegmaterieel\, vrachtauto’s\, stoommachines\, boerenwagens\, militaire
  voertuigen en nog veel meer\, variërend in schaal 1:87 tot 1:8\, kunnen h
 ier worden bewonderd. ‘Modelbouw Vereniging Papendrecht’\, ‘Minitruckers’ 
 en ‘RC Armourgroup Holland’ zullen op speciale banen hun radiografische mo
 dellen tot leven wekken. Dit houdt in ruim 10.000 m² hobbyplezier. De zale
 n zijn open van 10.00 uur tot 16:00 uur. \nWat kunt u op 9 december tijden
 s onze reguliere Internationale Modelspoorbeurs in EXPO HOUTEN in HOUTEN v
 erwachten:\nVeel handelaren die hun uitgebreide collectie modelspoorartike
 l aanbieden.\nAlles is er te koop van het kleine spoor T-Gauge (1:450) tot
  grootspoor. Verder ook treinen\, huisjes\, bomen\, auto’s. Dus alles voor
  de aankleding van een schitterende modelspoorbaan. Miniatuur boutjes\, mo
 ertjes e.d. en ook miniatuur LED’s e.d.\nModelspoorbeurs in Expo Houten\, 
 incl. Houten Modelbouw door NVM\nMeer informatie vindt u op de website van
  de modelspoorbeurs: www.modelspoorbeurs.nl\n(geen deelname van HCC!m) htt
 ps://hcc.nl/rss-events/evenement/3341-modelspoorbeurs-en-modelbouw-in-expo
 -houten
DTSTART:20231209T090000Z
DTEND:20231209T140000Z
LOCATION:Expo Houten (Meidoornkade 24\, 3992 AE Houten)
SUMMARY:Modelspoorbeurs en Modelbouw in Expo Houten
URL:https://hcc.nl/rss-events/evenement/3341-modelspoorbeurs-en-modelbouw-i
 n-expo-houten
END:VEVENT
BEGIN:VEVENT
UID:20260419T153347UTC-7530OKkRds@https://hcc.nl/
DTSTAMP:20260419T153347Z
DESCRIPTION:Net als vorig jaar is er weer een Windows-seizoensthema. Micros
 oft komt namelijk met veel verbeteringen/updates\, maar wanneer komen die 
 en wat houden ze allemaal in? En wat als je nog Windows 10 hebt en komt Wi
 ndows 12 eraan?\nEr valt veel te vertellen over de Windows 11 sept/okt Fea
 ture Update\, want er komen veel verbeteringen en vernieuwingen. Sommige o
 nderdelen zijn al beschikbaar zijn\, maar belangrijk om te melden is dat s
 ommige onderdelen voorlopig nog niet beschikbaar zijn (Copilot) en wellich
 t helemaal niet beschikbaar zijn of komen. Verwachting is dat de grote W11
  23H2 update vanaf 14 november langzaam wordt uitgerold\, maar of dat klop
 t en wat er allemaal in zit? En wat er is nu allemaal al beschikbaar?\nBen
  je lid van HCC? Kijk op de HCC!agenda voor presentaties over Windows Upda
 te in het hele land! Hieronder kun je enkele relevante artikelen uit PC-Ac
 tive vinden. De presentatie zal in de loop van de komende maanden ook hier
  te downloaden zijn. Als lid van HCC kun je ook de special De complete gid
 s voor Windows 11\, herziene editie bestellen met korting. In de winkel ko
 st deze gids € 12\,99 maar HCC-leden betalen slechts € 9\,99 inclusief ver
 zendkosten. https://hcc.nl/rss-events/evenement/3345-windows-update
DTSTART:20231209T090000Z
DTEND:20231209T143000Z
LOCATION:Wijkcentrum De Wieken (Wipmolenweg 54\, 1333 GS Almere)
SUMMARY:Windows Update
URL:https://hcc.nl/rss-events/evenement/3345-windows-update
END:VEVENT
END:VCALENDAR
