BEGIN:VCALENDAR
VERSION:2.0
PRODID:-//https://hcc.nl///NONSGML kigkonsult.se iCalcreator 2.10.15//
METHOD:PUBLISH
BEGIN:VEVENT
UID:20260419T125712UTC-1750wjpwlu@https://hcc.nl/
DTSTAMP:20260419T125712Z
DESCRIPTION:Onze inloop is bedoeld voor iedereen die praktische hulp en ond
 ersteuning nodig heeft bij het gebruik van uw digitale apparatuur\, zoals 
 desktop\, laptop\, tablet en smartphone.Te denken valt aan:• opschonen van
  uw computer• updates downloaden• apps installeren• accounts aanmaken op u
 w apparaten(breng dan wel uw gegevens mee)• e-mail problemen.• instellinge
 n aanpassenOnze deskundigen zitten klaar om u met raad en daad terzijde te
  staan. https://hcc.nl/rss-events/evenement/988-inloop-digitale-hulp
DTSTART:20231206T183000Z
DTEND:20231206T203000Z
LOCATION:Wijkcentrum De Akkers (Lenteakker 5\, 3206 TB Spijkenisse)
SUMMARY:Inloop digitale hulp
URL:https://hcc.nl/rss-events/evenement/988-inloop-digitale-hulp
END:VEVENT
BEGIN:VEVENT
UID:20260419T125712UTC-1752d1mLDd@https://hcc.nl/
DTSTAMP:20260419T125712Z
DESCRIPTION:Heeft u een vraag over of een probleem met uw Android apparaat?
  Onze deskundigen zitten klaar om u te helpen.\n\nInstellingen aanpassen\n
 Downloaden van Apps\nUpdaten van Apps\nInstellen van e-mail\n\nEn nog veel
  meer! https://hcc.nl/rss-events/evenement/1929-inloop-android-hulp
DTSTART:20231206T090000Z
DTEND:20231206T110000Z
LOCATION:Bibliotheek Gorinchem (Groenmarkt 1\, 4201 EE Gorinchem)
SUMMARY:Inloop Android hulp
URL:https://hcc.nl/rss-events/evenement/1929-inloop-android-hulp
END:VEVENT
BEGIN:VEVENT
UID:20260419T125712UTC-1753EJUC5K@https://hcc.nl/
DTSTAMP:20260419T125712Z
DESCRIPTION:Heeft u een vraag over of een probleem met uw Android apparaat?
  Onze deskundigen zitten klaar om u te helpen.\n\nInstellingen aanpassen\n
 Downloaden van Apps\nUpdaten van Apps\nInstellen van e-mail\n\nEn nog veel
  meer! https://hcc.nl/rss-events/evenement/2234-inloop-android-hulp
DTSTART:20231206T090000Z
DTEND:20231206T110000Z
LOCATION:Bibliotheek Gorinchem (Groenmarkt 1\, 4201 EE Gorinchem)
SUMMARY:Inloop Android hulp
URL:https://hcc.nl/rss-events/evenement/2234-inloop-android-hulp
END:VEVENT
BEGIN:VEVENT
UID:20260419T125712UTC-1754GSJ5Sv@https://hcc.nl/
DTSTAMP:20260419T125712Z
DESCRIPTION:We houden weer een online bijeenkomst over Liberty BASIC.\nAanm
 elden is niet nodig\, zie de voorpagina voor meer informatie. https://hcc.
 nl/rss-events/evenement/3377-online-liberty-basic-sessie
DTSTART:20231206T190000Z
DTEND:20231206T220000Z
LOCATION:Online ()
SUMMARY:Online Liberty BASIC sessie
URL:https://hcc.nl/rss-events/evenement/3377-online-liberty-basic-sessie
END:VEVENT
END:VCALENDAR
