BEGIN:VCALENDAR
VERSION:2.0
PRODID:-//https://hcc.nl///NONSGML kigkonsult.se iCalcreator 2.10.15//
METHOD:PUBLISH
BEGIN:VEVENT
UID:20260419T125425UTC-1762uz76Xf@https://hcc.nl/
DTSTAMP:20260419T125425Z
DESCRIPTION:Onze inloop is bedoeld voor iedereen die praktische hulp en ond
 ersteuning nodig heeft bij het gebruik van uw tablet en smartphone.\nTe de
 nken valt aan:\n- apps installeren- accounts aanmaken op uw apparaten(bren
 g dan uw inloggegevens mee)- E-mail problemen.- Instellingen aanpassenZowe
 l voor Apple\, Android als Windows!\nOnze deskundigen zitten klaar om u me
 t raad en daad terzijde te staan. https://hcc.nl/rss-events/evenement/1417
 -inloop-digitale-hulp
DTSTART:20231204T183000Z
DTEND:20231204T210000Z
LOCATION:Huis van de Wijk Oostgaarde (De Linie 5\, 2905 AX Capelle aan den 
 IJssel)
SUMMARY:Inloop digitale hulp
URL:https://hcc.nl/rss-events/evenement/1417-inloop-digitale-hulp
END:VEVENT
BEGIN:VEVENT
UID:20260419T125425UTC-1764ghzZAx@https://hcc.nl/
DTSTAMP:20260419T125425Z
DESCRIPTION:Op de eerste maandag van de maand bijeenkomst in de Mechelse ra
 nd (Tisselt).\nHet programma:\n\ninstallatie en configuratie van netwerk\,
  hard- en software\;\nUbuntu - Mint - Linux - Open Source steunpunt\;\ntab
 lets\, smartphones\, Android\, iOS\;\neen vrijblijvende babbel\;\nadvies v
 an collega computergebruikers\;\nenkele actuele tijdschriften ter inzage\;
 \ninternet\, bekabeld & draadloos netwerk\, ...\n\nElke geinteresseerde co
 mputergebruiker is welkom\, om de sfeer te proeven\, om kennis te maken me
 t onze leden en hun computerbezigheden\, om ervaringen uit te wisselen\, o
 m nieuwe dingen te ontdekken\, om een oplossing voor hard- en softwareprob
 lemen te vinden... https://hcc.nl/rss-events/evenement/1629-inloop-en-hulp
DTSTART:20231204T190000Z
DTEND:20231204T220000Z
LOCATION:Fanfarelokaal Bingo (Blaasveldstraat  29 \, 2830 TI Tisselt)
SUMMARY:Inloop en hulp
URL:https://hcc.nl/rss-events/evenement/1629-inloop-en-hulp
END:VEVENT
BEGIN:VEVENT
UID:20260419T125425UTC-1765xPS4ua@https://hcc.nl/
DTSTAMP:20260419T125425Z
DESCRIPTION:Heeft u een vraag over of een probleem met uw Android apparaat?
  Onze deskundigen zitten klaar om u te helpen.\n\nInstellingen aanpassen\n
 Downloaden van Apps\nUpdaten van Apps\nInstellen van e-mail\n\nEn nog veel
  meer! https://hcc.nl/rss-events/evenement/1825-inloop-android-hulp
DTSTART:20231204T190000Z
DTEND:20231204T210000Z
LOCATION:Huis van de Wijk Oostgaarde (De Linie 5\, 2905 AX Capelle aan den 
 IJssel)
SUMMARY:Inloop Android hulp
URL:https://hcc.nl/rss-events/evenement/1825-inloop-android-hulp
END:VEVENT
BEGIN:VEVENT
UID:20260419T125425UTC-17663utV3A@https://hcc.nl/
DTSTAMP:20260419T125425Z
DESCRIPTION:Erik Mulder en Han Blijenberg van HCC!genealogie kunnen u helpe
 n met het onderzoek naar uw familie.\nMeer info op:  HCC!zeeland - Home  h
 ttps://hcc.nl/rss-events/evenement/2748-bijeenkomst-hcc-zeeland
DTSTART:20231204T183000Z
DTEND:20231204T210000Z
LOCATION:De Burgerij Campus de Ruyter  (Van Hogendorpweg 58\, 4384 HA Vliss
 ingen)
SUMMARY:Bijeenkomst HCC!zeeland
URL:https://hcc.nl/rss-events/evenement/2748-bijeenkomst-hcc-zeeland
END:VEVENT
BEGIN:VEVENT
UID:20260419T125425UTC-1766rJKIX4@https://hcc.nl/
DTSTAMP:20260419T125425Z
DESCRIPTION:Onze inloop is bestemd voor iedereen die hulp bij hun laptop\, 
 tablet\, e-reader\, smart -phone/-tv/-deurbel/enz. nodig hebben. Tot de mo
 gelijkheden behoren ook het maken van een afspraak om bij jou thuis hulp t
 e bieden bij jouw pc\, printer en/of WiFi router problemen.\nOp 14 oktober
  2025 stopt Microsoft met de ondersteuning van alle versies Windows 10.\nW
 at nu!\nEen nieuwe dure laptop of pc kopen om met Windows 11 verder te kun
 nen en jouw oude laptop of pc naar de milieustraat afvoeren?\nWij zeggen n
 iet doen!\nWil je meer weten over de Windows 10 vervanger Linux Mint Cinna
 mon?\nWij vertellen jou wat mogelijk is en er is een laptop met Linux Mint
  Cinnamon aanwezig voor een look and feel ervaring.\nOns team is op de eer
 ste en derde maandagmiddag van de maand In de bibliotheek in Leersum van 1
 4:00 uur tot 15:30 uur aanwezig.\n \n20 november 2023 van 14:00 uur – 15:3
 0 uur\n4 december 2023 van 14:00 uur – 15:30 uur\n18 december 2023 van 14:
 00 uur – 15:30 uur https://hcc.nl/rss-events/evenement/3264-digitale-inloo
 p-leersum
DTSTART:20231204T130000Z
DTEND:20231204T143000Z
LOCATION:Bibliotheek Leersum  (Hoflaan 31\, 3956 ED Leersum)
SUMMARY:Digitale inloop Leersum
URL:https://hcc.nl/rss-events/evenement/3264-digitale-inloop-leersum
END:VEVENT
BEGIN:VEVENT
UID:20260419T125425UTC-1768jvZnzv@https://hcc.nl/
DTSTAMP:20260419T125425Z
DESCRIPTION:De regio’s Groningen\, Fryslan en Z-Drenthe (HCC!Noord) verzorg
 en op maandag 4 december samen een zeer speciale videopresentatie.\nOm 19.
 30 gaat Caroline ons verrassen met de in en outs van\n\nGoogle Lens\nDe in
  en outs van Steganografie\n\nMensen willen graag weten wat ze zien. Of da
 t steden zijn\, gebouwen zijn\, boeken zijn of woorden in welke taal dan o
 ok zijn.\nIn onze digitale tijd maakt Google Lens dat in veel gevallen mog
 elijk. Heel veel van die mogelijkheden zijn te danken aan onze mobiele tel
 efoon.\nAan de andere kant is er de neiging van mensen om zaken geheim te 
 houden.\nAl eeuwen zijn we in staat om allerlei dagelijks ogende spullen e
 n geschriften te gebruiken om onzichtbare en geheime boodschappen over te 
 brengen.\nDe huidige digitale tijd geeft de mogelijkheden o.a. in digitale
  teksten\, afbeeldingen en nog meer onzichtbare boodschappen op te nemen.
 \nCaroline verrast ons opnieuw met een uitleg van zowel Google Lens en Ste
 ganografie\, waardoor we snappen hoe dat in elkaar zit en we handvatten kr
 ijgen om het zelf uit te proberen.\n \nMaak wat tijd en kom op maandag 4 d
 ecember 19.30 uur online om de presentatie hierover mee te maken.\nDe link
  naar wij.hcc.nl wordt eind november in de web-agenda en de nieuwsbrief ve
 rmeld.\nDe organisatie HCC!Noord https://hcc.nl/rss-events/evenement/3349-
 bijzondere-online-presentatie-google-lens-en-steganografie
DTSTART:20231204T183000Z
DTEND:20231204T203000Z
LOCATION:Online ()
SUMMARY:Bijzondere online presentatie - Google Lens en Steganografie
URL:https://hcc.nl/rss-events/evenement/3349-bijzondere-online-presentatie-
 google-lens-en-steganografie
END:VEVENT
BEGIN:VEVENT
UID:20260419T125425UTC-1769dbsnkl@https://hcc.nl/
DTSTAMP:20260419T125425Z
DESCRIPTION:In Vlissingen duiken we in de geschiedenis van onze familie. ht
 tps://hcc.nl/rss-events/evenement/3381-werkgroep-genealogie-vlissingen
DTSTART:20231204T190000Z
DTEND:20231204T210000Z
LOCATION:De Burgerij Campus de Ruyter  (Van Hogendorpweg 58\, 4384 HA Vliss
 ingen)
SUMMARY:Werkgroep Genealogie Vlissingen
URL:https://hcc.nl/rss-events/evenement/3381-werkgroep-genealogie-vlissinge
 n
END:VEVENT
BEGIN:VEVENT
UID:20260419T125425UTC-1770o96AHP@https://hcc.nl/
DTSTAMP:20260419T125425Z
DESCRIPTION:We houden weer een online bijeenkomst over Visual Basic.isual B
 asic.\nAanmelden is niet nodig\, zie de voorpagina voor meer informatie. h
 ttps://hcc.nl/rss-events/evenement/3383-online-visual-basic-sessie
DTSTART:20231204T190000Z
DTEND:20231204T220000Z
LOCATION:Online ()
SUMMARY:Online Visual Basic sessie
URL:https://hcc.nl/rss-events/evenement/3383-online-visual-basic-sessie
END:VEVENT
BEGIN:VEVENT
UID:20260419T125425UTC-17710VtgO2@https://hcc.nl/
DTSTAMP:20260419T125425Z
DESCRIPTION:Inloop https://hcc.nl/rss-events/evenement/3411-inloop
DTSTART:20231204T183000Z
DTEND:20231204T210000Z
LOCATION:Cultuurhuis Schoneveld Houten (Zonnehout 36\, 3991 MX Houten)
SUMMARY:Inloop
URL:https://hcc.nl/rss-events/evenement/3411-inloop
END:VEVENT
END:VCALENDAR
