BEGIN:VCALENDAR
VERSION:2.0
PRODID:-//https://hcc.nl///NONSGML kigkonsult.se iCalcreator 2.10.15//
METHOD:PUBLISH
BEGIN:VEVENT
UID:20260420T152459UTC-4930vfT4xT@https://hcc.nl/
DTSTAMP:20260420T152459Z
DESCRIPTION:Leren vliegen met de Flightsimulator. https://hcc.nl/rss-events
 /evenement/1198-fs-vliegdag
DTSTART:20231202T090000Z
DTEND:20231202T150000Z
LOCATION:Wijkcentrum 't Slot (Kastelenplein 167\, 5653 LX Eindhoven)
SUMMARY:FS vliegdag
URL:https://hcc.nl/rss-events/evenement/1198-fs-vliegdag
END:VEVENT
BEGIN:VEVENT
UID:20260420T152459UTC-4931gF5pvL@https://hcc.nl/
DTSTAMP:20260420T152459Z
DESCRIPTION:Zoals gebruikelijk komen we op de 1e zaterdag van de maand weer
  bijeen in Hooglanderveen (vlakbij Amersfoort) om ideeën\, ervaringen\, ti
 ps\, en andere informatie uit te wisselen op het gebied van AI (= kunstmat
 ige intelligentie).\nEen belangrijk onderdeel is de 'plenaire sessie'\, ee
 n groepsgesprek waarin allerlei aspecten van AI aan de orde kunnen komen. 
 Deze staat gepland om 13:00 en zal\, als de techniek meewerkt\, ook online
  te volgen zijn via wij.hcc.nl.\nDe plenaire sessie begint met een 'invent
 arisatierondje' waarin iedereen één of meer onderwerpen kan aandragen\, wa
 arna de voorzitter bepaalt in welke volgorde deze aan de beurt komen. Voor
  (en soms ook na) de plenaire sessie is er gelegenheid voor een bezoekje a
 an de kantine\, een kijkje bij de Robotica interessegroep\, informele gesp
 rekken in kleinere groepjes\, en/of zelfwerkzaamheid.\nWilt u geregeld van
  tevoren een herinnering aan onze bijeenkomsten ontvangen\, dan kunt U zic
 h (via het menu-item 'HCC' bovenaan) aanmelden voor de HCC-AI nieuwsbrief 
 (per email). https://hcc.nl/rss-events/evenement/1492-bijeenkomst-interess
 egroep-ai
DTSTART:20231202T100000Z
DTEND:20231202T150000Z
LOCATION:De Dissel  (Disselplein 8\, 3829 MD Hooglanderveen)
SUMMARY:Bijeenkomst Interessegroep AI
URL:https://hcc.nl/rss-events/evenement/1492-bijeenkomst-interessegroep-ai
END:VEVENT
BEGIN:VEVENT
UID:20260420T152459UTC-4931xSWuhZ@https://hcc.nl/
DTSTAMP:20260420T152459Z
DESCRIPTION:Zoals gebruikelijk komen we op de 1e zaterdag van de maand weer
  bijeen in Hooglanderveen (vlakbij Amersfoort) om ideeën\, ervaringen\, ti
 ps\, en andere informatie uit te wisselen op het gebied van AI (= kunstmat
 ige intelligentie).\nEen belangrijk onderdeel is de 'plenaire sessie'\, ee
 n groepsgesprek waarin allerlei aspecten van AI aan de orde kunnen komen. 
 Deze staat gepland om 13:00 en zal\, als de techniek meewerkt\, ook online
  te volgen zijn via wij.hcc.nl.\nDe plenaire sessie begint met een 'invent
 arisatierondje' waarin iedereen één of meer onderwerpen kan aandragen\, wa
 arna de voorzitter bepaalt in welke volgorde deze aan de beurt komen. Voor
  (en soms ook na) de plenaire sessie is er gelegenheid voor een bezoekje a
 an de kantine\, een kijkje bij de Robotica interessegroep\, informele gesp
 rekken in kleinere groepjes\, en/of zelfwerkzaamheid.\nWilt u geregeld van
  tevoren een herinnering aan onze bijeenkomsten ontvangen\, dan kunt U zic
 h (via het menu-item 'HCC' bovenaan) aanmelden voor de HCC-AI nieuwsbrief 
 (per email). https://hcc.nl/rss-events/evenement/1524-bijeenkomst-interess
 egroep-ai
DTSTART:20231202T100000Z
DTEND:20231202T150000Z
LOCATION:De Dissel  (Disselplein 8\, 3829 MD Hooglanderveen)
SUMMARY:Bijeenkomst Interessegroep AI
URL:https://hcc.nl/rss-events/evenement/1524-bijeenkomst-interessegroep-ai
END:VEVENT
BEGIN:VEVENT
UID:20260420T152459UTC-49321UUZfz@https://hcc.nl/
DTSTAMP:20260420T152459Z
DESCRIPTION:Leren omgaan met de 3D printer en oplossen eventuele problemen.
  https://hcc.nl/rss-events/evenement/1657-3d-printen
DTSTART:20231202T090000Z
DTEND:20231202T110000Z
LOCATION:Wijkhuis de Westwijzer  (Cortenbachstraat 70\, 5707 TJ Helmond)
SUMMARY:3D printen
URL:https://hcc.nl/rss-events/evenement/1657-3d-printen
END:VEVENT
BEGIN:VEVENT
UID:20260420T152459UTC-4932mgauEi@https://hcc.nl/
DTSTAMP:20260420T152459Z
DESCRIPTION:Leren vliegen met de Flightsimulator. Eerst aanmelden!! https:/
 /hcc.nl/rss-events/evenement/2513-flightsim-vliegdag
DTSTART:20231202T090000Z
DTEND:20231202T153000Z
LOCATION:Wijkcentrum 't Slot (Kastelenplein 167\, 5653 LX Eindhoven)
SUMMARY:Flightsim vliegdag
URL:https://hcc.nl/rss-events/evenement/2513-flightsim-vliegdag
END:VEVENT
BEGIN:VEVENT
UID:20260420T152459UTC-4933OFigSv@https://hcc.nl/
DTSTAMP:20260420T152459Z
DESCRIPTION:Maandelijkse bijeenkomst in verenigingsgebouw De Dissel in Hoog
 landerveen nabij Hoevelaken.\nDe juiste plaatst om met elkaar te overlegge
 n over de robotica hobby.\nEen enthousiaste groep leden is er iedere maand
  met diverse robots en andere hardware aan de slag.\nEr wordt geoefend\, o
 verlegd en geknutseld.\nWil je meer weten van Robots\, wil je zelf aan de 
 slag kom dat langs.\nJe wordt met open armen ontvangen. https://hcc.nl/rss
 -events/evenement/2535-hcc-robotica-bijeenkomst
DTSTART:20231202T090000Z
DTEND:20231202T150000Z
LOCATION:De Dissel  (Disselplein 8\, 3829 MD Hooglanderveen)
SUMMARY:HCC!robotica bijeenkomst
URL:https://hcc.nl/rss-events/evenement/2535-hcc-robotica-bijeenkomst
END:VEVENT
BEGIN:VEVENT
UID:20260420T152459UTC-4933HBVMWF@https://hcc.nl/
DTSTAMP:20260420T152459Z
DESCRIPTION:Chris Mommenhof van HCC!genealogie is iedere 1e zaterdag van de
  maand aanwezig op deze dag georganiseerd door de HCC!Almere regio Huizen.
  \nHij helpt u graag met al uw genealogische vragen.\nVoor meer info klik 
  hier https://hcc.nl/rss-events/evenement/3107-bijeenkomst-hcc-almere-loca
 tie-huizen
DTSTART:20231202T090000Z
DTEND:20231202T150000Z
LOCATION:Wijkcentrum 't Holleblok (Holleblok 2\, 1273 EG Huizen)
SUMMARY:Bijeenkomst HCC!almere locatie Huizen
URL:https://hcc.nl/rss-events/evenement/3107-bijeenkomst-hcc-almere-locatie
 -huizen
END:VEVENT
BEGIN:VEVENT
UID:20260420T152459UTC-49339pxweP@https://hcc.nl/
DTSTAMP:20260420T152459Z
DESCRIPTION:Het hcc-steunpunt in Vaassen heeft een nieuwe locatie. Jasmijns
 traat 36\, 8171 APDe vrijwilligers helpen tijdens de clubdag onder andere 
 met het upgraden van de computer. Ook het inbouwen van (meegebrachte) hard
 ware is op de clubdag gratis.Tevens zijn er regelmatig demonstraties en pr
 esentaties.\nVoor het verhelpen van een computerprobleem dient men de kast
  en de software mee te nemen naar de clubdag.U hoeft natuurlijk niet een c
 omputerprobleem te hebben om gezellig langs te komen!Kom gezellig een bakj
 e koffie drinken en misschien kunt u zelf ook anderen helpen die met een c
 omputerprobleem zitten. https://hcc.nl/rss-events/evenement/3167-inloop-st
 eunpunt-vaassen
DTSTART:20231202T080000Z
DTEND:20231202T120000Z
LOCATION: ()
SUMMARY:Inloop steunpunt Vaassen
URL:https://hcc.nl/rss-events/evenement/3167-inloop-steunpunt-vaassen
END:VEVENT
BEGIN:VEVENT
UID:20260420T152459UTC-4934UEzKHJ@https://hcc.nl/
DTSTAMP:20260420T152459Z
DESCRIPTION:Dit najaar komt Microsoft met de grote Windows 23H2 update\, ma
 ar onbekend is nog wanneer. Hoewel sommigen de 23H2-23H2-update vandaag ve
 rwachtten\, komt Microsoft nu met een nieuwe update voor Windows 11 22H2. 
 Lees hier wat je kunt verwachten welke verbeteringen en nieuwe functies wo
 rden toegevoegd aan Windows 11.\nMicrosoft wil de komende tijd veel bestaa
 nde functies in Windows 11 verbeteren en ook nieuwe functies toevoegen. De
 ze verbeteringen en nieuwe functies werden recentelijk aangekondigd\, maar
  het kan soms nog even duren totdat deze via een upgrade worden aangeboden
 . In dit artikel kun je de belangrijkste verbeteringen en nieuwe functies 
 lezen\, want Microsoft maakt maar liefst 150 nieuwe functies beschikbaar i
 n de Windows 11 22H2-update. Overigens waren de meeste nieuwe functies in 
 2023 al beschikbaar in de previewversies van Windows 11.\nWindows CopilotM
 icrosoft is van plan de Windows Copilot te integreren in de Taakbalk van h
 et besturingssysteem. Met slechts één klik wordt de applicatie toegankelij
 k via een zijpaneel\, zoals je hieronder ziet.\nDe chatbot is niet alleen 
 in staat om vragen te beantwoorden (vergelijkbaar met Bing Chat)\, maar ka
 n ook Windows-instellingen en -apps openen en ook systeemfuncties zoals he
 t in- of uitschakelen van de donkere modus. Bovendien kun je Copilot koppe
 len met je smartphone\, zodat Copilot bijvoorbeeld een sms naar een van je
  contacten kan sturen zonder dat je de telefoon zelf hoeft te gebruiken.\n
 Meer nieuwe functies in Windows 22H2-update\nDe nieuwe Windows 11 22H2-upd
 ate moet naast Copilot ook tal van andere nieuwe functies bevatten volgens
  de  blogpost van Microsoft. Bijna al deze functies waren al beschikbaar i
 n eerdere testversies:\n\nPaint is verrijkt met AI-functies voor tekenen e
 n digitale creatie. Dit omvat achtergrondverwijdering en lagen\, evenals e
 en preview van Cocreator\, waarmee generatieve AI-kracht naar de Paint-app
  wordt gebracht.\nHet Windows Foto’s-programma is ook verbeterd met AI\, m
 et nieuwe functies die het bewerken van je foto’s vereenvoudigen. Met Back
 ground Blur kun je snel het onderwerp van je foto laten opvallen door de a
 chtergrond te vervagen. De Foto's-app detecteert automatisch de achtergron
 d in de foto en markeert je onderwerp met één klik. De zoekfunctie is verb
 eterd\, zodat je nu foto’s kunt vinden op basis van de inhoud van de foto\
 , zelfs als ze zijn opgeslagen in je OneDrive-accounts (thuis of persoonli
 jk) of op basis van de locatie waar ze zijn genomen.\nHet Windows Knipprog
 ramma biedt nu meer manieren om een schermafbeelding te maken met Windows 
 11. Met deze update kun je specifieke tekstinhoud uit een afbeelding halen
  om in een andere toepassing te plakken\, of je kunt eenvoudig je gevoelig
 e informatie beschermen met tekstredactie met behulp van tekstacties op he
 t scherm na het vastleggen. Bovendien is geluidsopname met audio- en micro
 foonondersteuning toegevoegd om het maken van boeiende video’s en schermco
 ntent eenvoudiger te maken.\nClipchamp\, waarmee je nu tevens automatisch 
 kunt componeren\, helpt je bij het maken en bewerken van video’s door sugg
 esties te geven voor scènes\, bewerkingen en verhalen op basis van je afbe
 eldingen en beeldmateriaal. Zo kun je video’s maken en bewerken om te dele
 n met familie\, vrienden en op sociale media.\nKladblok begint automatisch
  je sessiestatus op te slaan\, zodat je Kladblok kunt sluiten zonder onder
 brekingen. Als je terugkeert\, kun je verdergaan waar je was gebleven\, me
 t automatisch herstel van eerder geopende tabbladen\, niet-opgeslagen inho
 ud en bewerkingen op die tabbladen.\nMet het nieuwe Outlook voor Windows k
 un je volgens Microsoft al je verschillende accounts (inclusief Gmail\, Ya
 hoo\, iCloud en meer) verbinden en coördineren in één app. Intelligente to
 ols helpen je bij het schrijven van duidelijke\, beknopte e-mails en maken
  het eenvoudig om belangrijke documenten en foto’s van OneDrive bij te voe
 gen.\nDe gemoderniseerde bestandsverkenner introduceert een vernieuwde Thu
 is-sectie\, adresbalk en zoekvak. Deze zijn allemaal volgens Microsoft ont
 worpen om gemakkelijker toegang te bieden tot belangrijke en relevante inh
 oud\, je up-to-date te houden met bestandsactiviteit en samen te werken zo
 nder zelfs een bestand te openen. Bovendien wordt een nieuwe Galerij-funct
 ie toegevoegd aan de Verkenner om het gemakkelijker te maken toegang te kr
 ijgen tot je fotocollectie.\nWindows Backup zou het overstappen naar een n
 ieuwe Windows 11-computer eenvoudiger moeten maken: het overzetten van de 
 meeste bestanden\, apps en instellingen van de ene naar de andere computer
  moet nu precies hetzelfde blijven zoals je het had achtergelaten en zoals
  je het wilt hebben\,\n https://hcc.nl/rss-events/evenement/3286-windows-u
 pdate
DTSTART:20231202T090000Z
DTEND:20231202T160000Z
LOCATION:Holleblok (Holleblok 2\, 1273 EG Huizen)
SUMMARY:Windows Update
URL:https://hcc.nl/rss-events/evenement/3286-windows-update
END:VEVENT
BEGIN:VEVENT
UID:20260420T152459UTC-4936eULSiD@https://hcc.nl/
DTSTAMP:20260420T152459Z
DESCRIPTION:Net als vorig jaar is er weer een Windows-seizoensthema. Micros
 oft komt namelijk met veel verbeteringen/updates\, maar wanneer komen die 
 en wat houden ze allemaal in? En wat als je nog Windows 10 hebt en komt Wi
 ndows 12 eraan?\nEr valt veel te vertellen over de Windows 11 sept/okt Fea
 ture Update\, want er komen veel verbeteringen en vernieuwingen. Sommige o
 nderdelen zijn al beschikbaar zijn\, maar belangrijk om te melden is dat s
 ommige onderdelen voorlopig nog niet beschikbaar zijn (Copilot) en wellich
 t helemaal niet beschikbaar zijn of komen. Verwachting is dat de grote W11
  23H2 update vanaf 14 november langzaam wordt uitgerold\, maar of dat klop
 t en wat er allemaal in zit? En wat er is nu allemaal al beschikbaar?\nBen
  je lid van HCC? Kijk op de HCC!agenda voor presentaties over Windows Upda
 te in het hele land! Hieronder kun je enkele relevante artikelen uit PC-Ac
 tive vinden. De presentatie zal in de loop van de komende maanden ook hier
  te downloaden zijn. Als lid van HCC kun je ook de special De complete gid
 s voor Windows 11\, herziene editie bestellen met korting. In de winkel ko
 st deze gids € 12\,99 maar HCC-leden betalen slechts € 9\,99 inclusief ver
 zendkosten. https://hcc.nl/rss-events/evenement/3347-windows-11-23h2
DTSTART:20231202T090000Z
DTEND:20231202T143000Z
LOCATION:Holleblok (Holleblok 2\, 1273 EG Huizen)
SUMMARY:Windows 11 23H2
URL:https://hcc.nl/rss-events/evenement/3347-windows-11-23h2
END:VEVENT
BEGIN:VEVENT
UID:20260420T152459UTC-4936PPUvuV@https://hcc.nl/
DTSTAMP:20260420T152459Z
DESCRIPTION:We verdiepen ons met elkaar in deze materie https://hcc.nl/rss-
 events/evenement/3353-single-board-computer
DTSTART:20231202T083000Z
DTEND:20231202T120000Z
LOCATION:Wijkhuis de Westwijzer  (Cortenbachstraat 70\, 5707 TJ Helmond)
SUMMARY:Single board computer
URL:https://hcc.nl/rss-events/evenement/3353-single-board-computer
END:VEVENT
BEGIN:VEVENT
UID:20260420T152459UTC-4937h5u8CL@https://hcc.nl/
DTSTAMP:20260420T152459Z
DESCRIPTION:Voor info zie onder werkgroepen https://hcc.nl/rss-events/evene
 ment/3366-fs-vliegdag
DTSTART:20231202T090000Z
DTEND:20231202T153000Z
LOCATION:Wijkcentrum 't Slot (Kastelenplein 167\, 5653 LX Eindhoven)
SUMMARY:FS Vliegdag
URL:https://hcc.nl/rss-events/evenement/3366-fs-vliegdag
END:VEVENT
BEGIN:VEVENT
UID:20260420T152459UTC-49376wopDu@https://hcc.nl/
DTSTAMP:20260420T152459Z
DESCRIPTION:Zaal open 13:00 uur.Lezing start om : 14:00 uur.\n  https://hcc
 .nl/rss-events/evenement/3375-lezing-domotica
DTSTART:20231202T120000Z
DTEND:20231202T160000Z
LOCATION:Olympiagebouw (Olympiaweg 17\, 1816 MJ Alkmaar)
SUMMARY:Lezing Domotica
URL:https://hcc.nl/rss-events/evenement/3375-lezing-domotica
END:VEVENT
BEGIN:VEVENT
UID:20260420T152459UTC-4937fGG4v8@https://hcc.nl/
DTSTAMP:20260420T152459Z
DESCRIPTION: \nZaterdag\, 02 December 2023\, 19:00 - 21:00\n   \nWe houden 
 weer een online bijeenkomst over Pascal.\nAanmelden is niet nodig\, zie de
  voorpagina  voor meer informatie. https://hcc.nl/rss-events/evenement/338
 5-online-pascal-sessie
DTSTART:20231202T170000Z
DTEND:20231202T200000Z
LOCATION:Online ()
SUMMARY:Online Pascal sessie
URL:https://hcc.nl/rss-events/evenement/3385-online-pascal-sessie
END:VEVENT
BEGIN:VEVENT
UID:20260420T152459UTC-4937fjaXmu@https://hcc.nl/
DTSTAMP:20260420T152459Z
DESCRIPTION:Op zaterdag 2 december a.s. heeft HCC!midden-Brabant weer de ge
 bruikelijke inloopmiddag samen met Computer Vrienden Oisterwijk (C.V.O. / 
 PTCC).  Vanaf 13.30 uur tot ongeveer 16.00 uur kunt u hiervoor terecht in 
 wijkcentrum 'de Pannenschuur' aan de Lavendel 9 te 5061WB Oisterwijk. (par
 keren kan voor de deur).\nU bent van harte welkom.\nOok op de locatie 'de 
 Pannenschuur' staat de koffie weer klaar! https://hcc.nl/rss-events/evenem
 ent/3391-clubbijeenkomst-samen-met-cvo-in-oisterwijk
DTSTART:20231202T123000Z
DTEND:20231202T150000Z
LOCATION:Wijkcentrum de Pannenschuur (Lavendel 9\, 5061 WB Oisterwijk)
SUMMARY:Clubbijeenkomst (samen met CVO) in Oisterwijk.
URL:https://hcc.nl/rss-events/evenement/3391-clubbijeenkomst-samen-met-cvo-
 in-oisterwijk
END:VEVENT
BEGIN:VEVENT
UID:20260420T152459UTC-4938Mi9I8e@https://hcc.nl/
DTSTAMP:20260420T152459Z
DESCRIPTION:---------------------------------------------------------------
 ------------------------------\nZaterdag 2 december 2023\, vanaf 11.00 uur
  tot 16.00 uur\, organiseren we de tiende en laatste clubdag van 2023 in D
 e Meern.\nIedereen is welkom\, ook als je eens wilt kijken wat we allemaal
  op onze clubdag doen. https://hcc.nl/rss-events/evenement/3394-clubdag-hc
 c-trainsim
DTSTART:20231202T100000Z
DTEND:20231202T150000Z
LOCATION:Cultureel Centrum De Schalm (Oranjelaan 10\, 3454 BT De Meern)
SUMMARY:Clubdag HCC!trainsim
URL:https://hcc.nl/rss-events/evenement/3394-clubdag-hcc-trainsim
END:VEVENT
END:VCALENDAR
