BEGIN:VCALENDAR
VERSION:2.0
PRODID:-//https://hcc.nl///NONSGML kigkonsult.se iCalcreator 2.10.15//
METHOD:PUBLISH
BEGIN:VEVENT
UID:20260420T194553UTC-9282vIBLP0@https://hcc.nl/
DTSTAMP:20260420T194553Z
DESCRIPTION:Alle werkgroepen zijn aanwezig. De meesten verzorgen maandelijk
 s de presentatie. De Borduurgroep of misschien liever de werkgroep Creatie
 ve Werkvormen bezet elke week zelfs een aparte zaal. https://hcc.nl/rss-ev
 ents/evenement/2302-inloop-voor-alle-werkgroepen
DTSTART:20231130T180000Z
DTEND:20231130T213000Z
LOCATION:NewTechPark (Vlijtseweg 148\, 7317 AK Apeldoorn)
SUMMARY:Inloop voor alle werkgroepen
URL:https://hcc.nl/rss-events/evenement/2302-inloop-voor-alle-werkgroepen
END:VEVENT
BEGIN:VEVENT
UID:20260420T194553UTC-9283J2UMwP@https://hcc.nl/
DTSTAMP:20260420T194553Z
DESCRIPTION:Onze inloop is bedoeld voor iedereen die praktische hulp en ond
 ersteuning nodig heeft bij het gebruik van uw tablet en smartphone.\nTe de
 nken valt aan:- apps installeren- accounts aanmaken op uw apparaten (breng
  dan uw inloggegevens mee)- E-mail problemen.- Instellingen aanpassenZowel
  voor Apple\, Android als Windows!\nOnze deskundigen zitten klaar om u met
  raad en daad terzijde te staan. https://hcc.nl/rss-events/evenement/2629-
 inloop-digitale-hulp
DTSTART:20231130T083000Z
DTEND:20231130T100000Z
LOCATION:Wijkcentrum Rozenobel (Dukatenplein 2\, 4205 GE Gorinchem)
SUMMARY:Inloop Digitale Hulp
URL:https://hcc.nl/rss-events/evenement/2629-inloop-digitale-hulp
END:VEVENT
BEGIN:VEVENT
UID:20260420T194553UTC-9283xzNuhf@https://hcc.nl/
DTSTAMP:20260420T194553Z
DESCRIPTION:We houden weer een online sessie over Python..Om 19:00 uur begi
 nt de Python cursus voor beginners\, na een korte pauze is er om ongeveer 
 21:15 uur Python voor gevorderden.\nZie de voorpagina voor meer informatie
 . https://hcc.nl/rss-events/evenement/3389-online-python-sessie
DTSTART:20231130T180000Z
DTEND:20231130T220000Z
LOCATION:Online ()
SUMMARY:Online Python sessie
URL:https://hcc.nl/rss-events/evenement/3389-online-python-sessie
END:VEVENT
END:VCALENDAR
