BEGIN:VCALENDAR
VERSION:2.0
PRODID:-//https://hcc.nl///NONSGML kigkonsult.se iCalcreator 2.10.15//
METHOD:PUBLISH
BEGIN:VEVENT
UID:20260422T134906UTC-4565Vc7VOS@https://hcc.nl/
DTSTAMP:20260422T134906Z
DESCRIPTION:Onze inloop is bedoeld voor iedereen die praktische hulp en ond
 ersteuning nodig heeft bij het gebruik van uw digitale apparatuur\, zoals 
 desktop\, laptop\, tablet en smartphone.Te denken valt aan:• opschonen van
  uw computer• updates downloaden• apps installeren• accounts aanmaken op u
 w apparaten(breng dan wel uw gegevens mee)• e-mail problemen.• instellinge
 n aanpassenOnze deskundigen zitten klaar om u met raad en daad terzijde te
  staan. https://hcc.nl/rss-events/evenement/986-inloop-digitale-hulp
DTSTART:20231129T183000Z
DTEND:20231129T203000Z
LOCATION:Wijkcentrum De Akkers (Lenteakker 5\, 3206 TB Spijkenisse)
SUMMARY:Inloop digitale hulp
URL:https://hcc.nl/rss-events/evenement/986-inloop-digitale-hulp
END:VEVENT
BEGIN:VEVENT
UID:20260422T134906UTC-4566m6h2L4@https://hcc.nl/
DTSTAMP:20260422T134906Z
DESCRIPTION:Heeft u een vraag over of een probleem met uw Android apparaat?
  Onze deskundigen zitten klaar om u te helpen.\n\nInstellingen aanpassen\n
 Downloaden van Apps\nUpdaten van Apps\nInstellen van e-mail\n\nEn nog veel
  meer! https://hcc.nl/rss-events/evenement/1927-inloop-android-hulp
DTSTART:20231129T090000Z
DTEND:20231129T110000Z
LOCATION:Bibliotheek Gorinchem (Groenmarkt 1\, 4201 EE Gorinchem)
SUMMARY:Inloop Android hulp
URL:https://hcc.nl/rss-events/evenement/1927-inloop-android-hulp
END:VEVENT
BEGIN:VEVENT
UID:20260422T134906UTC-4567cJaFez@https://hcc.nl/
DTSTAMP:20260422T134906Z
DESCRIPTION:Heeft u een vraag over of een probleem met uw Android apparaat?
  Onze deskundigen zitten klaar om u te helpen.\n\nInstellingen aanpassen\n
 Downloaden van Apps\nUpdaten van Apps\nInstellen van e-mail\n\nEn nog veel
  meer! https://hcc.nl/rss-events/evenement/2232-inloop-android-hulp
DTSTART:20231129T090000Z
DTEND:20231129T110000Z
LOCATION:Bibliotheek Gorinchem (Groenmarkt 1\, 4201 EE Gorinchem)
SUMMARY:Inloop Android hulp
URL:https://hcc.nl/rss-events/evenement/2232-inloop-android-hulp
END:VEVENT
BEGIN:VEVENT
UID:20260422T134906UTC-45675XHvlH@https://hcc.nl/
DTSTAMP:20260422T134906Z
DESCRIPTION:Je kan geen krant of tijdschrift openslaan zonder verhaaltjes o
 ver ChatGPT en AI (kunstmatige intelligentie) tegen te komen. Deze lezing 
 geeft een overzicht van de verschillende “bots” die momenteel (stand: apri
 l 2023) gangbaar zijn. We bespreken ook de discussie die momenteel speelt 
 over de mogelijke gevaren van AI.\n \nDisclaimer: Er is gebruik gemaakt va
 n informatie die door de bots is gegeven naar aanleiding van vragen. Ander
 e bronnen zijn NY Times\, NRC\, PCActive en natuurlijk het Internet.\n Wat
  zijn chatbots?Een chatbot is een computerprogramma dat automatisch antwoo
 rd geeft op vragen van gebruikers. Het is een soort virtuele assistent die
  je kunt vragen stellen en die je helpt bij het vinden van informatie. Cha
 tbots maken gebruik van Kunstmatige Intelligentie (AI)\, zie verder.\n  ht
 tps://hcc.nl/rss-events/evenement/3246-chatbots-chatgpt
DTSTART:20231129T090000Z
DTEND:20231129T110000Z
LOCATION:'t Vinkhuys  (Diamantlaan 94\, 9743 BJ Groningen)
SUMMARY:Chatbots (ChatGPT)
URL:https://hcc.nl/rss-events/evenement/3246-chatbots-chatgpt
END:VEVENT
BEGIN:VEVENT
UID:20260422T134906UTC-4568RW62aA@https://hcc.nl/
DTSTAMP:20260422T134906Z
DESCRIPTION:We houden weer een online bijeenkomst over Liberty BASIC.\nAanm
 elden is niet nodig\, zie de voorpagina voor meer informatie. https://hcc.
 nl/rss-events/evenement/3323-liberty-basic-sessie
DTSTART:20231129T190000Z
DTEND:20231129T220000Z
LOCATION:Online ()
SUMMARY:Liberty BASIC sessie
URL:https://hcc.nl/rss-events/evenement/3323-liberty-basic-sessie
END:VEVENT
END:VCALENDAR
