BEGIN:VCALENDAR
VERSION:2.0
PRODID:-//https://hcc.nl///NONSGML kigkonsult.se iCalcreator 2.10.15//
METHOD:PUBLISH
BEGIN:VEVENT
UID:20260420T045823UTC-1252vvFlIE@https://hcc.nl/
DTSTAMP:20260420T045823Z
DESCRIPTION:Onze inloop is bedoeld voor iedereen die praktische hulp en ond
 ersteuning nodig heeft bij het gebruik van uw digitale apparatuur\, zoals 
 desktop\, laptop\, tablet en smartphone.Te denken valt aan:• opschonen van
  uw computer• updates downloaden• apps installeren• accounts aanmaken op u
 w apparaten(breng dan wel uw gegevens mee)• e-mail problemen.• instellinge
 n aanpassenOnze deskundigen zitten klaar om u met raad en daad terzijde te
  staan. https://hcc.nl/rss-events/evenement/706-inloop-digitale-hulp
DTSTART:20231128T123000Z
DTEND:20231128T150000Z
LOCATION:Activiteitencentrum Orka  (Broekakkerseweg 1\, 5641 PC Eindhoven)
SUMMARY:Inloop digitale hulp
URL:https://hcc.nl/rss-events/evenement/706-inloop-digitale-hulp
END:VEVENT
BEGIN:VEVENT
UID:20260420T045823UTC-1254ONWmhg@https://hcc.nl/
DTSTAMP:20260420T045823Z
DESCRIPTION:Onze inloop is bedoeld voor iedereen die praktische hulp en ond
 ersteuning nodig heeft bij het gebruik van uw digitale apparatuur\, zoals 
 desktop\, laptop\, tablet en smartphone.Te denken valt aan:• opschonen van
  uw computer• updates downloaden• apps installeren• accounts aanmaken op u
 w apparaten(breng dan wel uw gegevens mee)• e-mail problemen.• instellinge
 n aanpassenOnze deskundigen zitten klaar om u met raad en daad terzijde te
  staan. https://hcc.nl/rss-events/evenement/1261-inloop-digitale-hulp
DTSTART:20231128T090000Z
DTEND:20231128T110000Z
LOCATION:Bibliotheek Hardinxveld-Giessendam (Pietersweer 34\, 3371 PN Hardi
 nxveld-Giessendam)
SUMMARY:Inloop digitale hulp
URL:https://hcc.nl/rss-events/evenement/1261-inloop-digitale-hulp
END:VEVENT
BEGIN:VEVENT
UID:20260420T045823UTC-1255ESjd29@https://hcc.nl/
DTSTAMP:20260420T045823Z
DESCRIPTION:Je bent elke dinsdag- en donderdagavond welkom in onze locatie 
 NewTechPark\nDe dinsdag is voor de makers\, 3D-ontwerpen\, scannen en prin
 ten\, vaak zijn dat ook liefhebbers van robotica\, drones en programmeren.
 Als je dinsdagavond tussen 19.00 en 20.00 uur inlogt met Jitsi\, kun je ke
 nnismaken met hcc!3D. Soms kun je desgevraagd ook online meedoen met een a
 ctiviteit.\nDat kan dan op:   https://wij.hcc.nl/3D (Alleen toegang als je
  zichtbaar bent met voor- en achternaam. ) https://hcc.nl/rss-events/evene
 ment/2109-bijeenkomst-hcc-3d
DTSTART:20231128T180000Z
DTEND:20231128T210000Z
LOCATION:NewTechPark (Vlijtseweg 148\, 7317 AK Apeldoorn)
SUMMARY:Bijeenkomst HCC!3d
URL:https://hcc.nl/rss-events/evenement/2109-bijeenkomst-hcc-3d
END:VEVENT
BEGIN:VEVENT
UID:20260420T045823UTC-1256UEagI9@https://hcc.nl/
DTSTAMP:20260420T045823Z
DESCRIPTION:Voor leden met interesse en passie voor Open Source software is
  op deze bijeenkomst ‘de’ gelegenheid om als Open Source werkgroep samen t
 e komen en elkaars kennis en handigheid op dit gebied te kunnen delen.Onde
 r leiding van werkgroep coördinator Tjeerd Hamm ervaren we samen de mooie 
 voordelen en uitdagingen op het gebied van Open Source software en daaraan
  gerelateerde hardware zoals de Raspberry PI\; Open Source software is mee
 stal gratis en dus legaal te downloaden\, de broncode is vrij beschikbaar 
 en bovendien meestal vrij te bewerken en/of kopiëren. Veel deelnemers neme
 n een notebook of hun Raspberry PI mee naar de bijeenkomst om het een en a
 nder direct te kunnen uitproberen.Op de Open Source werkgroep bijeenkomste
 n is een Wi-Fi internet verbinding aanwezig\, zodat Open Source programma'
 s\, updates en aanvullingen ter plekke kunnen worden gedownload en (eventu
 eel) met de hulp van een andere deelnemer kunnen worden geïnstalleerd.Verd
 er is het een ideale gelegenheid om met andere leden bij te praten\, ervar
 ingen uit te wisselen en samen met plezier te ontdekken welke mogelijkhede
 n er allemaal zijn.De Open Source werkgroep bijeenkomsten vinden vrijwel e
 lke 4e en 5e (mits die bestaat) dinsdagavond van de maand plaats o.l.v. Tj
 eerd Hamm en starten om 20:00 uur. https://hcc.nl/rss-events/evenement/217
 3-open-source-werkgroep-bijeenkomst
DTSTART:20231128T190000Z
DTEND:20231128T213000Z
LOCATION:Zalencentrum De Witte Kerk (Agnes Huijnstraat 3\, 5914 PE Venlo)
SUMMARY:Open Source werkgroep bijeenkomst
URL:https://hcc.nl/rss-events/evenement/2173-open-source-werkgroep-bijeenko
 mst
END:VEVENT
BEGIN:VEVENT
UID:20260420T045823UTC-1258kE7KOm@https://hcc.nl/
DTSTAMP:20260420T045823Z
DESCRIPTION:Je kan geen krant of tijdschrift openslaan zonder verhaaltjes o
 ver ChatGPT en AI (kunstmatige intelligentie) tegen te komen. Deze lezing 
 geeft een overzicht van de verschillende “bots” die momenteel (stand: apri
 l 2023) gangbaar zijn. We bespreken ook de discussie die momenteel speelt 
 over de mogelijke gevaren van AI.\n Disclaimer: Er is gebruik gemaakt van 
 informatie die door de bots is gegeven naar aanleiding van vragen. Andere 
 bronnen zijn NY Times\, NRC\, PCActive en natuurlijk het Internet.\n Wat z
 ijn chatbots?Een chatbot is een computerprogramma dat automatisch antwoord
  geeft op vragen van gebruikers. Het is een soort virtuele assistent die j
 e kunt vragen stellen en die je helpt bij het vinden van informatie. Chatb
 ots maken gebruik van Kunstmatige Intelligentie (AI)\, zie verder\n  https
 ://hcc.nl/rss-events/evenement/3248-chatbots-chatgpt
DTSTART:20231128T090000Z
DTEND:20231128T110000Z
LOCATION:MFC De Oase  (Ericaplein 1\, 6951 CP Dieren)
SUMMARY:Chatbots (ChatGPT)
URL:https://hcc.nl/rss-events/evenement/3248-chatbots-chatgpt
END:VEVENT
BEGIN:VEVENT
UID:20260420T045823UTC-1259DHTK8Z@https://hcc.nl/
DTSTAMP:20260420T045823Z
DESCRIPTION:Je kan geen krant of tijdschrift openslaan zonder verhaaltjes o
 ver ChatGPT en AI (kunstmatige intelligentie) tegen te komen. Deze lezing 
 geeft een overzicht van de verschillende “bots” die momenteel (stand: apri
 l 2023) gangbaar zijn. We bespreken ook de discussie die momenteel speelt 
 over de mogelijke gevaren van AI.\n Disclaimer: Er is gebruik gemaakt van 
 informatie die door de bots is gegeven naar aanleiding van vragen. Andere 
 bronnen zijn NY Times\, NRC\, PCActive en natuurlijk het Internet.\nWat zi
 jn chatbots?Een chatbot is een computerprogramma dat automatisch antwoord 
 geeft op vragen van gebruikers. Het is een soort virtuele assistent die je
  kunt vragen stellen en die je helpt bij het vinden van informatie. Chatbo
 ts maken gebruik van Kunstmatige Intelligentie (AI)\, zie verder. https://
 hcc.nl/rss-events/evenement/3252-chatbots-chatgpt
DTSTART:20231128T120000Z
DTEND:20231128T150000Z
LOCATION:Huis van de Wijk Oostgaarde (De Linie 5\, 2905 AX Capelle aan den 
 IJssel)
SUMMARY:Chatbots(ChatGPT)
URL:https://hcc.nl/rss-events/evenement/3252-chatbots-chatgpt
END:VEVENT
BEGIN:VEVENT
UID:20260420T045823UTC-1260eGDxSV@https://hcc.nl/
DTSTAMP:20260420T045823Z
DESCRIPTION:Je kan geen krant of tijdschrift openslaan zonder verhaaltjes o
 ver ChatGPT en AI (kunstmatige intelligentie) tegen te komen. Deze lezing 
 geeft een overzicht van de verschillende “bots” die momenteel (stand: apri
 l 2023) gangbaar zijn. We bespreken ook de discussie die momenteel speelt 
 over de mogelijke gevaren van AI.\nDisclaimer: Er is gebruik gemaakt van i
 nformatie die door de bots is gegeven naar aanleiding van vragen. Andere b
 ronnen zijn NY Times\, NRC\, PCActive en natuurlijk het Internet.\n Wat zi
 jn chatbots?Een chatbot is een computerprogramma dat automatisch antwoord 
 geeft op vragen van gebruikers. Het is een soort virtuele assistent die je
  kunt vragen stellen en die je helpt bij het vinden van informatie. Chatbo
 ts maken gebruik van Kunstmatige Intelligentie (AI)\, zie verder.\n  https
 ://hcc.nl/rss-events/evenement/3302-chatbots-chatgpt
DTSTART:20231128T123000Z
DTEND:20231128T150000Z
LOCATION:De Twee Marken  (Trompplein 5\, 3951 CR Maarn)
SUMMARY:Chatbots (ChatGPT)
URL:https://hcc.nl/rss-events/evenement/3302-chatbots-chatgpt
END:VEVENT
BEGIN:VEVENT
UID:20260420T045823UTC-1262tUfUJ9@https://hcc.nl/
DTSTAMP:20260420T045823Z
DESCRIPTION: \nOp deze inloopavond kun je met al je vragen terecht! https:/
 /hcc.nl/rss-events/evenement/3314-inloopavond-zierikzee
DTSTART:20231128T190000Z
DTEND:20231128T210000Z
LOCATION:Scouting Jan Bakker Groep (Van Veenlaan 1\, 4301 NN Zierikzee)
SUMMARY:Inloopavond - Zierikzee
URL:https://hcc.nl/rss-events/evenement/3314-inloopavond-zierikzee
END:VEVENT
BEGIN:VEVENT
UID:20260420T045823UTC-1262Cl8Rjj@https://hcc.nl/
DTSTAMP:20260420T045823Z
DESCRIPTION: We houden weer een online algemene bijeenkomst op dinsdagavond
 .\nAanmelden is niet nodig\, zie de voorpagina voor meer informatie. https
 ://hcc.nl/rss-events/evenement/3325-hcc-programmeren-algemene-sessie
DTSTART:20231128T183000Z
DTEND:20231128T203000Z
LOCATION:Online ()
SUMMARY:HCC!programmeren Algemene sessie
URL:https://hcc.nl/rss-events/evenement/3325-hcc-programmeren-algemene-sess
 ie
END:VEVENT
BEGIN:VEVENT
UID:20260420T045823UTC-1263HubVlp@https://hcc.nl/
DTSTAMP:20260420T045823Z
DESCRIPTION:U kunt binnenlopen! https://hcc.nl/rss-events/evenement/3364-in
 loop
DTSTART:20231128T130000Z
DTEND:20231128T150000Z
LOCATION:De Hoeksteen (kerk) (Velingspad 1\, 9502 RA Stadskanaal)
SUMMARY:Inloop
URL:https://hcc.nl/rss-events/evenement/3364-inloop
END:VEVENT
BEGIN:VEVENT
UID:20260420T045823UTC-1264Vsw0M5@https://hcc.nl/
DTSTAMP:20260420T045823Z
DESCRIPTION:Bij computerproblemen kunnen HCC!leden hier een oplossing krijg
 en https://hcc.nl/rss-events/evenement/3368-helpdesk
DTSTART:20231128T123000Z
DTEND:20231128T143000Z
LOCATION:Activiteitencentrum Orka  (Broekakkerseweg 1\, 5641 PC Eindhoven)
SUMMARY:Helpdesk
URL:https://hcc.nl/rss-events/evenement/3368-helpdesk
END:VEVENT
END:VCALENDAR
