BEGIN:VCALENDAR
VERSION:2.0
PRODID:-//https://hcc.nl///NONSGML kigkonsult.se iCalcreator 2.10.15//
METHOD:PUBLISH
BEGIN:VEVENT
UID:20260421T034249UTC-1936bGRd06@https://hcc.nl/
DTSTAMP:20260421T034249Z
DESCRIPTION:Heeft u een vraag over of een probleem met uw Android apparaat?
  Onze deskundigen zitten klaar om u te helpen.\n\nInstellingen aanpassen\n
 Downloaden van Apps\nUpdaten van Apps\nInstellen van e-mail\n\nEn nog veel
  meer! https://hcc.nl/rss-events/evenement/1591-inloop-android-hulp
DTSTART:20231127T190000Z
DTEND:20231127T210000Z
LOCATION:Huis van de Wijk Oostgaarde (De Linie 5\, 2905 AX Capelle aan den 
 IJssel)
SUMMARY:Inloop Android hulp
URL:https://hcc.nl/rss-events/evenement/1591-inloop-android-hulp
END:VEVENT
BEGIN:VEVENT
UID:20260421T034249UTC-1938WEPmoV@https://hcc.nl/
DTSTAMP:20260421T034249Z
DESCRIPTION:We houden weer een online bijeenkomst over Visual Basic.\nAanme
 lden is niet nodig\, zie de voorpagina voor meer informatie. https://hcc.n
 l/rss-events/evenement/3327-visual-basic-sessie
DTSTART:20231127T190000Z
DTEND:20231127T220000Z
LOCATION:Online ()
SUMMARY:Visual Basic sessie
URL:https://hcc.nl/rss-events/evenement/3327-visual-basic-sessie
END:VEVENT
BEGIN:VEVENT
UID:20260421T034249UTC-19381COzPR@https://hcc.nl/
DTSTAMP:20260421T034249Z
DESCRIPTION:Hoe re­gel je je di­gi­ta­le na­la­ten­schap?Na jouw overlijden
  staan je computer en online accounts op slot voor nabestaanden\, als zij 
 geen wachtwoord hebben. Misschien leef je nog jaren na je dood door op Fac
 ebook. Regel je digitale nalatenschap op tijd en hoe gaat dat met ons digi
 tale nalatenschap? Als je dit regelt bespaart het je nabestaanden veel wer
 k.\nOm deze middag in Hardinxveld bij te wonen dient u zich wel aan te mel
 den via de site van de bibliotheek. Doe dat via de volgende link:  \nhttps
 ://www.debibliotheekaanzet.nl/activiteiten/hoe-regel-je-je-digitale-nalate
 nschap?waar=hardinxveld-giessendam https://hcc.nl/rss-events/evenement/337
 3-digitale-nalatenschap
DTSTART:20231127T123000Z
DTEND:20231127T140000Z
LOCATION:Bibliotheek Hardinxveld-Giessendam (Pietersweer 34\, 3371 PN Hardi
 nxveld-Giessendam)
SUMMARY:Digitale Nalatenschap
URL:https://hcc.nl/rss-events/evenement/3373-digitale-nalatenschap
END:VEVENT
END:VCALENDAR
