BEGIN:VCALENDAR
VERSION:2.0
PRODID:-//https://hcc.nl///NONSGML kigkonsult.se iCalcreator 2.10.15//
METHOD:PUBLISH
BEGIN:VEVENT
UID:20260422T144015UTC-9402Nms1i9@https://hcc.nl/
DTSTAMP:20260422T144015Z
DESCRIPTION:Onze inloop is bedoeld voor iedereen die praktische hulp en ond
 ersteuning nodig heeft bij het gebruik van uw digitale apparatuur\, zoals 
 desktop\, laptop\, tablet en smartphone.\nTe denken valt aan:\n-opschonen 
 van uw computer. -updates downloaden. - apps installeren. -accounts aanmak
 en op uw apparaten (breng dan wel uw gegevens mee). -e-mail problemen.- in
 stellingen aanpassen.\nOnze Apple\, Android\, Windows en Linux deskundigen
  zitten klaar om u met raad en daad terzijde te staan.\nVanaf deze maand z
 ijn er ook deskundigen aanwezig van het Informatiepunt Digitale Overheid. 
 Waar kun je terecht als je vragen hebt over hoe je websites van de overhei
 d kunt gebruiken? Wat kun je doen als je moeite hebt om bijvoorbeeld een D
 igiD aan te vragen of een boete online te betalen?\nDeze inloop is uitslui
 tend toegankelijk voor leden van FNV en HCC. https://hcc.nl/rss-events/eve
 nement/3161-inloop-digitale-hulp
DTSTART:20231124T120000Z
DTEND:20231124T150000Z
LOCATION:FNV Regionaal Vakbondshuis (Pegasusweg 200\, 3067 KX Rotterdam)
SUMMARY:Inloop Digitale Hulp
URL:https://hcc.nl/rss-events/evenement/3161-inloop-digitale-hulp
END:VEVENT
BEGIN:VEVENT
UID:20260422T144015UTC-9403l2UtcO@https://hcc.nl/
DTSTAMP:20260422T144015Z
DESCRIPTION:We houden weer een online bijeenkomst over Games programmeren.
 \nAanmelden is niet nodig. Zie de voorpagina voor meer informatie. https:/
 /hcc.nl/rss-events/evenement/3331-games-programmeren-sessie
DTSTART:20231124T190000Z
DTEND:20231124T210000Z
LOCATION:Online ()
SUMMARY:Games programmeren sessie
URL:https://hcc.nl/rss-events/evenement/3331-games-programmeren-sessie
END:VEVENT
END:VCALENDAR
