BEGIN:VCALENDAR
VERSION:2.0
PRODID:-//https://hcc.nl///NONSGML kigkonsult.se iCalcreator 2.10.15//
METHOD:PUBLISH
BEGIN:VEVENT
UID:20260421T042002UTC-0897v2osAn@https://hcc.nl/
DTSTAMP:20260421T042002Z
DESCRIPTION:Presentatie over een computergerelateerd onderwerp op begrijpel
 ijk niveau. Kijk op seniorenacademie.hcc.nl voor het actuele onderwerp htt
 ps://hcc.nl/rss-events/evenement/1811-maandelijkse-presentatie-van-de-seni
 orenacademie
DTSTART:20231123T090000Z
DTEND:20231123T110026Z
LOCATION:Wijkhuis de Westwijzer  (Cortenbachstraat 70\, 5707 TJ Helmond)
SUMMARY:Maandelijkse presentatie van de Seniorenacademie
URL:https://hcc.nl/rss-events/evenement/1811-maandelijkse-presentatie-van-d
 e-seniorenacademie
END:VEVENT
BEGIN:VEVENT
UID:20260421T042002UTC-0898VuVv6u@https://hcc.nl/
DTSTAMP:20260421T042002Z
DESCRIPTION:Alle werkgroepen zijn aanwezig. De meesten verzorgen maandelijk
 s de presentatie. De Borduurgroep of misschien liever de werkgroep Creatie
 ve Werkvormen bezet elke week zelfs een aparte zaal. https://hcc.nl/rss-ev
 ents/evenement/2300-inloop-voor-alle-werkgroepen
DTSTART:20231123T180000Z
DTEND:20231123T213000Z
LOCATION:NewTechPark (Vlijtseweg 148\, 7317 AK Apeldoorn)
SUMMARY:Inloop voor alle werkgroepen
URL:https://hcc.nl/rss-events/evenement/2300-inloop-voor-alle-werkgroepen
END:VEVENT
BEGIN:VEVENT
UID:20260421T042002UTC-08980E61Fc@https://hcc.nl/
DTSTAMP:20260421T042002Z
DESCRIPTION:Onze inloop is bedoeld voor iedereen die praktische hulp en ond
 ersteuning nodig heeft bij het gebruik van uw tablet en smartphone.Te denk
 en valt aan:- apps installeren- accounts aanmaken op uw apparaten (breng d
 an uw inloggegevens mee)- E-mail problemen.- Instellingen aanpassen\nZowel
  voor Apple\, Android als Windows!Onze deskundigen zitten klaar om u met r
 aad en daad terzijde te staan. https://hcc.nl/rss-events/evenement/2913-in
 loop-digitale-hulp
DTSTART:20231123T083000Z
DTEND:20231123T103000Z
LOCATION:Wijkcentrum Rozenobel (Dukatenplein 2\, 4205 GE Gorinchem)
SUMMARY:Inloop Digitale Hulp
URL:https://hcc.nl/rss-events/evenement/2913-inloop-digitale-hulp
END:VEVENT
BEGIN:VEVENT
UID:20260421T042002UTC-0899583xhP@https://hcc.nl/
DTSTAMP:20260421T042002Z
DESCRIPTION:Op donderdag 23 november (dus net voor Black Friday) geven we j
 e vanaf 20:00u na wat uitleg over Apple’s Herinneringen app en de nieuwe M
 3 Macs enkele aanschaf adviezen voor een iPhone\, iPad of Mac. Afsluitend 
 zullen we ook de meest interessante Black Friday aanbiedingen met elkaar d
 elen. \nAanmelding voor deze online presentatie is (na inloggen) alleen mo
 gelijk voor leden van HCC!apple.\n  https://hcc.nl/rss-events/evenement/33
 15-herinneringen-app-apple-aankoop-adviezen-en-black-friday-tips
DTSTART:20231123T190000Z
DTEND:20231123T203000Z
LOCATION:Online ()
SUMMARY:Herinneringen app\, Apple aankoop adviezen en Black Friday tips
URL:https://hcc.nl/rss-events/evenement/3315-herinneringen-app-apple-aankoo
 p-adviezen-en-black-friday-tips
END:VEVENT
BEGIN:VEVENT
UID:20260421T042002UTC-0899phviWd@https://hcc.nl/
DTSTAMP:20260421T042002Z
DESCRIPTION:Je kan geen krant of tijdschrift openslaan zonder verhaaltjes o
 ver ChatGPT en AI (kunstmatige intelligentie) tegen te komen. Deze lezing 
 geeft een overzicht van de verschillende “bots” die momenteel (stand: apri
 l 2023) gangbaar zijn. We bespreken ook de discussie die momenteel speelt 
 over de mogelijke gevaren van AI. https://hcc.nl/rss-events/evenement/3317
 -presentatie-chatbots
DTSTART:20231123T090000Z
DTEND:20231123T110000Z
LOCATION:Wijkhuis de Westwijzer  (Cortenbachstraat 70\, 5707 TJ Helmond)
SUMMARY:Presentatie Chatbots
URL:https://hcc.nl/rss-events/evenement/3317-presentatie-chatbots
END:VEVENT
BEGIN:VEVENT
UID:20260421T042002UTC-0900MNGhZF@https://hcc.nl/
DTSTAMP:20260421T042002Z
DESCRIPTION:We houden weer een online sessie over Python. Om 19:00 uur begi
 nt de Python cursus voor beginners\, na een korte pauze is er om ongeveer 
 21:15 uur Python voor gevorderden.\nZie de voorpagina voor meer informatie
 . https://hcc.nl/rss-events/evenement/3333-python-sessie
DTSTART:20231123T180000Z
DTEND:20231123T220000Z
LOCATION:Online ()
SUMMARY:Python sessie
URL:https://hcc.nl/rss-events/evenement/3333-python-sessie
END:VEVENT
END:VCALENDAR
