BEGIN:VCALENDAR
VERSION:2.0
PRODID:-//https://hcc.nl///NONSGML kigkonsult.se iCalcreator 2.10.15//
METHOD:PUBLISH
BEGIN:VEVENT
UID:20260421T061348UTC-0723dgkGpV@https://hcc.nl/
DTSTAMP:20260421T061348Z
DESCRIPTION:Onze inloop is bedoeld voor iedereen die praktische hulp en ond
 ersteuning nodig heeft bij het gebruik van uw digitale apparatuur\, zoals 
 desktop\, laptop\, tablet en smartphone.Te denken valt aan:• opschonen van
  uw computer• updates downloaden• apps installeren• accounts aanmaken op u
 w apparaten(breng dan wel uw gegevens mee)• e-mail problemen.• instellinge
 n aanpassenOnze deskundigen zitten klaar om u met raad en daad terzijde te
  staan. https://hcc.nl/rss-events/evenement/984-inloop-digitale-hulp
DTSTART:20231122T183000Z
DTEND:20231122T203000Z
LOCATION:Wijkcentrum De Akkers (Lenteakker 5\, 3206 TB Spijkenisse)
SUMMARY:Inloop digitale hulp
URL:https://hcc.nl/rss-events/evenement/984-inloop-digitale-hulp
END:VEVENT
BEGIN:VEVENT
UID:20260421T061348UTC-0724gHkxXN@https://hcc.nl/
DTSTAMP:20260421T061348Z
DESCRIPTION:Heeft u een vraag over of een probleem met uw Android apparaat?
  Onze deskundigen zitten klaar om u te helpen.\n\nInstellingen aanpassen\n
 Downloaden van Apps\nUpdaten van Apps\nInstellen van e-mail\n\nEn nog veel
  meer! https://hcc.nl/rss-events/evenement/1925-inloop-android-hulp
DTSTART:20231122T090000Z
DTEND:20231122T110000Z
LOCATION:Bibliotheek Gorinchem (Groenmarkt 1\, 4201 EE Gorinchem)
SUMMARY:Inloop Android hulp
URL:https://hcc.nl/rss-events/evenement/1925-inloop-android-hulp
END:VEVENT
BEGIN:VEVENT
UID:20260421T061348UTC-0724MvAevJ@https://hcc.nl/
DTSTAMP:20260421T061348Z
DESCRIPTION:Heeft u een vraag over of een probleem met uw Android apparaat?
  Onze deskundigen zitten klaar om u te helpen.\n\nInstellingen aanpassen\n
 Downloaden van Apps\nUpdaten van Apps\nInstellen van e-mail\n\nEn nog veel
  meer! https://hcc.nl/rss-events/evenement/2230-inloop-android-hulp
DTSTART:20231122T090000Z
DTEND:20231122T110000Z
LOCATION:Bibliotheek Gorinchem (Groenmarkt 1\, 4201 EE Gorinchem)
SUMMARY:Inloop Android hulp
URL:https://hcc.nl/rss-events/evenement/2230-inloop-android-hulp
END:VEVENT
BEGIN:VEVENT
UID:20260421T061348UTC-0725pXUWU0@https://hcc.nl/
DTSTAMP:20260421T061348Z
DESCRIPTION:De Regio’s Groningen\, Zuid-Drenthe en Fryslân organiseren geza
 menlijk één keer per maand een video-koffie-uur.\nKijk op de voorpagina vo
 or meer informatie. https://hcc.nl/rss-events/evenement/2870-koffie-uurtje
 -hcc-noord
DTSTART:20231122T183000Z
DTEND:20231122T193000Z
LOCATION:Online ()
SUMMARY:Koffie uurtje HCC!noord
URL:https://hcc.nl/rss-events/evenement/2870-koffie-uurtje-hcc-noord
END:VEVENT
BEGIN:VEVENT
UID:20260421T061348UTC-0725tZkpzX@https://hcc.nl/
DTSTAMP:20260421T061348Z
DESCRIPTION:In de ledenvergadering zullen we de activiteiten en de financië
 n van HCC!groningen behandelen.\nTevens hebben we voor de aanwezigen een U
 SB-stick met allerlei nuttige en leuke programma's\nTijdens de bijeenkomst
  gaan we de programma's toelichten.\nDe bijeenkomst wordt gehouden in Borg
 er.\n\n  https://hcc.nl/rss-events/evenement/3240-algemene-ledenvergaderin
 g-hcc-groningen
DTSTART:20231122T130000Z
DTEND:20231122T153000Z
LOCATION: ()
SUMMARY:Algemene ledenvergadering HCC!Groningen
URL:https://hcc.nl/rss-events/evenement/3240-algemene-ledenvergadering-hcc-
 groningen
END:VEVENT
BEGIN:VEVENT
UID:20260421T061348UTC-07252VdvPB@https://hcc.nl/
DTSTAMP:20260421T061348Z
DESCRIPTION:Zaal 8\,  20:00 - 22:30 uur:\nBeste lezer\,\nDe SeniorenInloop 
 van september 2022 leidde ertoe dat een klein groepje enthousiasten de mee
 st uitgebreide versie van Linux Mint 21 in de Cinnamon uitvoering installe
 erde op een oude pc. En dat gaat wonderbaarlijk goed. De PC reageert probl
 eemloos en alle benodigde creatieve (foto) en kantoor software staan er st
 andaard op en werkt subliem. \nAls jij op ziet tegen (of niet mee kunt naa
 r) Windows 11 en een mooie PC hebt die je eigenlijk niet wilt vervangen… k
 om dan eens kijken hoe makkelijk zo’n oudere pc toch nog kan werken.Er is 
 heel veel software\, voor allerlei internetgebruik en kantoortaken standaa
 rd in Linux Mint aanwezig en nog veel meer zonder kosten binnen de Linux w
 erkgroepen world wide. Kom eens kijken. Ook als je al wat ervaring hebt en
  je verder bekwamen wilt in Linux… Of er simpelweg een keer kennis mee wil
 t maken. Je bent (vrijblijvend!) welkom! \nWij zitten deze keer in zaal 8 
 op de 1e etage.I.v.m. de landelijke verkiezingen wordt de Grote Zaal op de
  BG als stembureau gebruikt. https://hcc.nl/rss-events/evenement/3298-linu
 x-mint-werkgroep
DTSTART:20231122T190000Z
DTEND:20231122T213000Z
LOCATION:De Meent  (Orion 3\, 1188 AM Amstelveen)
SUMMARY:Linux Mint werkgroep. 
URL:https://hcc.nl/rss-events/evenement/3298-linux-mint-werkgroep
END:VEVENT
BEGIN:VEVENT
UID:20260421T061348UTC-0726AId2S8@https://hcc.nl/
DTSTAMP:20260421T061348Z
DESCRIPTION:Zaal 1 en online\,  20:00 - 22:30 uur:\nBeste lezer\,\nDe deeln
 emers praten over heel diverse Internet of Things dingen waarbij ze gerust
  ook verder praten over de 3D onderwerpen van 8 november jl.\nKom deze avo
 nd naar de Meent of kies voor online deelname. In dat geval stuur je een m
 ailtje met je HCC lidnummer en IoT online op de onderwerpregel\, aan hccre
 gio.amsterdam@gmail.comVoor fysieke deelname kom je gewoon naar de Meent. 
 Geïnteresseerd maar geen HCC! lid? Ook dan ben je welkom!\nLet op: eerst e
 ven registreren in de Zaal 8 op de 1e etage en dan naar de bijeenkomst in 
 Zaal 1 op de 1e etage. https://hcc.nl/rss-events/evenement/3304-iot-werkgr
 oep-online-en-de-meent
DTSTART:20231122T190000Z
DTEND:20231122T213000Z
LOCATION:De Meent  (Orion 3\, 1188 AM Amstelveen)
SUMMARY:IoT werkgroep - Online en De Meent
URL:https://hcc.nl/rss-events/evenement/3304-iot-werkgroep-online-en-de-mee
 nt
END:VEVENT
BEGIN:VEVENT
UID:20260421T061348UTC-0727poznCG@https://hcc.nl/
DTSTAMP:20260421T061348Z
DESCRIPTION:Algemene bijeenkomst\,  Zaal 8\nBeste lezer\,\nBezoekers kunnen
  met elkaar van gedachten wisselen over computer onderwerpen en aanverwant
 e zaken waar zij mee bezig zijn. Natuurlijk ben je welkom met vragen over-
  of problemen met computers\, tablets en andere hardware en software. Vaak
  kunnen we problemen ter plaatse oplossen of we helpen je op weg.\nEr is e
 en internet toegang aanwezig en je mag je PC/laptop/tablet meenemen.Ook vi
 nd je er een rijkelijk gevulde leestafel met de nieuwste computerbladen.\n
 Wij zitten deze keer in zaal 8 op de 1e etage.I.v.m. de landelijke verkiez
 ingen wordt de Grote Zaal op de BG als stembureau gebruikt. https://hcc.nl
 /rss-events/evenement/3306-bijeenkomst
DTSTART:20231122T190000Z
DTEND:20231122T213000Z
LOCATION:De Meent  (Orion 3\, 1188 AM Amstelveen)
SUMMARY:Bijeenkomst
URL:https://hcc.nl/rss-events/evenement/3306-bijeenkomst
END:VEVENT
BEGIN:VEVENT
UID:20260421T061348UTC-0727TwIzUC@https://hcc.nl/
DTSTAMP:20260421T061348Z
DESCRIPTION:We houden deze keer een bijeenkomst over Liberty BASIC in Amste
 lveen en online.\nAanmelden is niet nodig\, zie de voorpagina  voor meer i
 nformatie.\n  https://hcc.nl/rss-events/evenement/3335-liberty-basic-bijee
 nkomst-in-amstelveen-en-online
DTSTART:20231122T190000Z
DTEND:20231122T220000Z
LOCATION:De Meent  (Orion 3\, 1188 AM Amstelveen)
SUMMARY:Liberty BASIC bijeenkomst in Amstelveen en online
URL:https://hcc.nl/rss-events/evenement/3335-liberty-basic-bijeenkomst-in-a
 mstelveen-en-online
END:VEVENT
END:VCALENDAR
