BEGIN:VCALENDAR
VERSION:2.0
PRODID:-//https://hcc.nl///NONSGML kigkonsult.se iCalcreator 2.10.15//
METHOD:PUBLISH
BEGIN:VEVENT
UID:20260422T115445UTC-9435ucwbSO@https://hcc.nl/
DTSTAMP:20260422T115445Z
DESCRIPTION:Onze inloop is bedoeld voor iedereen die praktische hulp en ond
 ersteuning nodig heeft bij het gebruik van uw tablet en smartphone.Te denk
 en valt aan:- apps installeren- accounts aanmaken op uw apparaten(breng da
 n uw inloggegevens mee)- E-mail problemen.- Instellingen aanpassenZowel vo
 or Apple\, Android als Windows!Onze deskundigen zitten klaar om u met raad
  en daad terzijde te staan. https://hcc.nl/rss-events/evenement/702-inloop
 -digitale-hulp
DTSTART:20231121T120000Z
DTEND:20231121T140000Z
LOCATION:Bibliotheek Leerdam (Meent 40\, 4141 AC Leerdam)
SUMMARY:Inloop digitale hulp
URL:https://hcc.nl/rss-events/evenement/702-inloop-digitale-hulp
END:VEVENT
BEGIN:VEVENT
UID:20260422T115445UTC-9437Ac7B2n@https://hcc.nl/
DTSTAMP:20260422T115445Z
DESCRIPTION:Onze inloop is bedoeld voor iedereen die praktische hulp en ond
 ersteuning nodig heeft bij het gebruik van uw digitale apparatuur\, zoals 
 desktop\, laptop\, tablet en smartphone.Te denken valt aan:• opschonen van
  uw computer• updates downloaden• apps installeren• accounts aanmaken op u
 w apparaten(breng dan wel uw gegevens mee)• e-mail problemen.• instellinge
 n aanpassenOnze deskundigen zitten klaar om u met raad en daad terzijde te
  staan. https://hcc.nl/rss-events/evenement/704-inloop-digitale-hulp
DTSTART:20231121T123000Z
DTEND:20231121T150000Z
LOCATION:Activiteitencentrum Orka  (Broekakkerseweg 1\, 5641 PC Eindhoven)
SUMMARY:Inloop digitale hulp
URL:https://hcc.nl/rss-events/evenement/704-inloop-digitale-hulp
END:VEVENT
BEGIN:VEVENT
UID:20260422T115445UTC-9437mWBB4d@https://hcc.nl/
DTSTAMP:20260422T115445Z
DESCRIPTION:Onze inloop is bedoeld voor iedereen die praktische hulp en ond
 ersteuning nodig heeft bij het gebruik van uw digitale apparatuur\, zoals 
 desktop\, laptop\, tablet en smartphone.Te denken valt aan:• opschonen van
  uw computer• updates downloaden• apps installeren• accounts aanmaken op u
 w apparaten(breng dan wel uw gegevens mee)• e-mail problemen.• instellinge
 n aanpassenOnze deskundigen zitten klaar om u met raad en daad terzijde te
  staan. https://hcc.nl/rss-events/evenement/1259-inloop-digitale-hulp
DTSTART:20231121T090000Z
DTEND:20231121T110000Z
LOCATION:Bibliotheek Hardinxveld-Giessendam (Pietersweer 34\, 3371 PN Hardi
 nxveld-Giessendam)
SUMMARY:Inloop digitale hulp
URL:https://hcc.nl/rss-events/evenement/1259-inloop-digitale-hulp
END:VEVENT
BEGIN:VEVENT
UID:20260422T115445UTC-9438LTZl6X@https://hcc.nl/
DTSTAMP:20260422T115445Z
DESCRIPTION:Onze inloop is bedoeld voor iedereen die praktische hulp en ond
 ersteuning nodig heeft bij het gebruik van uw tablet en smartphone.\nTe de
 nken valt aan:- apps installeren- accounts aanmaken op uw apparaten (breng
  dan uw inloggegevens mee)- e-mail problemen.- instellingen aanpassenZowel
  voor Apple\, Android als Windows!Onze deskundigen zitten klaar om u met r
 aad en daad terzijde te staan. https://hcc.nl/rss-events/evenement/1690-in
 loop-digitale-hulp
DTSTART:20231121T120000Z
DTEND:20231121T140000Z
LOCATION:Bibliotheek Leerdam (Meent 40\, 4141 AC Leerdam)
SUMMARY:Inloop digitale hulp
URL:https://hcc.nl/rss-events/evenement/1690-inloop-digitale-hulp
END:VEVENT
BEGIN:VEVENT
UID:20260422T115445UTC-9439lvpHZs@https://hcc.nl/
DTSTAMP:20260422T115445Z
DESCRIPTION:Onze inloop is bedoeld voor iedereen die praktische hulp en ond
 ersteuning nodig heeft bij het gebruik van uw tablet en smartphone.Te denk
 en valt aan:- apps installeren- accounts aanmaken op uw apparaten (breng d
 an uw inloggegevens mee)- e-mail problemen.- instellingen aanpassenZowel v
 oor Apple\, Android als Windows!Onze deskundigen zitten klaar om u met raa
 d en daad terzijde te staan. https://hcc.nl/rss-events/evenement/2015-inlo
 op-digitale-hulp
DTSTART:20231121T120000Z
DTEND:20231121T140000Z
LOCATION:Bibliotheek Leerdam (Meent 40\, 4141 AC Leerdam)
SUMMARY:Inloop digitale hulp
URL:https://hcc.nl/rss-events/evenement/2015-inloop-digitale-hulp
END:VEVENT
BEGIN:VEVENT
UID:20260422T115445UTC-9439X4br4s@https://hcc.nl/
DTSTAMP:20260422T115445Z
DESCRIPTION:Je bent elke dinsdag- en donderdagavond welkom in onze locatie 
 NewTechPark\nDe dinsdag is voor de makers\, 3D-ontwerpen\, scannen e print
 en\, vaak zijn dat ook liefhebbers van robotica\, drones en programmeren.A
 ls je dinsdagavond tussen 19.00 en 20.00 uur inlogt met Jitsi\, kun je ken
 nismaken met hcc!3D. Soms kun je desgevraagd ook online meedoen met een ac
 tiviteit.\nDat kan dan op:   https://wij.hcc.nl/3D (Alleen toegang als je 
 zichtbaar bent met voor- en achternaam. ) https://hcc.nl/rss-events/evenem
 ent/2107-bijeenkomst-hcc-3d
DTSTART:20231121T180000Z
DTEND:20231121T210000Z
LOCATION:NewTechPark (Vlijtseweg 148\, 7317 AK Apeldoorn)
SUMMARY:Bijeenkomst HCC!3d
URL:https://hcc.nl/rss-events/evenement/2107-bijeenkomst-hcc-3d
END:VEVENT
BEGIN:VEVENT
UID:20260422T115445UTC-9440WuHsr3@https://hcc.nl/
DTSTAMP:20260422T115445Z
DESCRIPTION:Je bent elke dinsdag- en donderdagavond welkom in onze locatie 
 NewTechPark\nDe dinsdag is voor de makers\, 3D-ontwerpen\, scannen e print
 en\, vaak zijn dat ook liefhebbers van robotica\, drones en programmeren.A
 ls je dinsdagavond tussen 19.00 en 20.00 uur inlogt met Jitsi\, kun je ken
 nismaken met hcc!3D. Soms kun je desgevraagd ook online meedoen met een ac
 tiviteit.\nDat kan dan op: https://wij.hcc.nl/3D (Alleen toegang als je zi
 chtbaar bent met voor- en achternaam. ) https://hcc.nl/rss-events/evenemen
 t/2830-bijeenkomst-hcc-3d
DTSTART:20231121T180000Z
DTEND:20231121T210000Z
LOCATION:NewTechPark (Vlijtseweg 148\, 7317 AK Apeldoorn)
SUMMARY:Bijeenkomst HCC!3d
URL:https://hcc.nl/rss-events/evenement/2830-bijeenkomst-hcc-3d
END:VEVENT
BEGIN:VEVENT
UID:20260422T115445UTC-9441I3bUf6@https://hcc.nl/
DTSTAMP:20260422T115445Z
DESCRIPTION:Bijeenkomst leden en belangstellenden https://hcc.nl/rss-events
 /evenement/3013-linux
DTSTART:20231121T190000Z
DTEND:20231121T210000Z
LOCATION:Wijkcentrum 't Slot (Kastelenplein 167\, 5653 LX Eindhoven)
SUMMARY:Linux
URL:https://hcc.nl/rss-events/evenement/3013-linux
END:VEVENT
BEGIN:VEVENT
UID:20260422T115445UTC-9441mUrFrt@https://hcc.nl/
DTSTAMP:20260422T115445Z
DESCRIPTION:In locatie Steenwijk gaat het over het thema Windows Update\nDe
  lezing van deze middag gaat in Steenwijk over Windows Update. Dit thema i
 s het nieuwe seizoensthema.\nEr wordt onder andere aandacht gegeven aan de
  vele vernieuwingen die via Windows Update in Windows 11 binnenkomen. Inst
 ellingen nu op bureaublad\, vernieuwd knipprogramma en kladbloek\, etc. He
 t belooft interessant te worden.\n  https://hcc.nl/rss-events/evenement/32
 94-hcc-ijssellanden-houdt-lezing-over-windows-update
DTSTART:20231121T123000Z
DTEND:20231121T153000Z
LOCATION:Theater de Meenthe (Stationsplein 1\, 8331 GM Steenwijk)
SUMMARY:HCC!ijssellanden houdt lezing over Windows Update
URL:https://hcc.nl/rss-events/evenement/3294-hcc-ijssellanden-houdt-lezing-
 over-windows-update
END:VEVENT
BEGIN:VEVENT
UID:20260422T115445UTC-9442jxht6x@https://hcc.nl/
DTSTAMP:20260422T115445Z
DESCRIPTION:Zaal 1\, \nMet een ‘Chat-robots – Demonstructie*’\n(*je kent di
 t woord van Koot & Bie 1975: demonstreren en instrueren)\nIn januari verha
 alde Joop van Dommelen over zijn eerste ervaringen met de 'ChapGTP ChatRob
 ot' en waar je dit 'kunstmatig intelligente Taalmodel'- voor zou kúnnen ge
 bruiken.\nOndertussen heeft Joop veel ervaring opgedaan en verwonderd zich
  nog heel vaak over de veelzijdigheid en de mogelijkheden van zijn favorie
 te 'AI Trio met super-krachten': OpenAI's ChatGTP\, de nieuwe Bing van Mic
 rosoft en Google's Bard.\nOndanks verschillen in gedrag zijn ze alle drie 
 prettig bruikbaar en zeer geschikt voor opnieuw een presentatie van ChatRo
 bots in de vorm van een 'Demonstructie' onder de noemer 'Wat is Artificiël
 e Intelligentie en hoe kun je het gebruiken?'\nJe krijgt - ondanks dat AI 
 ontwikkelaars dagelijks iets nieuws te melden hebben - de meest actuele st
 and van zaken\, geïllustreerd met genoeg redenen om deze drie slimme taals
 ystemen serieuze-\, diepgaande antwoorden te ontfutselen\, verhalen te lat
 en schrijven en grappen te bedenken. En vooral hoe ze nieuwsgierige mensen
  kunnen laten genieten van kunstmatige intelligentie! \nBekijk ook eens de
  onderwerpen en verslagen van veel jaren SeniorenInloop op jemeent.blogspo
 t.com  Is daar iets bij wat om herhaling schreeuwt of een update nodig hee
 ft?Breng ons op ideeën om deze dinsdagmiddagen telkens weer interessant te
  maken\, of nóg leuker: kom het zelf vertellen.  https://hcc.nl/rss-events
 /evenement/3308-senioreninloop
DTSTART:20231121T130000Z
DTEND:20231121T150000Z
LOCATION:De Meent  (Orion 3\, 1188 AM Amstelveen)
SUMMARY:Senioreninloop
URL:https://hcc.nl/rss-events/evenement/3308-senioreninloop
END:VEVENT
BEGIN:VEVENT
UID:20260422T115445UTC-9443EvUJVi@https://hcc.nl/
DTSTAMP:20260422T115445Z
DESCRIPTION:We houden weer een online algemene bijeenkomst.\nAanmelden is n
 iet nodig\, zie de voorpagina voor meer informatie. https://hcc.nl/rss-eve
 nts/evenement/3337-hcc-programmeren-algemene-sessie
DTSTART:20231121T183000Z
DTEND:20231121T203000Z
LOCATION:Online ()
SUMMARY:HCC!programmeren Algemene sessie
URL:https://hcc.nl/rss-events/evenement/3337-hcc-programmeren-algemene-sess
 ie
END:VEVENT
END:VCALENDAR
