BEGIN:VCALENDAR
VERSION:2.0
PRODID:-//https://hcc.nl///NONSGML kigkonsult.se iCalcreator 2.10.15//
METHOD:PUBLISH
BEGIN:VEVENT
UID:20260421T131225UTC-4613puOpu4@https://hcc.nl/
DTSTAMP:20260421T131225Z
DESCRIPTION:Bijkletsen over allerlei ivm Flightsim (of meer) https://hcc.nl
 /rss-events/evenement/1455-zwetsavond
DTSTART:20231120T183000Z
DTEND:20231120T210000Z
LOCATION:Wijkcentrum 't Slot (Kastelenplein 167\, 5653 LX Eindhoven)
SUMMARY:Zwetsavond
URL:https://hcc.nl/rss-events/evenement/1455-zwetsavond
END:VEVENT
BEGIN:VEVENT
UID:20260421T131225UTC-4614KI34tl@https://hcc.nl/
DTSTAMP:20260421T131225Z
DESCRIPTION:Met het gratis CMS Joomla is het maken van een website binnen b
 ereik gekomen voor ieder die zich er in wil verdiepen. Joomla heeft veel m
 ogelijkheden zowel voor de beginnende gebruiker\, de gevorderde hobbyist a
 ls voor de web professional.\nKijk hier voor meer informatie https://hcc.n
 l/rss-events/evenement/2710-gebruikersgroep-joomla-heerenveen
DTSTART:20231120T183000Z
DTEND:20231120T210000Z
LOCATION:MFA. Aengwirden (it Hiem 1-3\, 8458 CA Tjalleberd)
SUMMARY:Gebruikersgroep Joomla! Heerenveen
URL:https://hcc.nl/rss-events/evenement/2710-gebruikersgroep-joomla-heerenv
 een
END:VEVENT
BEGIN:VEVENT
UID:20260421T131225UTC-4615Zl2IgN@https://hcc.nl/
DTSTAMP:20260421T131225Z
DESCRIPTION:Windows 11 23H2 is in aantocht...\nOf wordt het eerst nog 22H2?
 \nDe verwachting is dat de uitrol in oktober zal gaan starten. https://hcc
 .nl/rss-events/evenement/3226-windows-update
DTSTART:20231120T183000Z
DTEND:20231120T210000Z
LOCATION:Kerkelijk Centrum De Brug  (Schuilenburgerweg 2\, 3816 TB Amersfoo
 rt)
SUMMARY:Windows Update
URL:https://hcc.nl/rss-events/evenement/3226-windows-update
END:VEVENT
BEGIN:VEVENT
UID:20260421T131225UTC-4616U8OPsv@https://hcc.nl/
DTSTAMP:20260421T131225Z
DESCRIPTION:Onze inloop is bestemd voor iedereen die hulp bij hun laptop\, 
 tablet\, e-reader\, smart -phone/-tv/-deurbel/enz. nodig hebben. Tot de mo
 gelijkheden behoren ook het maken van een afspraak om bij jou thuis hulp t
 e bieden bij jouw pc\, printer en/of WiFi router problemen.\nOp 14 oktober
  2025 stopt Microsoft met de ondersteuning van alle versies Windows 10.\nW
 at nu!\nEen nieuwe dure laptop of pc kopen om met Windows 11 verder te kun
 nen en jouw oude laptop of pc naar de milieustraat afvoeren?\nWij zeggen n
 iet doen!\nWil je meer weten over de Windows 10 vervanger Linux Mint Cinna
 mon?\nWij vertellen jou wat mogelijk is en er is een laptop met Linux Mint
  Cinnamon aanwezig voor een look and feel ervaring.\nOns team is op de eer
 ste en derde maandagmiddag van de maand In de bibliotheek in Leersum van 1
 4:00 uur tot 15:30 uur aanwezig.\n \n20 november 2023 van 14:00 uur – 15:3
 0 uur\n4 december 2023 van 14:00 uur – 15:30 uur\n18 december 2023 van 14:
 00 uur – 15:30 uur https://hcc.nl/rss-events/evenement/3262-digitale-inloo
 p-leersum
DTSTART:20231120T130000Z
DTEND:20231120T143000Z
LOCATION:Bibliotheek Leersum  (Hoflaan 31\, 3956 ED Leersum)
SUMMARY:Digitale inloop Leersum
URL:https://hcc.nl/rss-events/evenement/3262-digitale-inloop-leersum
END:VEVENT
BEGIN:VEVENT
UID:20260421T131225UTC-46170HHX9w@https://hcc.nl/
DTSTAMP:20260421T131225Z
DESCRIPTION:We houden daar weer de gebruikelijke inloop waar vele interesse
 groepen weer aanwezig zijn. Zij kunnen uw vragen gezamenlijk met u besprek
 en en u voorlichten over de nieuwe ontwikkelingen op uw interessegebied. h
 ttps://hcc.nl/rss-events/evenement/3270-inloop-amersfoort
DTSTART:20231120T183000Z
DTEND:20231120T210000Z
LOCATION:Kerkelijk Centrum De Brug  (Schuilenburgerweg 2\, 3816 TB Amersfoo
 rt)
SUMMARY:Inloop Amersfoort
URL:https://hcc.nl/rss-events/evenement/3270-inloop-amersfoort
END:VEVENT
BEGIN:VEVENT
UID:20260421T131225UTC-4617j8kVgw@https://hcc.nl/
DTSTAMP:20260421T131225Z
DESCRIPTION:Je kan geen krant of tijdschrift openslaan zonder verhaaltjes o
 ver ChatGPT en AI (kunstmatige intelligentie) tegen te komen. Deze lezing 
 geeft een overzicht van de verschillende “bots” die momenteel (stand: apri
 l 2023) gangbaar zijn. We bespreken ook de discussie die momenteel speelt 
 over de mogelijke gevaren van AI.\nDisclaimer: Er is gebruik gemaakt van i
 nformatie die door de bots is gegeven naar aanleiding van vragen. Andere b
 ronnen zijn NY Times\, NRC\, PCActive en natuurlijk het Internet.\nWat zij
 n chatbots?Een chatbot is een computerprogramma dat automatisch antwoord g
 eeft op vragen van gebruikers. Het is een soort virtuele assistent die je 
 kunt vragen stellen en die je helpt bij het vinden van informatie. Chatbot
 s maken gebruik van Kunstmatige Intelligentie (AI)\, zie verder.\n \n  htt
 ps://hcc.nl/rss-events/evenement/3300-chatbots-chatgpt
DTSTART:20231120T130000Z
DTEND:20231120T143000Z
LOCATION:Bibliotheek Leersum  (Hoflaan 31\, 3956 ED Leersum)
SUMMARY:Chatbots (ChatGPT)
URL:https://hcc.nl/rss-events/evenement/3300-chatbots-chatgpt
END:VEVENT
BEGIN:VEVENT
UID:20260421T131225UTC-4618Z5Povp@https://hcc.nl/
DTSTAMP:20260421T131225Z
DESCRIPTION:We houden weer een online bijeenkomst over Visual Basic.\nAanme
 lden is niet nodig\, zie de voorpagina voor meer informatie. https://hcc.n
 l/rss-events/evenement/3339-visual-basic-sessie
DTSTART:20231120T190000Z
DTEND:20231120T220000Z
LOCATION:Online ()
SUMMARY:Visual Basic sessie
URL:https://hcc.nl/rss-events/evenement/3339-visual-basic-sessie
END:VEVENT
END:VCALENDAR
