BEGIN:VCALENDAR
VERSION:2.0
PRODID:-//https://hcc.nl///NONSGML kigkonsult.se iCalcreator 2.10.15//
METHOD:PUBLISH
BEGIN:VEVENT
UID:20260421T183037UTC-9944Hu92S3@https://hcc.nl/
DTSTAMP:20260421T183037Z
DESCRIPTION:De derde zaterdag van de maand houdt hcc!opensource haar bijeen
 komst in H.F. Witte\, de Bilt. https://hcc.nl/rss-events/evenement/1479-re
 guliere-opensource-bijeenkomst
DTSTART:20231118T110000Z
DTEND:20231118T153000Z
LOCATION:Cultureel en Vergadercentrum H.F. Witte (Henri Dunantplein 4\, 373
 1 CL De Bilt)
SUMMARY:Reguliere opensource bijeenkomst
URL:https://hcc.nl/rss-events/evenement/1479-reguliere-opensource-bijeenkom
 st
END:VEVENT
BEGIN:VEVENT
UID:20260421T183037UTC-9946kDVa2w@https://hcc.nl/
DTSTAMP:20260421T183037Z
DESCRIPTION:Onze inloop is bedoeld voor iedereen die praktische hulp en ond
 ersteuning nodig heeft bij het gebruik van uw digitale apparatuur\, zoals 
 desktop\, laptop\, tablet en smartphone.Te denken valt aan:• opschonen van
  uw computer• updates downloaden• apps installeren• accounts aanmaken op u
 w apparaten (breng dan wel uw gegevens mee)• e-mail problemen.• instelling
 en aanpassenOnze deskundigen zitten klaar om u met raad en daad terzijde t
 e staan. https://hcc.nl/rss-events/evenement/1969-inloop-digitale-hulp
DTSTART:20231118T120000Z
DTEND:20231118T150000Z
LOCATION:Wijkcentrum 't Slot (Kastelenplein 167\, 5653 LX Eindhoven)
SUMMARY:Inloop digitale hulp
URL:https://hcc.nl/rss-events/evenement/1969-inloop-digitale-hulp
END:VEVENT
BEGIN:VEVENT
UID:20260421T183037UTC-9947RwJhjV@https://hcc.nl/
DTSTAMP:20260421T183037Z
DESCRIPTION: https://hcc.nl/rss-events/evenement/3121-inloop-bijeenkomst
DTSTART:20231118T120000Z
DTEND:20231118T160000Z
LOCATION:Olympiagebouw (Olympiaweg 17\, 1816 MJ Alkmaar)
SUMMARY:Inloop bijeenkomst
URL:https://hcc.nl/rss-events/evenement/3121-inloop-bijeenkomst
END:VEVENT
BEGIN:VEVENT
UID:20260421T183037UTC-9947UKLP2R@https://hcc.nl/
DTSTAMP:20260421T183037Z
DESCRIPTION:Bijeenkomst van HCC!flightsim in Almere https://hcc.nl/rss-even
 ts/evenement/3243-hcc-flightsim-bijeenkomst-almere
DTSTART:20231118T090000Z
DTEND:20231118T150000Z
LOCATION:Wijkcentrum De Wieken (Wipmolenweg 54\, 1333 GS Almere)
SUMMARY:HCC!Flightsim Bijeenkomst Almere
URL:https://hcc.nl/rss-events/evenement/3243-hcc-flightsim-bijeenkomst-alme
 re
END:VEVENT
BEGIN:VEVENT
UID:20260421T183037UTC-9948UzbvKn@https://hcc.nl/
DTSTAMP:20260421T183037Z
DESCRIPTION:Zaterdag 18 november 2023\, vanaf 11.00 uur tot 16.00 uur\, org
 aniseren we de negende clubdag van 2023 in De Meern.\nIedereen is welkom\,
  ook als je eens wilt kijken wat we allemaal op onze clubdag doen. https:/
 /hcc.nl/rss-events/evenement/3278-clubdag-hcc-trainsim
DTSTART:20231118T100000Z
DTEND:20231118T150000Z
LOCATION:Cultureel Centrum De Schalm (Oranjelaan 10\, 3454 BT De Meern)
SUMMARY:Clubdag HCC!trainsim
URL:https://hcc.nl/rss-events/evenement/3278-clubdag-hcc-trainsim
END:VEVENT
END:VCALENDAR
