BEGIN:VCALENDAR
VERSION:2.0
PRODID:-//https://hcc.nl///NONSGML kigkonsult.se iCalcreator 2.10.15//
METHOD:PUBLISH
BEGIN:VEVENT
UID:20260421T203058UTC-1771hoKAFN@https://hcc.nl/
DTSTAMP:20260421T203058Z
DESCRIPTION:Op de derde vrijdag van de maand bijeenkomst in de Brusselse ra
 nd (Wezembeek-Oppem).\nHet algemene programma:\ninternet\, lokaal netwerk\
 , connectiviteit\;installatie of configuratie van hard- en software\;Windo
 ws PC/Laptop\, ...\;Linux (Ubuntu\, Mint\, Fedora\, ...) & Open Source\;Ta
 blet\, smartphone -- Android\, iOS\, ...\nElke geïnteresseerde computer-/t
 ablet-/smartphone-gebruiker is welkom : om de sfeer te proeven\, om kennis
  te maken met onze leden en hun ICT-bezigheden\, om ervaringen uit te wiss
 elen\, om nieuwe dingen te ontdekken\, en om oplossingen voor hard- en sof
 twarevraagstukken te vinden. https://hcc.nl/rss-events/evenement/2482-inlo
 op-voor-iedereen
DTSTART:20231117T190000Z
DTEND:20231117T220000Z
LOCATION:Gemeenschapscentrum De Kam (Beekstraat 172\, 1970 WE Wezembeek-Opp
 em)
SUMMARY:Inloop voor iedereen
URL:https://hcc.nl/rss-events/evenement/2482-inloop-voor-iedereen
END:VEVENT
BEGIN:VEVENT
UID:20260421T203058UTC-1772Bg6HzR@https://hcc.nl/
DTSTAMP:20260421T203058Z
DESCRIPTION:Je kan geen krant of tijdschrift openslaan zonder verhaaltjes o
 ver ChatGPT en AI (kunstmatige intelligentie) tegen te komen. Deze lezing 
 geeft een overzicht van de verschillende “bots” die momenteel (stand: apri
 l 2023) gangbaar zijn. We bespreken ook de discussie die momenteel speelt 
 over de mogelijke gevaren van AI.\nPresentatie : Wil van der Maarel\nZaal 
 open : 13:30 uur\nStart presentatie : 14:00 uur\n  https://hcc.nl/rss-even
 ts/evenement/3311-chatbots
DTSTART:20231117T123000Z
DTEND:20231117T150000Z
LOCATION:Gemeenschapshuis 't Trefpunt (Pancratiusstraat 23\, 6151 CD Munste
 rgeleen)
SUMMARY:Chatbots
URL:https://hcc.nl/rss-events/evenement/3311-chatbots
END:VEVENT
BEGIN:VEVENT
UID:20260421T203058UTC-1772aE5wU6@https://hcc.nl/
DTSTAMP:20260421T203058Z
DESCRIPTION:Je kan geen krant of tijdschrift openslaan zonder verhaaltjes o
 ver ChatGPT en AI (kunstmatige intelligentie) tegen te komen. Deze lezing 
 geeft een overzicht van de verschillende “bots” die momenteel (stand: apri
 l 2023) gangbaar zijn. We bespreken ook de discussie die momenteel speelt 
 over de mogelijke gevaren van AI.\nPresentatie : Wil van der Maarel\nZaal 
 open : 13:30 uur\nStart presentatie : 14:00 uur https://hcc.nl/rss-events/
 evenement/3319-chatbots
DTSTART:20231117T123000Z
DTEND:20231117T150000Z
LOCATION:Gemeenschapshuis 't Trefpunt (Pancratiusstraat 23\, 6151 CD Munste
 rgeleen)
SUMMARY:Chatbots
URL:https://hcc.nl/rss-events/evenement/3319-chatbots
END:VEVENT
END:VCALENDAR
