BEGIN:VCALENDAR
VERSION:2.0
PRODID:-//https://hcc.nl///NONSGML kigkonsult.se iCalcreator 2.10.15//
METHOD:PUBLISH
BEGIN:VEVENT
UID:20260422T022717UTC-2695gVbh9N@https://hcc.nl/
DTSTAMP:20260422T022717Z
DESCRIPTION: https://hcc.nl/rss-events/evenement/1767-fotokring-helmond
DTSTART:20231116T183000Z
DTEND:20231116T210000Z
LOCATION:Wijkhuis de Westwijzer  (Cortenbachstraat 70\, 5707 TJ Helmond)
SUMMARY:Fotokring Helmond
URL:https://hcc.nl/rss-events/evenement/1767-fotokring-helmond
END:VEVENT
BEGIN:VEVENT
UID:20260422T022717UTC-2696KXHuVh@https://hcc.nl/
DTSTAMP:20260422T022717Z
DESCRIPTION:Alle werkgroepen zijn aanwezig. De meesten verzorgen maandelijk
 s de presentatie. De Borduurgroep of misschien liever de werkgroep Creatie
 ve Werkvormen bezet elke week zelfs een aparte zaal. https://hcc.nl/rss-ev
 ents/evenement/2298-inloop-voor-alle-werkgroepen
DTSTART:20231116T180000Z
DTEND:20231116T213000Z
LOCATION:NewTechPark (Vlijtseweg 148\, 7317 AK Apeldoorn)
SUMMARY:Inloop voor alle werkgroepen
URL:https://hcc.nl/rss-events/evenement/2298-inloop-voor-alle-werkgroepen
END:VEVENT
BEGIN:VEVENT
UID:20260422T022717UTC-26960X5dmS@https://hcc.nl/
DTSTAMP:20260422T022717Z
DESCRIPTION:Onze inloop is bedoeld voor iedereen die praktische hulp en ond
 ersteuning nodig heeft bij het gebruik van uw tablet en smartphone.\nTe de
 nken valt aan:- apps installeren- accounts aanmaken op uw apparaten (breng
  dan uw inloggegevens mee)- E-mail problemen.- Instellingen aanpassenZowel
  voor Apple\, Android als Windows!\nOnze deskundigen zitten klaar om u met
  raad en daad terzijde te staan. https://hcc.nl/rss-events/evenement/2627-
 inloop-digitale-hulp
DTSTART:20231116T083000Z
DTEND:20231116T100000Z
LOCATION:Wijkcentrum Rozenobel (Dukatenplein 2\, 4205 GE Gorinchem)
SUMMARY:Inloop Digitale Hulp
URL:https://hcc.nl/rss-events/evenement/2627-inloop-digitale-hulp
END:VEVENT
BEGIN:VEVENT
UID:20260422T022717UTC-26976CoK7S@https://hcc.nl/
DTSTAMP:20260422T022717Z
DESCRIPTION:Welkom bij de lezing in Zwolle\nDeze avond gaan we bezig met 'm
 odelbaanautomatisering'. Eén van onze leden\, die ook meedoet met HCC!mode
 lbaanautomatering gaat iets vertellen hierover. O.a. zal het programma Roc
 rail besproken worden. En er zal ook een spoorbaantje te zien zijn. Dus pr
 aktijkonderwijs! Het lijkt een zeer interessante avond te worden.\n \n  ht
 tps://hcc.nl/rss-events/evenement/3296-lezing-over-modelbaanautomatisering
DTSTART:20231116T183000Z
DTEND:20231116T210000Z
LOCATION:Wijkcentrum Holtenbroek (Bachlaan 20\, 8031 HL Zwolle)
SUMMARY:Lezing over Modelbaanautomatisering
URL:https://hcc.nl/rss-events/evenement/3296-lezing-over-modelbaanautomatis
 ering
END:VEVENT
END:VCALENDAR
