BEGIN:VCALENDAR
VERSION:2.0
PRODID:-//https://hcc.nl///NONSGML kigkonsult.se iCalcreator 2.10.15//
METHOD:PUBLISH
BEGIN:VEVENT
UID:20260422T135044UTC-0988ng78Ei@https://hcc.nl/
DTSTAMP:20260422T135044Z
DESCRIPTION:Onze inloop is bedoeld voor iedereen die praktische hulp en ond
 ersteuning nodig heeft bij het gebruik van uw digitale apparatuur\, zoals 
 desktop\, laptop\, tablet en smartphone.Te denken valt aan:• opschonen van
  uw computer• updates downloaden• apps installeren• accounts aanmaken op u
 w apparaten(breng dan wel uw gegevens mee)• e-mail problemen.• instellinge
 n aanpassenOnze deskundigen zitten klaar om u met raad en daad terzijde te
  staan. https://hcc.nl/rss-events/evenement/982-inloop-digitale-hulp
DTSTART:20231115T183000Z
DTEND:20231115T203000Z
LOCATION:Wijkcentrum De Akkers (Lenteakker 5\, 3206 TB Spijkenisse)
SUMMARY:Inloop digitale hulp
URL:https://hcc.nl/rss-events/evenement/982-inloop-digitale-hulp
END:VEVENT
BEGIN:VEVENT
UID:20260422T135044UTC-0989mE3Eg5@https://hcc.nl/
DTSTAMP:20260422T135044Z
DESCRIPTION:Voor computergerelateerde problemen met de mogelijkheid tot het
  stellen van vragen. https://hcc.nl/rss-events/evenement/1859-helpdesk-hel
 mond
DTSTART:20231115T130000Z
DTEND:20231115T153000Z
LOCATION:De Geseldonk (Cederhoutstraat 44\, 5706 XC Helmond)
SUMMARY:Helpdesk Helmond
URL:https://hcc.nl/rss-events/evenement/1859-helpdesk-helmond
END:VEVENT
BEGIN:VEVENT
UID:20260422T135044UTC-0990RWZJ0g@https://hcc.nl/
DTSTAMP:20260422T135044Z
DESCRIPTION:Heeft u een vraag over of een probleem met uw Android apparaat?
  Onze deskundigen zitten klaar om u te helpen.\n\nInstellingen aanpassen\n
 Downloaden van Apps\nUpdaten van Apps\nInstellen van e-mail\n\nEn nog veel
  meer! https://hcc.nl/rss-events/evenement/1923-inloop-android-hulp
DTSTART:20231115T090000Z
DTEND:20231115T110000Z
LOCATION:Bibliotheek Gorinchem (Groenmarkt 1\, 4201 EE Gorinchem)
SUMMARY:Inloop Android hulp
URL:https://hcc.nl/rss-events/evenement/1923-inloop-android-hulp
END:VEVENT
BEGIN:VEVENT
UID:20260422T135044UTC-0991b4ot2U@https://hcc.nl/
DTSTAMP:20260422T135044Z
DESCRIPTION:Heeft u een vraag over of een probleem met uw Android apparaat?
  Onze deskundigen zitten klaar om u te helpen.\n\nInstellingen aanpassen\n
 Downloaden van Apps\nUpdaten van Apps\nInstellen van e-mail\n\nEn nog veel
  meer! https://hcc.nl/rss-events/evenement/2228-inloop-android-hulp
DTSTART:20231115T090000Z
DTEND:20231115T110000Z
LOCATION:Bibliotheek Gorinchem (Groenmarkt 1\, 4201 EE Gorinchem)
SUMMARY:Inloop Android hulp
URL:https://hcc.nl/rss-events/evenement/2228-inloop-android-hulp
END:VEVENT
BEGIN:VEVENT
UID:20260422T135044UTC-0991Pv0UJk@https://hcc.nl/
DTSTAMP:20260422T135044Z
DESCRIPTION:Op deze woensdagavond hebben wij weer een online koffie-uurtje 
 voor alle leden van HCC!drones.\nJe kan zonder aanmelding vanuit huis deel
 nemen via de link https://wij.hcc.nl/drones\nWe gaan bijpraten over de laa
 tste ontwikkelingen en vragen beantwoorden. We roepen je op ook zelf actie
 f bij te dragen\, bijv. door een mooie dronefoto of -video aan ons te late
 n zien of je laatste ervaringen met je drone op een mooie locatie te delen
 . https://hcc.nl/rss-events/evenement/3230-online-koffie-uurtje
DTSTART:20231115T183000Z
DTEND:20231115T200000Z
LOCATION:Online ()
SUMMARY: Online koffie-uurtje
URL:https://hcc.nl/rss-events/evenement/3230-online-koffie-uurtje
END:VEVENT
BEGIN:VEVENT
UID:20260422T135044UTC-0992WcZM9x@https://hcc.nl/
DTSTAMP:20260422T135044Z
DESCRIPTION:Vanaf 19:00 voor de beginners.\nVanaf 20:30 voor de gevorderden
 \nU kunt inloggen via https://join.skype.com/KhcIWwV08YeQ\n  https://hcc.n
 l/rss-events/evenement/3258-webinar-homeassistant
DTSTART:20231115T180000Z
DTEND:20231115T210000Z
LOCATION:Online ()
SUMMARY:Webinar Homeassistant
URL:https://hcc.nl/rss-events/evenement/3258-webinar-homeassistant
END:VEVENT
BEGIN:VEVENT
UID:20260422T135044UTC-0992jUmvCj@https://hcc.nl/
DTSTAMP:20260422T135044Z
DESCRIPTION:Beste lezer\,\nVanavond komen de leden van onze 'Liberty BASIC 
 programmeer werkgroep’\, deze maand voor de derde keer online bijeen.\nJe 
 kunt online meedoen met de Liberty BASIC programmeer werkgroep. LibertyBAS
 IC programmeren is eenvoudig(er) dan andere BASIC talen en daagt uit. Libe
 rty Basic bijeenkomsten zijn interessant\, voor zowel beginners- als gevor
 derden.\nVoor meer informatie en instructies kijk je op https://programmer
 en.hcc.nl/ of mail de coördinator: coördinator/docent\nMisschien heb je oo
 k zin in de maandelijkse HCC!programmeren bijeenkomst (fysiek en online). 
 https://hcc.nl/rss-events/evenement/3310-liberty-basic-werkgroep
DTSTART:20231115T190000Z
DTEND:20231115T203000Z
LOCATION:Online ()
SUMMARY:Liberty Basic werkgroep
URL:https://hcc.nl/rss-events/evenement/3310-liberty-basic-werkgroep
END:VEVENT
END:VCALENDAR
