BEGIN:VCALENDAR
VERSION:2.0
PRODID:-//https://hcc.nl///NONSGML kigkonsult.se iCalcreator 2.10.15//
METHOD:PUBLISH
BEGIN:VEVENT
UID:20260423T003741UTC-3702LujM3g@https://hcc.nl/
DTSTAMP:20260423T003741Z
DESCRIPTION:Onze inloop is bedoeld voor iedereen die praktische hulp en ond
 ersteuning nodig heeft bij het gebruik van uw digitale apparatuur\, zoals 
 desktop\, laptop\, tablet en smartphone.Te denken valt aan:• opschonen van
  uw computer• updates downloaden• apps installeren• accounts aanmaken op u
 w apparaten(breng dan wel uw gegevens mee)• e-mail problemen.• instellinge
 n aanpassenOnze deskundigen zitten klaar om u met raad en daad terzijde te
  staan. https://hcc.nl/rss-events/evenement/700-inloop-digitale-hulp
DTSTART:20231114T123000Z
DTEND:20231114T150000Z
LOCATION:Activiteitencentrum Orka  (Broekakkerseweg 1\, 5641 PC Eindhoven)
SUMMARY:Inloop digitale hulp
URL:https://hcc.nl/rss-events/evenement/700-inloop-digitale-hulp
END:VEVENT
BEGIN:VEVENT
UID:20260423T003741UTC-37046GnuPh@https://hcc.nl/
DTSTAMP:20260423T003741Z
DESCRIPTION:Onze inloop is bedoeld voor iedereen die praktische hulp en ond
 ersteuning nodig heeft bij het gebruik van uw digitale apparatuur\, zoals 
 desktop\, laptop\, tablet en smartphone.Te denken valt aan:• opschonen van
  uw computer• updates downloaden• apps installeren• accounts aanmaken op u
 w apparaten(breng dan wel uw gegevens mee)• e-mail problemen.• instellinge
 n aanpassenOnze deskundigen zitten klaar om u met raad en daad terzijde te
  staan. https://hcc.nl/rss-events/evenement/1257-inloop-digitale-hulp
DTSTART:20231114T090000Z
DTEND:20231114T110000Z
LOCATION:Bibliotheek Hardinxveld-Giessendam (Pietersweer 34\, 3371 PN Hardi
 nxveld-Giessendam)
SUMMARY:Inloop digitale hulp
URL:https://hcc.nl/rss-events/evenement/1257-inloop-digitale-hulp
END:VEVENT
BEGIN:VEVENT
UID:20260423T003741UTC-37055iC3Wm@https://hcc.nl/
DTSTAMP:20260423T003741Z
DESCRIPTION:Maandelijkse presentatie van de Seniorenacademie. Voor meer inf
 o zie de website en de nieuwsbrief. https://hcc.nl/rss-events/evenement/16
 41-maandelijkse-presentatie-van-de-seniorenacademie
DTSTART:20231114T090000Z
DTEND:20231114T110000Z
LOCATION:Activiteitencentrum Orka  (Broekakkerseweg 1\, 5641 PC Eindhoven)
SUMMARY:Maandelijkse presentatie van de Seniorenacademie
URL:https://hcc.nl/rss-events/evenement/1641-maandelijkse-presentatie-van-d
 e-seniorenacademie
END:VEVENT
BEGIN:VEVENT
UID:20260423T003741UTC-3706dkc6KK@https://hcc.nl/
DTSTAMP:20260423T003741Z
DESCRIPTION:Je bent elke dinsdag- en donderdagavond welkom in onze locatie 
 NewTechPark\nDe dinsdag is voor de makers\, 3D-ontwerpen\, scannen e print
 en\, vaak zijn dat ook liefhebbers van robotica\, drones en programmeren.A
 ls je dinsdagavond tussen 19.00 en 20.00 uur inlogt met Jitsi\, kun je ken
 nismaken met hcc!3D. Soms kun je desgevraagd ook online meedoen met een ac
 tiviteit.\nDat kan dan op:   https://wij.hcc.nl/3D (Alleen toegang als je 
 zichtbaar bent met voor- en achternaam. ) https://hcc.nl/rss-events/evenem
 ent/2105-bijeenkomst-hcc-3d
DTSTART:20231114T180000Z
DTEND:20231114T210000Z
LOCATION:NewTechPark (Vlijtseweg 148\, 7317 AK Apeldoorn)
SUMMARY:Bijeenkomst HCC!3d
URL:https://hcc.nl/rss-events/evenement/2105-bijeenkomst-hcc-3d
END:VEVENT
BEGIN:VEVENT
UID:20260423T003741UTC-3708X2z0dw@https://hcc.nl/
DTSTAMP:20260423T003741Z
DESCRIPTION:Je bent elke dinsdag- en donderdagavond welkom in onze locatie 
 NewTechPark\nDe dinsdag is voor de makers\, 3D-ontwerpen\, scannen e print
 en\, vaak zijn dat ook liefhebbers van robotica\, drones en programmeren.A
 ls je dinsdagavond tussen 19.00 en 20.00 uur inlogt met Jitsi\, kun je ken
 nismaken met hcc!3D. Soms kun je desgevraagd ook online meedoen met een ac
 tiviteit.\nDat kan dan op: https://wij.hcc.nl/3D (Alleen toegang als je zi
 chtbaar bent met voor- en achternaam. ) https://hcc.nl/rss-events/evenemen
 t/2828-bijeenkomst-hcc-3d
DTSTART:20231114T180000Z
DTEND:20231114T210000Z
LOCATION:NewTechPark (Vlijtseweg 148\, 7317 AK Apeldoorn)
SUMMARY:Bijeenkomst HCC!3d
URL:https://hcc.nl/rss-events/evenement/2828-bijeenkomst-hcc-3d
END:VEVENT
BEGIN:VEVENT
UID:20260423T003741UTC-3709900HaR@https://hcc.nl/
DTSTAMP:20260423T003741Z
DESCRIPTION:Je kan geen krant of tijdschrift openslaan zonder verhaaltjes o
 ver ChatGPT en AI (kunstmatige intelligentie) tegen te komen. Deze lezing 
 geeft een overzicht van de verschillende “bots” die momenteel gangbaar zij
 n. We bespreken ook de discussie die momenteel speelt over de mogelijke ge
 varen van AI.\nDisclaimer: Er is gebruik gemaakt van informatie die door d
 e bots is gegeven naar aanleiding van vragen. Andere bronnen zijn NY Times
 \, NRC\, PCActive en natuurlijk het Internet.\nWat zijn chatbots?Een chatb
 ot is een computerprogramma dat automatisch antwoord geeft op vragen van g
 ebruikers. Het is een soort virtuele assistent die je kunt vragen stellen 
 en die je helpt bij het vinden van informatie. Chatbots maken gebruik van 
 Kunstmatige Intelligentie (AI)\, zie verder.\n  https://hcc.nl/rss-events/
 evenement/3244-chatbots-chatgpt
DTSTART:20231114T090000Z
DTEND:20231114T110000Z
LOCATION:Activiteitencentrum Orka  (Broekakkerseweg 1\, 5641 PC Eindhoven)
SUMMARY:Chatbots (ChatGPT)
URL:https://hcc.nl/rss-events/evenement/3244-chatbots-chatgpt
END:VEVENT
BEGIN:VEVENT
UID:20260423T003741UTC-3710RVu3uf@https://hcc.nl/
DTSTAMP:20260423T003741Z
DESCRIPTION:Je kan geen krant of tijdschrift openslaan zonder verhaaltjes o
 ver ChatGPT en AI (kunstmatige intelligentie) tegen te komen. Deze lezing 
 geeft een overzicht van de verschillende “bots” die momenteel (stand: apri
 l 2023) gangbaar zijn. We bespreken ook de discussie die momenteel speelt 
 over de mogelijke gevaren van AI.\nDisclaimer: Er is gebruik gemaakt van i
 nformatie die door de bots is gegeven naar aanleiding van vragen. Andere b
 ronnen zijn NY Times\, NRC\, PCActive en natuurlijk het Internet.\nWat zij
 n chatbots?Een chatbot is een computerprogramma dat automatisch antwoord g
 eeft op vragen van gebruikers. Het is een soort virtuele assistent die je 
 kunt vragen stellen en die je helpt bij het vinden van informatie. Chatbot
 s maken gebruik van Kunstmatige Intelligentie (AI)\, zie verder. https://h
 cc.nl/rss-events/evenement/3254-chatbots-chatgpt
DTSTART:20231114T123000Z
DTEND:20231114T153000Z
LOCATION:Dorpshuis Badhoevedorp (Snelliuslaan 35\, 1171 CZ Badhoevedorp)
SUMMARY:Chatbots(ChatGPT)
URL:https://hcc.nl/rss-events/evenement/3254-chatbots-chatgpt
END:VEVENT
BEGIN:VEVENT
UID:20260423T003741UTC-3711tUvgOs@https://hcc.nl/
DTSTAMP:20260423T003741Z
DESCRIPTION: Op dinsdag 14 november 2023  om 14.30 uur houden we onze inloo
 pmiddag in het Wijkcentrum Angelslo te Emmen.\nU kunt Wijkcentrum Angelslo
  het best bereiken via de grote parkeerplaats aan de Peyserhof te Emmen.He
 t gebouw staat aan het einde van de parkeerplaats.Stel dus uw navigatie in
  op de Peyserhof en ga aan het einde rechtsaf. Aan het eind links is de in
 gang van het deel van het Wijkcentrum waar u moet zijn.\nKijk voor het pro
 gramma op deze site links door Bijeenkomsten-tabblad fysieke bijeenkomst t
 e klikken. https://hcc.nl/rss-events/evenement/3288-fysieke-bijeenkomst
DTSTART:20231114T133000Z
DTEND:20231114T153000Z
LOCATION: ()
SUMMARY:Fysieke bijeenkomst
URL:https://hcc.nl/rss-events/evenement/3288-fysieke-bijeenkomst
END:VEVENT
END:VCALENDAR
