BEGIN:VCALENDAR
VERSION:2.0
PRODID:-//https://hcc.nl///NONSGML kigkonsult.se iCalcreator 2.10.15//
METHOD:PUBLISH
BEGIN:VEVENT
UID:20260425T235742UTC-8390N0TRUX@https://hcc.nl/
DTSTAMP:20260425T235742Z
DESCRIPTION: https://hcc.nl/rss-events/evenement/1-frits-bas-ede
DTSTART:20221109T090000Z
DTEND:20221109T150000Z
LOCATION:Bit Ede (Galileïlaan 19\, 6716 BP Ede)
SUMMARY:Frits bas ede
URL:https://hcc.nl/rss-events/evenement/1-frits-bas-ede
END:VEVENT
BEGIN:VEVENT
UID:20260425T235742UTC-8392UtGMV6@https://hcc.nl/
DTSTAMP:20260425T235742Z
DESCRIPTION: https://hcc.nl/rss-events/evenement/3-hobbynet-overleg
DTSTART:20221109T090000Z
DTEND:20221109T150000Z
LOCATION:Bit Ede (Galileïlaan 19\, 6716 BP Ede)
SUMMARY:Hobbynet overleg
URL:https://hcc.nl/rss-events/evenement/3-hobbynet-overleg
END:VEVENT
END:VCALENDAR
