BEGIN:VCALENDAR
VERSION:2.0
PRODID:-//https://hcc.nl///NONSGML kigkonsult.se iCalcreator 2.10.15//
METHOD:PUBLISH
BEGIN:VEVENT
UID:20260426T014115UTC-9003EozruB@https://hcc.nl/
DTSTAMP:20260426T014115Z
DESCRIPTION:Op maandagavond 30 oktober organiseert HCC!apple vanaf 20:00u e
 en online presentatie en demo van Apple’s Notities app. Deze app was eerde
 r al een van de favoriete app van Ernst Roelofs. Nu afgelopen maand de mog
 elijkheden van Apple’s Notities app stevig zijn uitgebreid is dit het mome
 nt om alle mogelijkheden duidelijk te laten zien.\nAanmelding voor deze on
 line presentatie is (na inloggen) alleen mogelijk voor leden van HCC!apple
 . https://hcc.nl/rss-events/evenement/3143-presentatie-apples-notities-app
DTSTART:20231030T190000Z
DTEND:20231030T203000Z
LOCATION:Online ()
SUMMARY:Presentatie Apple’s Notities app
URL:https://hcc.nl/rss-events/evenement/3143-presentatie-apples-notities-ap
 p
END:VEVENT
END:VCALENDAR
