BEGIN:VCALENDAR
VERSION:2.0
PRODID:-//https://hcc.nl///NONSGML kigkonsult.se iCalcreator 2.10.15//
METHOD:PUBLISH
BEGIN:VEVENT
UID:20260425T035056UTC-7493IC3HC0@https://hcc.nl/
DTSTAMP:20260425T035056Z
DESCRIPTION:10 van de 10 plaatsen beschikbaar\nTraining Joomla 4 voor webbe
 heerders\, vereist voor migratie van de oude J3 sites naar J4... https://h
 cc.nl/rss-events/evenement/3015-training-joomla-4-voor-webbeheerders
DTSTART:20231028T080000Z
DTEND:20231028T140000Z
LOCATION: ()
SUMMARY:Training Joomla 4 voor webbeheerders
URL:https://hcc.nl/rss-events/evenement/3015-training-joomla-4-voor-webbehe
 erders
END:VEVENT
BEGIN:VEVENT
UID:20260425T035056UTC-7494vFIUXI@https://hcc.nl/
DTSTAMP:20260425T035056Z
DESCRIPTION:27 van de 35 plaatsen beschikbaar\n Deelnemen\nOp zaterdag 28 o
 ktober zijn we weer op de prachtige locatie van Riverside in Appeltern. We
  starten die middag met de Algemene Leden Vergadering. Daarna is er mogeli
 jkheid met de eigen drone te vliegen\, oefeningen te doen of met een van d
 e verenigingsdrones te proefvliegen (onder begeleiding).\nAls extra hebben
  wij toegevoegd een presentatie over software voor bewerking van drone-vid
 eo's. Erhard Braas van de HCC!compusers foto/video afdeling heeft voor ons
  uitgezocht welke programma's zijn voorkeur hebben\, wat ze kosten en wat 
 ze bieden. Na afloop is er ruimte voor discussie.\nDeze locatie kenmerkt z
 ich door een fraaie ligging met een groot grasveld\, strandje\, waterparti
 jen\, enz. Volop ruimte om te vliegen met je drone en mooie opnamen te mak
 en. Riverside heeft een volledig nieuw gebouw gekregen met een grote open 
 ruimte waar we de presentaties geven.\nHet programma is als volgt:\nVanaf 
 13.00 uur ontvangst\n13.30 uur start met de Algemene Ledenvergadering. Pra
 at o.a. mee over de actviteiten voor volgend jaar.\nca. 14.30 uur Presenta
 ie van Erhard Braas (foto/video) over de keuze van software voor bewerking
  van drone-video's.\nTijdens en na deze presentatie kunnen we naar buiten 
 om op de diverse plekken rondom de locatie veilig te vliegen.\nOok is er m
 ogelijkheid voor oefening voor het Clubbewijs met vliegoefening en instruc
 tie door Rob Bruning.\nBij minder goed weer hebben we binnen de mogelijkhe
 id voor bijpraten over de nieuwste ontwikkelingen\, zoals het CE-keurmerk 
 op drones\, de techniek voor het uitzenden van een ID met je drone en de m
 ogelijke ontwikkelingen voor meer vliegen binnen CTR's.\nKortom\, de moeit
 e waard om  te komen! Meld je wel even aan via de knop 'Deelnemen' bovenaa
 n deze pagina!\n https://hcc.nl/rss-events/evenement/3209-dronebijeenkomst
 -met-alv-in-appeltern
DTSTART:20231028T113000Z
DTEND:20231028T150000Z
LOCATION:Riverside (Hamsestraat 2\, 6629 KT Appeltern)
SUMMARY:Dronebijeenkomst met ALV in Appeltern
URL:https://hcc.nl/rss-events/evenement/3209-dronebijeenkomst-met-alv-in-ap
 peltern
END:VEVENT
END:VCALENDAR
