BEGIN:VCALENDAR
VERSION:2.0
PRODID:-//https://hcc.nl///NONSGML kigkonsult.se iCalcreator 2.10.15//
METHOD:PUBLISH
BEGIN:VEVENT
UID:20260425T103132UTC-4338zpugwr@https://hcc.nl/
DTSTAMP:20260425T103132Z
DESCRIPTION:Onze inloop is bedoeld voor iedereen die praktische hulp en ond
 ersteuning nodig heeft bij het gebruik van uw tablet en smartphone.Te denk
 en valt aan:- apps installeren- accounts aanmaken op uw apparaten (breng d
 an uw inloggegevens mee)- E-mail problemen.- Instellingen aanpassenZowel v
 oor Apple\, Android als Windows!\nOnze deskundigen zitten klaar om u met r
 aad en daad terzijde te staan.\nVanaf deze maand zijn er ook deskundigen a
 anwezig van het Informatiepunt Digitale Overheid. Waar kun je terecht als 
 je vragen hebt over hoe je websites van de overheid kunt gebruiken? Wat ku
 n je doen als je moeite hebt om bijvoorbeeld een DigiD aan te vragen of ee
 n boete online te betalen? https://hcc.nl/rss-events/evenement/3025-inloop
 -digitale-hulp
DTSTART:20231027T113000Z
DTEND:20231027T140000Z
LOCATION:FNV Regionaal Vakbondshuis (Pegasusweg 200\, 3067 KX Rotterdam)
SUMMARY:Inloop Digitale Hulp
URL:https://hcc.nl/rss-events/evenement/3025-inloop-digitale-hulp
END:VEVENT
END:VCALENDAR
