BEGIN:VCALENDAR
VERSION:2.0
PRODID:-//https://hcc.nl///NONSGML kigkonsult.se iCalcreator 2.10.15//
METHOD:PUBLISH
BEGIN:VEVENT
UID:20260425T103133UTC-9288288Epg@https://hcc.nl/
DTSTAMP:20260425T103133Z
DESCRIPTION:Presentatie over een computergerelateerd onderwerp op begrijpel
 ijk niveau. Kijk op seniorenacademie.hcc.nl voor het actuele onderwerp htt
 ps://hcc.nl/rss-events/evenement/1809-maandelijkse-presentatie-van-de-seni
 orenacademie
DTSTART:20231026T080000Z
DTEND:20231026T100026Z
LOCATION:Wijkhuis de Westwijzer  (Cortenbachstraat 70\, 5707 TJ Helmond)
SUMMARY:Maandelijkse presentatie van de Seniorenacademie
URL:https://hcc.nl/rss-events/evenement/1809-maandelijkse-presentatie-van-d
 e-seniorenacademie
END:VEVENT
BEGIN:VEVENT
UID:20260425T103133UTC-9289MvUtCI@https://hcc.nl/
DTSTAMP:20260425T103133Z
DESCRIPTION:Alle werkgroepen zijn aanwezig. De meesten verzorgen maandelijk
 s de presentatie. De Borduurgroep of misschien liever de werkgroep Creatie
 ve Werkvormen bezet elke week zelfs een aparte zaal. https://hcc.nl/rss-ev
 ents/evenement/2292-inloop-voor-alle-werkgroepen
DTSTART:20231026T170000Z
DTEND:20231026T203000Z
LOCATION:NewTechPark (Vlijtseweg 148\, 7317 AK Apeldoorn)
SUMMARY:Inloop voor alle werkgroepen
URL:https://hcc.nl/rss-events/evenement/2292-inloop-voor-alle-werkgroepen
END:VEVENT
BEGIN:VEVENT
UID:20260425T103133UTC-9290MV48sj@https://hcc.nl/
DTSTAMP:20260425T103133Z
DESCRIPTION:Onze inloop is bedoeld voor iedereen die praktische hulp en ond
 ersteuning nodig heeft bij het gebruik van uw tablet en smartphone.Te denk
 en valt aan:- apps installeren- accounts aanmaken op uw apparaten (breng d
 an uw inloggegevens mee)- E-mail problemen.- Instellingen aanpassen\nZowel
  voor Apple\, Android als Windows!Onze deskundigen zitten klaar om u met r
 aad en daad terzijde te staan. https://hcc.nl/rss-events/evenement/2909-in
 loop-digitale-hulp
DTSTART:20231026T073000Z
DTEND:20231026T093000Z
LOCATION:Wijkcentrum Rozenobel (Dukatenplein 2\, 4205 GE Gorinchem)
SUMMARY:Inloop Digitale Hulp
URL:https://hcc.nl/rss-events/evenement/2909-inloop-digitale-hulp
END:VEVENT
BEGIN:VEVENT
UID:20260425T103133UTC-92916LUufo@https://hcc.nl/
DTSTAMP:20260425T103133Z
DESCRIPTION:Met deze tiende versie van WatchOS is er enorm veel veranderd i
 n de bediening. Daarom organiseert HCC!apple op donderdagavond 26 oktober 
 vanaf 20:00 u. een online presentatie en demo waarin je leert nog meer te 
 doen met je Apple Watch. Onze Apple Watch specialist Gerard Vogel focust d
 aarbij vooral op de mogelijkheden en het gemak als slimme uitbreiding van 
 de iPhone\, tevens zal hij met behulp van vergelijkende overzichten (ook v
 an oudere modellen) adviezen geven voor upgrade of aankoop.\nAanmelding vo
 or deze online presentatie is (na inloggen) alleen mogelijk voor leden van
  HCC!apple. https://hcc.nl/rss-events/evenement/3145-presentatie-wat-je-al
 lemaal-kunt-doen-met-watchos-10
DTSTART:20231026T180000Z
DTEND:20231026T193000Z
LOCATION:Online ()
SUMMARY:Presentatie wat je allemaal kunt doen met WatchOS 10
URL:https://hcc.nl/rss-events/evenement/3145-presentatie-wat-je-allemaal-ku
 nt-doen-met-watchos-10
END:VEVENT
END:VCALENDAR
