BEGIN:VCALENDAR
VERSION:2.0
PRODID:-//https://hcc.nl///NONSGML kigkonsult.se iCalcreator 2.10.15//
METHOD:PUBLISH
BEGIN:VEVENT
UID:20260425T162345UTC-8921L7m4vr@https://hcc.nl/
DTSTAMP:20260425T162345Z
DESCRIPTION:Onze inloop is bedoeld voor iedereen die praktische hulp en ond
 ersteuning nodig heeft bij het gebruik van uw digitale apparatuur\, zoals 
 desktop\, laptop\, tablet en smartphone.Te denken valt aan:• opschonen van
  uw computer• updates downloaden• apps installeren• accounts aanmaken op u
 w apparaten(breng dan wel uw gegevens mee)• e-mail problemen.• instellinge
 n aanpassenOnze deskundigen zitten klaar om u met raad en daad terzijde te
  staan. https://hcc.nl/rss-events/evenement/976-inloop-digitale-hulp
DTSTART:20231025T173000Z
DTEND:20231025T193000Z
LOCATION:Wijkcentrum De Akkers (Lenteakker 5\, 3206 TB Spijkenisse)
SUMMARY:Inloop digitale hulp
URL:https://hcc.nl/rss-events/evenement/976-inloop-digitale-hulp
END:VEVENT
BEGIN:VEVENT
UID:20260425T162345UTC-8922L4llul@https://hcc.nl/
DTSTAMP:20260425T162345Z
DESCRIPTION:Heeft u een vraag over of een probleem met uw Android apparaat?
  Onze deskundigen zitten klaar om u te helpen.\n\nInstellingen aanpassen\n
 Downloaden van Apps\nUpdaten van Apps\nInstellen van e-mail\n\nEn nog veel
  meer! https://hcc.nl/rss-events/evenement/1917-inloop-android-hulp
DTSTART:20231025T080000Z
DTEND:20231025T100000Z
LOCATION:Bibliotheek Gorinchem (Groenmarkt 1\, 4201 EE Gorinchem)
SUMMARY:Inloop Android hulp
URL:https://hcc.nl/rss-events/evenement/1917-inloop-android-hulp
END:VEVENT
BEGIN:VEVENT
UID:20260425T162345UTC-8923tFErC9@https://hcc.nl/
DTSTAMP:20260425T162345Z
DESCRIPTION:Heeft u een vraag over of een probleem met uw Android apparaat?
  Onze deskundigen zitten klaar om u te helpen.\n\nInstellingen aanpassen\n
 Downloaden van Apps\nUpdaten van Apps\nInstellen van e-mail\n\nEn nog veel
  meer! https://hcc.nl/rss-events/evenement/2222-inloop-android-hulp
DTSTART:20231025T080000Z
DTEND:20231025T100000Z
LOCATION:Bibliotheek Gorinchem (Groenmarkt 1\, 4201 EE Gorinchem)
SUMMARY:Inloop Android hulp
URL:https://hcc.nl/rss-events/evenement/2222-inloop-android-hulp
END:VEVENT
BEGIN:VEVENT
UID:20260425T162345UTC-892423cIEN@https://hcc.nl/
DTSTAMP:20260425T162345Z
DESCRIPTION:VvI/VvR: Vergadering van Interessegroepen en Vergadering van Re
 gio’s:\nNadere informatie volgt\, maar dan kun je wel alvast de datum in j
 e agenda vrijhouden! https://hcc.nl/rss-events/evenement/2518-vvi-vvr
DTSTART:20231025T153000Z
DTEND:20231025T193000Z
LOCATION:Hunebedcity (Hoofdstraat 32\, 9531 AG Borger)
SUMMARY:VvI/VvR
URL:https://hcc.nl/rss-events/evenement/2518-vvi-vvr
END:VEVENT
BEGIN:VEVENT
UID:20260425T162345UTC-8925Hbsd0F@https://hcc.nl/
DTSTAMP:20260425T162345Z
DESCRIPTION:De Regio’s Groningen\, Zuid-Drenthe en Fryslân organiseren geza
 menlijk één keer per maand een video-koffie-uur.\nKijk op de voorpagina vo
 or meer informatie.\n \nHet HCC!Noord Digitale Koffie-uurtje houden we maa
 ndelijks.\nDe eerstvolgende bijeenkomst is op woensdag 25 oktober om 20.00
  uur.\nVoor deelname aan het Digitale koffie-uurtje wordt maandelijks een 
 nieuwe URL (website link) aangemaakt: \nhttps://wij.hcc.nl/hccnoordokt\nKl
 ik op de link voor deelname.\nGebruik bij voorkeur Coogle Crome of Edge Ch
 romium als browser.\nWe beginnen om 20:00 uur.\nVul na binnenkomst even je
  naam in.\nWe testen eerst je beeld en geluid.\nLog a.u.b. niet vóór 19:45
  uur in.\nDe organisatie HCC!Noord https://hcc.nl/rss-events/evenement/286
 8-koffie-uurtje-hcc-noord
DTSTART:20231025T180000Z
DTEND:20231025T193000Z
LOCATION:Online ()
SUMMARY:Koffie uurtje HCC!noord
URL:https://hcc.nl/rss-events/evenement/2868-koffie-uurtje-hcc-noord
END:VEVENT
BEGIN:VEVENT
UID:20260425T162345UTC-8926WFwRX3@https://hcc.nl/
DTSTAMP:20260425T162345Z
DESCRIPTION:Onze inloop is bedoeld voor iedereen die praktische hulp en ond
 ersteuning nodig heeft bij het gebruik van uw tablet en smartphone.Te denk
 en valt aan:- apps installeren- accounts aanmaken op uw apparaten (breng d
 an uw inloggegevens mee)- E-mail problemen.- Instellingen aanpassenZowel v
 oor Apple\, Android als Windows!Onze deskundigen zitten klaar om u met raa
 d en daad terzijde te staan. https://hcc.nl/rss-events/evenement/3037-inlo
 op-digitale-hulp
DTSTART:20231025T113000Z
DTEND:20231025T140000Z
LOCATION:Gemeenschapshuis De Kuip (Bloemendalsweg 1B\, 7429 AL Colmschate)
SUMMARY:Inloop: Digitale Hulp
URL:https://hcc.nl/rss-events/evenement/3037-inloop-digitale-hulp
END:VEVENT
BEGIN:VEVENT
UID:20260425T162345UTC-8927ajtFH5@https://hcc.nl/
DTSTAMP:20260425T162345Z
DESCRIPTION:Rondom het overlijden duiken een groot aantal mogelijke problem
 en op. Omdat in die moeilijke dagen toch al zoveel op de achterblijver(s) 
 afkomt\, probeert deze lezing wat hulp te geven\, vooral t.a.v. alle zaken
  die nu al geregeld kunnen worden. https://hcc.nl/rss-events/evenement/305
 1-digitale-erfenis
DTSTART:20231025T080000Z
DTEND:20231025T100000Z
LOCATION:Gemeenschapshuis De Kuip (Bloemendalsweg 1B\, 7429 AL Colmschate)
SUMMARY:Digitale Erfenis
URL:https://hcc.nl/rss-events/evenement/3051-digitale-erfenis
END:VEVENT
BEGIN:VEVENT
UID:20260425T162345UTC-8927bLZS7R@https://hcc.nl/
DTSTAMP:20260425T162345Z
DESCRIPTION:Rondom het overlijden duiken een groot aantal mogelijke problem
 en op.Omdat in die moeilijke dagen toch al zoveel op de achterblijver(s) a
 fkomt\, probeert deze lezing wat hulp te geven\, vooral t.a.v. alle zaken 
 die nu al geregeld kunnen worden.\nDeze webinar wordt gepresenteerd door: 
 Gerard Rademakers https://hcc.nl/rss-events/evenement/3135-webinar-digital
 e-erfenis
DTSTART:20231025T113000Z
DTEND:20231025T130000Z
LOCATION:Online ()
SUMMARY:Webinar: Digitale erfenis
URL:https://hcc.nl/rss-events/evenement/3135-webinar-digitale-erfenis
END:VEVENT
BEGIN:VEVENT
UID:20260425T162345UTC-8928zGGPvG@https://hcc.nl/
DTSTAMP:20260425T162345Z
DESCRIPTION:De SeniorenInloop van september 2022 leidde ertoe dat een klein
  groepje enthousiasten de meest uitgebreide versie van Linux Mint 21 in de
  Cinnamon uitvoering installeerde op een oude pc. En dat gaat wonderbaarli
 jk goed. De PC reageert probleemloos en alle benodigde creatieve (foto) en
  kantoor software staan er standaard op en werkt subliem. \nAls jij op zie
 t tegen (of niet mee kunt naar) Windows 11 en een mooie PC hebt die je eig
 enlijk niet wilt vervangen… kom dan eens kijken hoe makkelijk zo’n oudere 
 pc toch nog kan werken.Er is heel veel software\, voor allerlei internetge
 bruik en kantoortaken standaard in Linux Mint aanwezig en nog veel meer zo
 nder kosten binnen de Linux werkgroepen world wide. Kom eens kijken. Ook a
 ls je al wat ervaring hebt en je verder bekwamen wilt in Linux… Of er simp
 elweg een keer kennis mee wilt maken. Je bent (vrijblijvend!) welkom! http
 s://hcc.nl/rss-events/evenement/3217-linux-mint-werkgroep-hcc-amsterdam
DTSTART:20231025T180000Z
DTEND:20231025T203000Z
LOCATION:De Meent  (Orion 3\, 1188 AM Amstelveen)
SUMMARY:Linux Mint werkgroep HCC!amsterdam
URL:https://hcc.nl/rss-events/evenement/3217-linux-mint-werkgroep-hcc-amste
 rdam
END:VEVENT
BEGIN:VEVENT
UID:20260425T162345UTC-8930Tw3SVH@https://hcc.nl/
DTSTAMP:20260425T162345Z
DESCRIPTION:De deelnemers praten over heel diverse Internet of Things dinge
 n waarbij ze gerust ook verder praten over de 3D onderwerpen van 11 oktobe
 r jl.\nKom deze avond naar de Meent of kies voor online deelname. In dat g
 eval stuur je een mailtje met je HCC lidnummer en IoT online op de onderwe
 rpregel\, aan hccregio.amsterdam@gmail.comVoor fysieke deelname kom je gew
 oon naar de Meent. Geïnteresseerd maar geen HCC! lid? Ook dan ben je welko
 m!\nLet op: eerst even registreren in de Grote Zaal BG en dan naar de bije
 enkomst in zaal 1 op de 1e etage. https://hcc.nl/rss-events/evenement/3219
 -iot-werkgroep-hcc-amsterdam-ook-online
DTSTART:20231025T180000Z
DTEND:20231025T203000Z
LOCATION:De Meent  (Orion 3\, 1188 AM Amstelveen)
SUMMARY:IoT werkgroep HCC!amsterdam - ook online
URL:https://hcc.nl/rss-events/evenement/3219-iot-werkgroep-hcc-amsterdam-oo
 k-online
END:VEVENT
BEGIN:VEVENT
UID:20260425T162345UTC-89315txKNf@https://hcc.nl/
DTSTAMP:20260425T162345Z
DESCRIPTION:Bezoekers kunnen met elkaar van gedachten wisselen over compute
 r onderwerpen en aanverwante zaken waar zij mee bezig zijn. Natuurlijk ben
  je welkom met vragen over- of problemen met computers\, tablets en andere
  hardware en software. Vaak kunnen we problemen ter plaatse oplossen of je
  helpen je op weg.\nEr is een internet toegang aanwezig en je mag je PC/la
 ptop/tablet meenemen.Ook vind je er een rijkelijk gevulde leestafel met de
  nieuwste computer bladen. https://hcc.nl/rss-events/evenement/3221-bijeen
 komst-hcc-amsterdam
DTSTART:20231025T180000Z
DTEND:20231025T203000Z
LOCATION:De Meent  (Orion 3\, 1188 AM Amstelveen)
SUMMARY:Bijeenkomst HCC!amsterdam
URL:https://hcc.nl/rss-events/evenement/3221-bijeenkomst-hcc-amsterdam
END:VEVENT
END:VCALENDAR
