BEGIN:VCALENDAR
VERSION:2.0
PRODID:-//https://hcc.nl///NONSGML kigkonsult.se iCalcreator 2.10.15//
METHOD:PUBLISH
BEGIN:VEVENT
UID:20260425T162346UTC-3728ZtTtM2@https://hcc.nl/
DTSTAMP:20260425T162346Z
DESCRIPTION:Heeft u een vraag over of een probleem met uw Android apparaat?
  Onze deskundigen zitten klaar om u te helpen.\n\nInstellingen aanpassen\n
 Downloaden van Apps\nUpdaten van Apps\nInstellen van e-mail\n\nEn nog veel
  meer! https://hcc.nl/rss-events/evenement/1589-inloop-android-hulp
DTSTART:20231023T180000Z
DTEND:20231023T200000Z
LOCATION:Huis van de Wijk Oostgaarde (De Linie 5\, 2905 AX Capelle aan den 
 IJssel)
SUMMARY:Inloop Android hulp
URL:https://hcc.nl/rss-events/evenement/1589-inloop-android-hulp
END:VEVENT
END:VCALENDAR
