BEGIN:VCALENDAR
VERSION:2.0
PRODID:-//https://hcc.nl///NONSGML kigkonsult.se iCalcreator 2.10.15//
METHOD:PUBLISH
BEGIN:VEVENT
UID:20260426T014424UTC-1489fcChbl@https://hcc.nl/
DTSTAMP:20260426T014424Z
DESCRIPTION: https://hcc.nl/rss-events/evenement/846-clubdag-interessegroep
 -commodore
DTSTART:20231021T080000Z
DTEND:20231021T140000Z
LOCATION:Wijkcentrum  't Schuurtje (Zwanenkamp 1301\, 3607 NZ Maarssen)
SUMMARY:Clubdag Interessegroep Commodore
URL:https://hcc.nl/rss-events/evenement/846-clubdag-interessegroep-commodor
 e
END:VEVENT
BEGIN:VEVENT
UID:20260426T014424UTC-1490JC7fCn@https://hcc.nl/
DTSTAMP:20260426T014424Z
DESCRIPTION:De derde zaterdag van de maand houdt hcc!opensource haar bijeen
 komst in H.F. Witte\, de Bilt.Soms wordt er een lezing verzorgd\, in de an
 dere gevallen is het een inloop-bijeenkomst\, waar leden en belangstellend
 en onderling ervaringen en vragen uitwisselen.  https://hcc.nl/rss-events/
 evenement/1477-reguliere-opensource-bijeenkomst
DTSTART:20231021T100000Z
DTEND:20231021T143000Z
LOCATION:Cultureel en Vergadercentrum H.F. Witte (Henri Dunantplein 4\, 373
 1 CL De Bilt)
SUMMARY:Reguliere opensource bijeenkomst
URL:https://hcc.nl/rss-events/evenement/1477-reguliere-opensource-bijeenkom
 st
END:VEVENT
BEGIN:VEVENT
UID:20260426T014424UTC-1491H37vSw@https://hcc.nl/
DTSTAMP:20260426T014424Z
DESCRIPTION:Onze inloop is bedoeld voor iedereen die praktische hulp en ond
 ersteuning nodig heeft bij het gebruik van uw digitale apparatuur\, zoals 
 desktop\, laptop\, tablet en smartphone.Te denken valt aan:• opschonen van
  uw computer• updates downloaden• apps installeren• accounts aanmaken op u
 w apparaten (breng dan wel uw gegevens mee)• e-mail problemen.• instelling
 en aanpassenOnze deskundigen zitten klaar om u met raad en daad terzijde t
 e staan. https://hcc.nl/rss-events/evenement/1967-inloop-digitale-hulp
DTSTART:20231021T110000Z
DTEND:20231021T140000Z
LOCATION:Wijkcentrum 't Slot (Kastelenplein 167\, 5653 LX Eindhoven)
SUMMARY:Inloop digitale hulp
URL:https://hcc.nl/rss-events/evenement/1967-inloop-digitale-hulp
END:VEVENT
BEGIN:VEVENT
UID:20260426T014424UTC-14920IN7ov@https://hcc.nl/
DTSTAMP:20260426T014424Z
DESCRIPTION:We houden weer een algemene bijeenkomst bij H.F. Witte.\nVanaf 
 13:30 uur beginnen we met de gebruikelijke plenaire sessie.\nDeze bijeenko
 mst in De Bilt is niet online te volgen. Aanmelden is niet nodig\, zie de 
 voorpagina voor meer informatie. https://hcc.nl/rss-events/evenement/1973-
 algemene-bijeenkomst-hcc-programmeren
DTSTART:20231021T110000Z
DTEND:20231021T150000Z
LOCATION:Cultureel en Vergadercentrum H.F. Witte (Henri Dunantplein 4\, 373
 1 CL De Bilt)
SUMMARY:Algemene bijeenkomst HCC!programmeren
URL:https://hcc.nl/rss-events/evenement/1973-algemene-bijeenkomst-hcc-progr
 ammeren
END:VEVENT
BEGIN:VEVENT
UID:20260426T014424UTC-14932HEsjM@https://hcc.nl/
DTSTAMP:20260426T014424Z
DESCRIPTION: https://hcc.nl/rss-events/evenement/3097-inloopbijeenkomst
DTSTART:20231021T110000Z
DTEND:20231021T150000Z
LOCATION:Olympiagebouw (Olympiaweg 17\, 1816 MJ Alkmaar)
SUMMARY:Inloopbijeenkomst
URL:https://hcc.nl/rss-events/evenement/3097-inloopbijeenkomst
END:VEVENT
END:VCALENDAR
