BEGIN:VCALENDAR
VERSION:2.0
PRODID:-//https://hcc.nl///NONSGML kigkonsult.se iCalcreator 2.10.15//
METHOD:PUBLISH
BEGIN:VEVENT
UID:20260424T224324UTC-7138JlkVPI@https://hcc.nl/
DTSTAMP:20260424T224324Z
DESCRIPTION:Onze inloop is bedoeld voor iedereen die praktische hulp en ond
 ersteuning nodig heeft bij het gebruik van uw digitale apparatuur\, zoals 
 desktop\, laptop\, tablet en smartphone.Te denken valt aan:• opschonen van
  uw computer• updates downloaden• apps installeren• accounts aanmaken op u
 w apparaten(breng dan wel uw gegevens mee)• e-mail problemen.• instellinge
 n aanpassenOnze deskundigen zitten klaar om u met raad en daad terzijde te
  staan. https://hcc.nl/rss-events/evenement/688-inloop-digitale-hulp
DTSTART:20231017T113000Z
DTEND:20231017T140000Z
LOCATION:Activiteitencentrum Orka  (Broekakkerseweg 1\, 5641 PC Eindhoven)
SUMMARY:Inloop digitale hulp
URL:https://hcc.nl/rss-events/evenement/688-inloop-digitale-hulp
END:VEVENT
BEGIN:VEVENT
UID:20260424T224324UTC-7139a4L7DD@https://hcc.nl/
DTSTAMP:20260424T224324Z
DESCRIPTION:Onze inloop is bedoeld voor iedereen die praktische hulp en ond
 ersteuning nodig heeft bij het gebruik van uw digitale apparatuur\, zoals 
 desktop\, laptop\, tablet en smartphone.Te denken valt aan:• opschonen van
  uw computer• updates downloaden• apps installeren• accounts aanmaken op u
 w apparaten(breng dan wel uw gegevens mee)• e-mail problemen.• instellinge
 n aanpassenOnze deskundigen zitten klaar om u met raad en daad terzijde te
  staan. https://hcc.nl/rss-events/evenement/1249-inloop-digitale-hulp
DTSTART:20231017T080000Z
DTEND:20231017T100000Z
LOCATION:Bibliotheek Hardinxveld-Giessendam (Pietersweer 34\, 3371 PN Hardi
 nxveld-Giessendam)
SUMMARY:Inloop digitale hulp
URL:https://hcc.nl/rss-events/evenement/1249-inloop-digitale-hulp
END:VEVENT
BEGIN:VEVENT
UID:20260424T224324UTC-7141N7esDP@https://hcc.nl/
DTSTAMP:20260424T224324Z
DESCRIPTION: https://hcc.nl/rss-events/evenement/1627-inloop
DTSTART:20231017T120000Z
DTEND:20231017T140000Z
LOCATION:De Hoeksteen (kerk) (Velingspad 1\, 9502 RA Stadskanaal)
SUMMARY:Inloop
URL:https://hcc.nl/rss-events/evenement/1627-inloop
END:VEVENT
BEGIN:VEVENT
UID:20260424T224324UTC-7141eUGHR3@https://hcc.nl/
DTSTAMP:20260424T224324Z
DESCRIPTION:Je bent elke dinsdag- en donderdagavond welkom in onze locatie 
 NewTechPark\nDe dinsdag is voor de makers\, 3D-ontwerpen\, scannen e print
 en\, vaak zijn dat ook liefhebbers van robotica\, drones en programmeren.A
 ls je dinsdagavond tussen 19.00 en 20.00 uur inlogt met Jitsi\, kun je ken
 nismaken met hcc!3D. Soms kun je desgevraagd ook online meedoen met een ac
 tiviteit.\nDat kan dan op:   https://wij.hcc.nl/3D (Alleen toegang als je 
 zichtbaar bent met voor- en achternaam. ) https://hcc.nl/rss-events/evenem
 ent/2097-bijeenkomst-hcc-3d
DTSTART:20231017T170000Z
DTEND:20231017T200000Z
LOCATION:NewTechPark (Vlijtseweg 148\, 7317 AK Apeldoorn)
SUMMARY:Bijeenkomst HCC!3d
URL:https://hcc.nl/rss-events/evenement/2097-bijeenkomst-hcc-3d
END:VEVENT
BEGIN:VEVENT
UID:20260424T224324UTC-71421ldVdb@https://hcc.nl/
DTSTAMP:20260424T224324Z
DESCRIPTION:Dubbel https://hcc.nl/rss-events/evenement/2420-inloop-stadskan
 aal
DTSTART:20231017T120000Z
DTEND:20231017T140000Z
LOCATION:De Hoeksteen (kerk) (Velingspad 1\, 9502 RA Stadskanaal)
SUMMARY:Inloop Stadskanaal
URL:https://hcc.nl/rss-events/evenement/2420-inloop-stadskanaal
END:VEVENT
BEGIN:VEVENT
UID:20260424T224324UTC-71439FtMBt@https://hcc.nl/
DTSTAMP:20260424T224324Z
DESCRIPTION:Je bent elke dinsdag- en donderdagavond welkom in onze locatie 
 NewTechPark https://hcc.nl/rss-events/evenement/2820-bijeenkomst-hcc-3d
DTSTART:20231017T170000Z
DTEND:20231017T200000Z
LOCATION:NewTechPark (Vlijtseweg 148\, 7317 AK Apeldoorn)
SUMMARY:Bijeenkomst HCC!3d
URL:https://hcc.nl/rss-events/evenement/2820-bijeenkomst-hcc-3d
END:VEVENT
BEGIN:VEVENT
UID:20260424T224324UTC-7144iTCddu@https://hcc.nl/
DTSTAMP:20260424T224324Z
DESCRIPTION:We houden weer een online algemene bijeenkomst op dinsdagavond.
 \nAanmelden is niet nodig\, zie de voorpagina  voor meer informatie. https
 ://hcc.nl/rss-events/evenement/3187-algemene-sessie
DTSTART:20231017T173000Z
DTEND:20231017T193000Z
LOCATION:Online ()
SUMMARY:Algemene sessie
URL:https://hcc.nl/rss-events/evenement/3187-algemene-sessie
END:VEVENT
END:VCALENDAR
