BEGIN:VCALENDAR
VERSION:2.0
PRODID:-//https://hcc.nl///NONSGML kigkonsult.se iCalcreator 2.10.15//
METHOD:PUBLISH
BEGIN:VEVENT
UID:20260424T093502UTC-4749RuBrMr@https://hcc.nl/
DTSTAMP:20260424T093502Z
DESCRIPTION:Bijkletsen over allerlei ivm Flightsim (of meer) https://hcc.nl
 /rss-events/evenement/1453-zwetsavond
DTSTART:20231016T173000Z
DTEND:20231016T200000Z
LOCATION:Wijkcentrum 't Slot (Kastelenplein 167\, 5653 LX Eindhoven)
SUMMARY:Zwetsavond
URL:https://hcc.nl/rss-events/evenement/1453-zwetsavond
END:VEVENT
BEGIN:VEVENT
UID:20260424T093502UTC-4750c8O9fH@https://hcc.nl/
DTSTAMP:20260424T093502Z
DESCRIPTION:Met het gratis CMS Joomla is het maken van een website binnen b
 ereik gekomen voor ieder die zich er in wil verdiepen. Joomla heeft veel m
 ogelijkheden zowel voor de beginnende gebruiker\, de gevorderde hobbyist a
 ls voor de web professional.\nKijk hier voor meer informatie https://hcc.n
 l/rss-events/evenement/2708-gebruikersgroep-joomla-heerenveen
DTSTART:20231016T173000Z
DTEND:20231016T200000Z
LOCATION:MFA. Aengwirden (it Hiem 1-3\, 8458 CA Tjalleberd)
SUMMARY:Gebruikersgroep Joomla! Heerenveen
URL:https://hcc.nl/rss-events/evenement/2708-gebruikersgroep-joomla-heerenv
 een
END:VEVENT
BEGIN:VEVENT
UID:20260424T093502UTC-4751RXeKKv@https://hcc.nl/
DTSTAMP:20260424T093502Z
DESCRIPTION:Op 16 oktober hebben we in 'De Brug' in Amersfoort weer onze In
 loop https://hcc.nl/rss-events/evenement/2720-inloop
DTSTART:20231016T173000Z
DTEND:20231016T200000Z
LOCATION:Kerkelijk Centrum De Brug  (Schuilenburgerweg 2\, 3816 TB Amersfoo
 rt)
SUMMARY:Inloop
URL:https://hcc.nl/rss-events/evenement/2720-inloop
END:VEVENT
BEGIN:VEVENT
UID:20260424T093502UTC-4752U75vuc@https://hcc.nl/
DTSTAMP:20260424T093502Z
DESCRIPTION:Onze inloop is bedoeld voor iedereen die praktische hulp en ond
 ersteuning nodig heeft bij het gebruik van uw tablet en smartphone.Te denk
 en valt aan:- apps installeren- accounts aanmaken op uw apparaten (breng d
 an uw inloggegevens mee)- E-mail problemen.- Instellingen aanpassenZowel v
 oor Apple\, Android als Windows!Onze deskundigen zitten klaar om u met raa
 d en daad terzijde te staan. https://hcc.nl/rss-events/evenement/3027-inlo
 op-digitale-hulp
DTSTART:20231016T120000Z
DTEND:20231016T133000Z
LOCATION:Bibliotheek Leersum  (Hoflaan 31\, 3956 ED Leersum)
SUMMARY:Inloop Digitale Hulp
URL:https://hcc.nl/rss-events/evenement/3027-inloop-digitale-hulp
END:VEVENT
BEGIN:VEVENT
UID:20260424T093502UTC-4753J7EOcX@https://hcc.nl/
DTSTAMP:20260424T093502Z
DESCRIPTION:Rondom het overlijden duiken een groot aantal mogelijke problem
 en op. Omdat in die moeilijke dagen toch al zoveel op de achterblijver(s) 
 afkomt\, probeert deze lezing wat hulp te geven\, vooral t.a.v. alle zaken
  die nu al geregeld kunnen worden. https://hcc.nl/rss-events/evenement/306
 3-webinar-digitale-erfenis
DTSTART:20231016T120000Z
DTEND:20231016T130000Z
LOCATION:Online ()
SUMMARY:Webinar: Digitale Erfenis
URL:https://hcc.nl/rss-events/evenement/3063-webinar-digitale-erfenis
END:VEVENT
BEGIN:VEVENT
UID:20260424T093502UTC-4754F5erkg@https://hcc.nl/
DTSTAMP:20260424T093502Z
DESCRIPTION:Op maandagavond geeft HCC!apple in Amersfoort vanaf 19:30 uur e
 xtra tips over iOS 17 en iPadOS 17 en aandachtspunten bij de aanschaf van 
 een nieuwe iPhone. https://hcc.nl/rss-events/evenement/3083-presentatie-ap
 ple
DTSTART:20231016T173000Z
DTEND:20231016T200000Z
LOCATION:De Brug (Schuilenburgerweg 2\, 3816 TB Amersfoort)
SUMMARY:Presentatie Apple
URL:https://hcc.nl/rss-events/evenement/3083-presentatie-apple
END:VEVENT
BEGIN:VEVENT
UID:20260424T093502UTC-4755JOofkK@https://hcc.nl/
DTSTAMP:20260424T093502Z
DESCRIPTION:We houden weer een online bijeenkomst over Visual Basic.l Basic
 .\nAanmelden is niet nodig\, zie de voorpagina voor meer informatie. https
 ://hcc.nl/rss-events/evenement/3179-visual-basic-sessie
DTSTART:20231016T180000Z
DTEND:20231016T210000Z
LOCATION:Online ()
SUMMARY:Visual Basic sessie
URL:https://hcc.nl/rss-events/evenement/3179-visual-basic-sessie
END:VEVENT
END:VCALENDAR
