BEGIN:VCALENDAR
VERSION:2.0
PRODID:-//https://hcc.nl///NONSGML kigkonsult.se iCalcreator 2.10.15//
METHOD:PUBLISH
BEGIN:VEVENT
UID:20260424T113549UTC-8608hcWU0o@https://hcc.nl/
DTSTAMP:20260424T113549Z
DESCRIPTION:16-10-2023 5:05:00 https://hcc.nl/rss-events/evenement/3211-tes
 t-agenda-item
DTSTART:20231015T030000Z
DTEND:20231015T133000Z
LOCATION:RSEvents!Pro Location (Colorado\, USA)
SUMMARY:Test agenda item
URL:https://hcc.nl/rss-events/evenement/3211-test-agenda-item
END:VEVENT
END:VCALENDAR
