BEGIN:VCALENDAR
VERSION:2.0
PRODID:-//https://hcc.nl///NONSGML kigkonsult.se iCalcreator 2.10.15//
METHOD:PUBLISH
BEGIN:VEVENT
UID:20260424T093436UTC-5160fJcvtv@https://hcc.nl/
DTSTAMP:20260424T093436Z
DESCRIPTION:Elke maand staan er weer vrijwilligers klaar om u te helpen bij
  computervragen.\n\nSoftwarehulp (Linux\, mac en Windows)\nSmartphone\, An
 droid\nVideobewerking\nTestbank/hardware\n\nDemonstratie ChatGPTZaterdag 1
 4 oktober 14.00 - 15:30 uur Wijkcentrum De Wereld\, Laan van Berlijn 1\, H
 aarlem  In het voorjaar gaf Joop van Dommelen op een regiobijeenkomst van 
 HCC!kennemerland een interessante en drukbezochte presentatie over ChatGTP
 . Op 14 oktober komt hij weer naar Haarlem en ditmaal geeft hij meer een d
 emonstratie van ChatGTP en een paar alternatieven dan een presentatie over
  ChatGTP.   Want wat chatrobots zijn\, weet iedereen ondertussen wel\, maa
 r wat doe je ermee en wat kun je ermee? Zoals gezegd komt niet alleen Chat
 GPT aan bod\, maar vergelijken we deze ook met Microsoft Bing Chat en Bard
  AI van Google.\n50% korting op ChatGPT-special: € 6\,50 i.p.v. € 12\,99Na
  afloop van de demonstratie van Joop van Dommelen kunnen HCC-leden de spec
 ial Ga zelf aan de slag met ChatGPT met 50% korting kopen. Deze nieuwe spe
 cial kost in de winkel € 6\,50 i.p.v. € 12\,99.\nIn deze special kun je le
 zen hoe je efficiënter en sneller kunt werken met behulp van ChatGPT! Teks
 ten of code schrijven\, brainstormen\, researchen\, de slimme chatbot neem
 t je veel werk uit handen. In deze special krijg je 132 pagina's aan uitle
 g\, tips en workshops over ChatGPT én ontdek je andere mogelijkheden van A
 I\, zoals het maken van mooie kunstwerken. Maar ook worden de gevaren van 
 AI behandeld. Overigens: deze special is niet geschreven en samengesteld d
 oor robots. https://hcc.nl/rss-events/evenement/1777-regiobijeenkomst-kenn
 emerland
DTSTART:20231014T111500Z
DTEND:20231014T141500Z
LOCATION: Wijkcentrum De Wereld (Laan van Berlijn 1\, 2034 SB Haarlem)
SUMMARY:Regiobijeenkomst Kennemerland
URL:https://hcc.nl/rss-events/evenement/1777-regiobijeenkomst-kennemerland
END:VEVENT
BEGIN:VEVENT
UID:20260424T093436UTC-516278jXME@https://hcc.nl/
DTSTAMP:20260424T093436Z
DESCRIPTION:Programma\n10.30 - Zaal open\, de eerste koffie wordt gezet\n11
 .00 - Werkgroepen verslag (A.vd.H. & W.O.)\n11.15 - Over Forth: Vocabulari
 es (Albert Nijhof)\n12.00 - MANX op de Pico (Willem Jager)\n12.30 - noFort
 h t\, de Pico-kit (Willem Ouwerkerk)\n12.45 - Pauze\n13.00 - Workshop IIa 
 noForth t (Willem Ouwerkerk)\n14.30 - O.K.U.\n15.00 - Afronding\nLees hier
  meer over de Pico-kit. https://hcc.nl/rss-events/evenement/2840-hcc-forth
 -bijeenkomst
DTSTART:20231014T090000Z
DTEND:20231014T130000Z
LOCATION: ()
SUMMARY:HCC!Forth bijeenkomst
URL:https://hcc.nl/rss-events/evenement/2840-hcc-forth-bijeenkomst
END:VEVENT
BEGIN:VEVENT
UID:20260424T093436UTC-51644oBDoO@https://hcc.nl/
DTSTAMP:20260424T093436Z
DESCRIPTION:In de ochtend vragenuurtje Jan.\nIn de middag gaan we verder me
 t Proxmox. https://hcc.nl/rss-events/evenement/2887-vragenuurtje-jan-van-e
 s
DTSTART:20231014T080000Z
DTEND:20231014T140000Z
LOCATION:Wijkcentrum De Wieken (Wipmolenweg 54\, 1333 GS Almere)
SUMMARY:Vragenuurtje Jan van Es
URL:https://hcc.nl/rss-events/evenement/2887-vragenuurtje-jan-van-es
END:VEVENT
BEGIN:VEVENT
UID:20260424T093436UTC-5164kRlMaT@https://hcc.nl/
DTSTAMP:20260424T093436Z
DESCRIPTION:---------------------------------------------------------------
 ------------------------------\nKopie van ingezonden agenda item\n--------
 --------------------------------------------------------------------------
 -----------\nZaterdag 14 oktober 2023\, vanaf 11.00 uur tot 16.00 uur\, or
 ganiseren we de achtste clubdag van 2023 in De Meern.\nIedereen is welkom\
 , ook als je eens wilt kijken wat we allemaal op onze clubdag doen. https:
 //hcc.nl/rss-events/evenement/3189-clubdag-hcc-trainsim
DTSTART:20231014T090000Z
DTEND:20231014T140000Z
LOCATION:Cultureel Centrum De Schalm (Oranjelaan 10\, 3454 BT De Meern)
SUMMARY:Clubdag HCC!trainsim
URL:https://hcc.nl/rss-events/evenement/3189-clubdag-hcc-trainsim
END:VEVENT
END:VCALENDAR
