BEGIN:VCALENDAR
VERSION:2.0
PRODID:-//https://hcc.nl///NONSGML kigkonsult.se iCalcreator 2.10.15//
METHOD:PUBLISH
BEGIN:VEVENT
UID:20260424T195959UTC-8804LsKgnW@https://hcc.nl/
DTSTAMP:20260424T195959Z
DESCRIPTION:Fred Baltus adviseur van HCC!genealogie is aanwezig en helpt u 
 bij uw stamboomonderzoek. https://hcc.nl/rss-events/evenement/2736-regiobi
 jeenkomst
DTSTART:20231013T173000Z
DTEND:20231013T200000Z
LOCATION:Gemeenschapshuis 't Trefpunt (Pancratiusstraat 23\, 6151 CD Munste
 rgeleen)
SUMMARY:Regiobijeenkomst
URL:https://hcc.nl/rss-events/evenement/2736-regiobijeenkomst
END:VEVENT
BEGIN:VEVENT
UID:20260424T195959UTC-8805oEvACb@https://hcc.nl/
DTSTAMP:20260424T195959Z
DESCRIPTION:Hier lost men uw probleem op!\nBv: Als een dia al een video bev
 at en u wilt weten waar deze is opgeslagen\, gaat u naar Bestand > info. O
 nder Mediacompatibiliteit optimaliseren wordt informatie weergegeven over 
 alle mediabestanden in de presentatie. Hier kunt u zien of ze als koppelin
 g zijn toegevoegd of zijn ingesloten.\nDe filmpjes in deze presentatie zij
 n ingesloten. Dat betekent dus dat er iets anders aan de hand is op de bet
 r. PC. Wat is voor mij ook een vraag. Suggestie mijnerzijds: MS Mediaplaye
 r instellen als standaard app voor het afspelen van video’s. Daarna nog ee
 ns proberen. https://hcc.nl/rss-events/evenement/3205-inloop
DTSTART:20231013T113000Z
DTEND:20231013T160000Z
LOCATION:Kruiskerk (Mesdagplein 4\, 3443 CD Woerden)
SUMMARY:Inloop
URL:https://hcc.nl/rss-events/evenement/3205-inloop
END:VEVENT
END:VCALENDAR
