BEGIN:VCALENDAR
VERSION:2.0
PRODID:-//https://hcc.nl///NONSGML kigkonsult.se iCalcreator 2.10.15//
METHOD:PUBLISH
BEGIN:VEVENT
UID:20260425T103142UTC-1185uvPtH2@https://hcc.nl/
DTSTAMP:20260425T103142Z
DESCRIPTION:Onze inloop is bedoeld voor iedereen die praktische hulp en ond
 ersteuning nodig heeft bij het gebruik van uw digitale apparatuur\, zoals 
 desktop\, laptop\, tablet en smartphone.Te denken valt aan:• opschonen van
  uw computer• updates downloaden• apps installeren• accounts aanmaken op u
 w apparaten(breng dan wel uw gegevens mee)• e-mail problemen.• instellinge
 n aanpassenOnze deskundigen zitten klaar om u met raad en daad terzijde te
  staan. https://hcc.nl/rss-events/evenement/972-inloop-digitale-hulp
DTSTART:20231011T173000Z
DTEND:20231011T193000Z
LOCATION:Wijkcentrum De Akkers (Lenteakker 5\, 3206 TB Spijkenisse)
SUMMARY:Inloop digitale hulp
URL:https://hcc.nl/rss-events/evenement/972-inloop-digitale-hulp
END:VEVENT
BEGIN:VEVENT
UID:20260425T103142UTC-120174X44E@https://hcc.nl/
DTSTAMP:20260425T103142Z
DESCRIPTION:Heeft u een vraag over of een probleem met uw Android apparaat?
  Onze deskundigen zitten klaar om u te helpen.\n\nInstellingen aanpassen\n
 Downloaden van Apps\nUpdaten van Apps\nInstellen van e-mail\n\nEn nog veel
  meer! https://hcc.nl/rss-events/evenement/1913-inloop-android-hulp
DTSTART:20231011T080000Z
DTEND:20231011T100000Z
LOCATION:Bibliotheek Gorinchem (Groenmarkt 1\, 4201 EE Gorinchem)
SUMMARY:Inloop Android hulp
URL:https://hcc.nl/rss-events/evenement/1913-inloop-android-hulp
END:VEVENT
BEGIN:VEVENT
UID:20260425T103142UTC-1202bEl8pv@https://hcc.nl/
DTSTAMP:20260425T103142Z
DESCRIPTION:Heeft u een vraag over of een probleem met uw Android apparaat?
  Onze deskundigen zitten klaar om u te helpen.\n\nInstellingen aanpassen\n
 Downloaden van Apps\nUpdaten van Apps\nInstellen van e-mail\n\nEn nog veel
  meer! https://hcc.nl/rss-events/evenement/2218-inloop-android-hulp
DTSTART:20231011T080000Z
DTEND:20231011T100000Z
LOCATION:Bibliotheek Gorinchem (Groenmarkt 1\, 4201 EE Gorinchem)
SUMMARY:Inloop Android hulp
URL:https://hcc.nl/rss-events/evenement/2218-inloop-android-hulp
END:VEVENT
BEGIN:VEVENT
UID:20260425T103142UTC-1203Hpgoj3@https://hcc.nl/
DTSTAMP:20260425T103142Z
DESCRIPTION:Deze eerste bijeenkomst van de maand oktober van onze werkgroep
  is vooral gewijd aan 3D zaken\, maar IoT onderwerpen worden oogluikend to
 egestaan. We doen het\, zoals inmiddels gebruikelijk\, in hybride vorm\, d
 us zowel fysiek in de Meent zonder allerlei hinderlijke beperkingen\, en o
 nline via 'wij.hcc.nl'. Vaste deelnemers kennen het webadres\, nieuwkomers
  vragen\, o.v.v hun HCC lidnummer op de Onderwerpregel\, toegang via hccre
 gio.amsterdam@gmail.com. Niet HCC leden zijn - voor een kennismaking - via
  hetzelfde adres ook welkom. https://hcc.nl/rss-events/evenement/3021-bije
 enkomst-3d-iot-amsterdam
DTSTART:20231011T180000Z
DTEND:20231011T201500Z
LOCATION:De Meent  (Orion 3\, 1188 AM Amstelveen)
SUMMARY:Bijeenkomst 3D-IoT Amsterdam
URL:https://hcc.nl/rss-events/evenement/3021-bijeenkomst-3d-iot-amsterdam
END:VEVENT
BEGIN:VEVENT
UID:20260425T103142UTC-1204bGELOj@https://hcc.nl/
DTSTAMP:20260425T103142Z
DESCRIPTION:Rondom het overlijden duiken een groot aantal mogelijke problem
 en op. Omdat in die moeilijke dagen toch al zoveel op de achterblijver(s) 
 afkomt\, probeert deze lezing wat hulp te geven\, vooral t.a.v. alle zaken
  die nu al geregeld kunnen worden. https://hcc.nl/rss-events/evenement/305
 3-digitale-erfenis
DTSTART:20231011T120000Z
DTEND:20231011T140000Z
LOCATION:Buurthuis Het Voorhof  (Herman Gorterhof 165\, 2624 XL Delft)
SUMMARY:Digitale Erfenis
URL:https://hcc.nl/rss-events/evenement/3053-digitale-erfenis
END:VEVENT
BEGIN:VEVENT
UID:20260425T103142UTC-1205D2pMd7@https://hcc.nl/
DTSTAMP:20260425T103142Z
DESCRIPTION:Op deze avond kun je hulp krijgen bij stamboomperikelen en arch
 iefvraagtekens en vooral hoe je alles netjes digitaal vastlegt.\nDeze bije
 enkomst is het gevolg van Els’ presentatie Genealogie op 21-03-2023. Deze 
 presentatie is in de downloadmap op onze website te vinden. Je moet daarvo
 or wel met je HCC account inloggen.\nEls Schnijder is zeer bedreven en sta
 at je met plezier met raad en daad bij\, tijdens dit Genealogisch Spreekuu
 rtje. Kom\, Zie en Doe mee en laat je verslaven door deze hobby. https://h
 cc.nl/rss-events/evenement/3125-genealogie-werkgroep
DTSTART:20231011T180000Z
DTEND:20231011T203000Z
LOCATION:De Meent  (Orion 3\, 1188 AM Amstelveen)
SUMMARY:Genealogie werkgroep
URL:https://hcc.nl/rss-events/evenement/3125-genealogie-werkgroep
END:VEVENT
BEGIN:VEVENT
UID:20260425T103142UTC-12064BNbao@https://hcc.nl/
DTSTAMP:20260425T103142Z
DESCRIPTION:De enthousiaste 3D printing werkgroep leden hebben het over hun
  activiteiten\, specifieke problemen en de vaak slimme of handige oplossin
 gen naast ideeën en wensen. IoT onderwerpen (van 27-09 jl.) worden niet ge
 schuwd.\nAls 3D printing jou interesseert\, kom dan naar de Meent\, of je 
 schuift online aan. Stuur in dat geval een mailtje met je HCC lidnummer en
  3D Online op de onderwerpregel\, aan hccregio.amsterdam@gmail.com. Dit la
 atste geldt voor elke geïnteresseerde\, HCC lid of niet: iedereen is welko
 m!\nLet op: eerst even registreren in de Grote Zaal BG en dan naar de bije
 enkomst in zaal 1 op de 1e etage. https://hcc.nl/rss-events/evenement/3127
 -3d-printing-werkgroep-ook-online
DTSTART:20231011T180000Z
DTEND:20231011T203000Z
LOCATION:De Meent  (Orion 3\, 1188 AM Amstelveen)
SUMMARY:3D printing werkgroep - ook online
URL:https://hcc.nl/rss-events/evenement/3127-3d-printing-werkgroep-ook-onli
 ne
END:VEVENT
BEGIN:VEVENT
UID:20260425T103142UTC-1207DoriNb@https://hcc.nl/
DTSTAMP:20260425T103142Z
DESCRIPTION:Elke maand worden ‘foto’s volgens opdracht’ bekeken en besproke
 n. In augustus was het een fotoshoot bezoek aan de 'Molen Wijk bij Duurste
 de'.\nDeze maand is het onderwerp een 'Vrije keuze'En voor volgende maand\
 , november 2023\, is het onderwerp nog niet bepaald. Bekijk hier de oogst 
 van eerdere bijeenkomsten.\nFotoclubleden weten waar zij moeten inloggen\,
  geïnteresseerden vragen dit via fotoclubasd@gmail.com\, kennismaken kan 2
 4/7 op hun website https://hcc.nl/rss-events/evenement/3129-digitale-fotoc
 lub
DTSTART:20231011T180000Z
DTEND:20231011T203000Z
LOCATION:Online ()
SUMMARY:Digitale Fotoclub
URL:https://hcc.nl/rss-events/evenement/3129-digitale-fotoclub
END:VEVENT
BEGIN:VEVENT
UID:20260425T103142UTC-1208M5sDCs@https://hcc.nl/
DTSTAMP:20260425T103142Z
DESCRIPTION:Rondom het overlijden duiken een groot aantal mogelijke problem
 en op.Omdat in die moeilijke dagen toch al zoveel op de achterblijver(s) a
 fkomt\, probeert deze lezing wat hulp te geven\, vooral t.a.v. alle zaken 
 die nu al geregeld kunnen worden.\nDeze webinar wordt gepresenteerd door: 
 Gerard Rademakers https://hcc.nl/rss-events/evenement/3137-webinar-digital
 e-erfenis
DTSTART:20231011T113000Z
DTEND:20231011T130000Z
LOCATION:Online ()
SUMMARY:Webinar: Digitale erfenis
URL:https://hcc.nl/rss-events/evenement/3137-webinar-digitale-erfenis
END:VEVENT
BEGIN:VEVENT
UID:20260425T103142UTC-1208zbK5v3@https://hcc.nl/
DTSTAMP:20260425T103142Z
DESCRIPTION:Grote zaal BG\,  20:00 - 22:30 uur:\nBeste lezer\,\nDe groep is
  ontstaan na de SeniorenInloop van oktober 2022.  Een klein groepje enthou
 siasten installeerde de meest uitgebreide versie van Linux Mint op een oud
 e pc en dat ging zo wonderbaarlijk goed dat ze de smaak te pakken kregen.D
 ie PC functioneert probleemloos en alle gewenste creatieve software en sof
 tware voor kantoor- en internet taken staat er standaard op of is kosteloo
 s beschikbaar\, nét als het Linux Mint besturingssysteem: kost niks – lekk
 er toch?!\nAls jij op ziet tegen Windows 11 of een nog altijd mooie PC heb
 t die niet mee kan naar 11 en die je liever niet wilt vervangen… Kom dan e
 ens bij deze hobbyisten kijken. Ook als je al ervaring hebt en verder wilt
  met Linux. Je bent (vrijblijvend!) welkom\, het kost je niks! https://hcc
 .nl/rss-events/evenement/3171-linux-mint-werkgroep-de-meent-amsterdam
DTSTART:20231011T180000Z
DTEND:20231011T203000Z
LOCATION:De Meent  (Orion 3\, 1188 AM Amstelveen)
SUMMARY:Linux Mint werkgroep - De Meent Amsterdam
URL:https://hcc.nl/rss-events/evenement/3171-linux-mint-werkgroep-de-meent-
 amsterdam
END:VEVENT
END:VCALENDAR
